Workbook
Name Jugendaemter_liste: 'Tab. 1 Zuordnungstabelle'!$B$6:$B$191

Sheet Bericht
A1: Rückfragen/Anregungen zum Excel-Tool an: thomas.fink@lwl.org | D1: Basisjugendamt | F1: 2 Vergleichsjugendämter / Jugendamtstyp / Landesjugendamtsbezirk / NRW
J3: =IF(D7=1,"Jugendamtstyp 1",IF(D7=2,"Jugendamtstyp 2",IF(D7=3,"Jugendamtstyp 3",IF(D7=4,"Jugendamtstyp 4",IF(D7=5,"Jugendamtstyp 5",IF(D7=6,"Jugendamtstyp 6",IF(D7=7,"Jugendamtstyp 7",IF(D7=8,"Jugendamtstyp 8",IF(D7=9,"Jugendamtstyp 9",IF(D7=10,"Jugendamtstyp 10","")))))))))) -> #N/A | L3: =IF(D10=1,"Rheinland",IF(D10=2,"Westfalen-Lippe","")) -> #N/A | N3: Nordrhein-Westfalen
A5: 1. Zuordnung der Jugendämter in Nordrhein-Westfalen nach Jugendamtstyp, Belastungsklasse, Strukturtyp und Landesjugendamtsbezirk
B7: Jugendamtstyp | D7: =VLOOKUP($D$3,'Tab. 1 Zuordnungstabelle'!$B$6:$G$191,2,FALSE) -> #N/A | F7: =VLOOKUP($F$3,'Tab. 1 Zuordnungstabelle'!$B$6:$G$191,2,FALSE) -> #N/A | H7: =VLOOKUP($H$3,'Tab. 1 Zuordnungstabelle'!$B$6:$G$191,2,FALSE) -> #N/A | J7: - | L7: - | N7: -
B8: Belastungsklasse | D8: =VLOOKUP($D$3,'Tab. 1 Zuordnungstabelle'!$B$6:$G$191,3,FALSE) -> #N/A | F8: =VLOOKUP($F$3,'Tab. 1 Zuordnungstabelle'!$B$6:$G$191,3,FALSE) -> #N/A | H8: =VLOOKUP($H$3,'Tab. 1 Zuordnungstabelle'!$B$6:$G$191,3,FALSE) -> #N/A | J8: - | L8: - | N8: -
B9: Strukturtyp | D9: =VLOOKUP($D$3,'Tab. 1 Zuordnungstabelle'!$B$6:$G$191,4,FALSE) -> #N/A | F9: =VLOOKUP($F$3,'Tab. 1 Zuordnungstabelle'!$B$6:$G$191,4,FALSE) -> #N/A | H9: =VLOOKUP($H$3,'Tab. 1 Zuordnungstabelle'!$B$6:$G$191,4,FALSE) -> #N/A | J9: - | L9: - | N9: -
B10: LVR (1) oder LWL (2) | D10: =VLOOKUP($D$3,'Tab. 1 Zuordnungstabelle'!$B$6:$G$191,5,FALSE) -> #N/A | F10: =VLOOKUP($F$3,'Tab. 1 Zuordnungstabelle'!$B$6:$G$191,5,FALSE) -> #N/A | H10: =VLOOKUP($H$3,'Tab. 1 Zuordnungstabelle'!$B$6:$G$191,5,FALSE) -> #N/A | J10: - | L10: - | N10: -
A13: 2. Bevölkerung in den Jugendamtsbezirken in Nordrhein-Westfalen 2024
B15: insg. (unter 21 Jahren) | D15: =VLOOKUP(D$3,'Tab 2. Bevölkerung'!$E$197:$Z$395,2,FALSE) -> #N/A | F15: =VLOOKUP(F$3,'Tab 2. Bevölkerung'!$E$197:$Z$395,2,FALSE) -> #N/A | H15: =VLOOKUP(H$3,'Tab 2. Bevölkerung'!$E$197:$Z$395,2,FALSE) -> #N/A | J15: =VLOOKUP(J$3,'Tab 2. Bevölkerung'!$E$197:$Z$395,2,FALSE) -> #N/A | L15: =VLOOKUP(L$3,'Tab 2. Bevölkerung'!$E$197:$Z$395,2,FALSE) -> #N/A | N15: =VLOOKUP(N$3,'Tab 2. Bevölkerung'!$E$197:$Z$395,2,FALSE) -> 3602911
A17: Alter von … bis unter … Jahren | B17: 0-3 | D17: =VLOOKUP(D$3,'Tab 2. Bevölkerung'!$E$197:$Z$395,3,FALSE) -> #N/A | F17: =VLOOKUP(F$3,'Tab 2. Bevölkerung'!$E$197:$Z$395,3,FALSE) -> #N/A | H17: =VLOOKUP(H$3,'Tab 2. Bevölkerung'!$E$197:$Z$395,3,FALSE) -> #N/A | J17: =VLOOKUP(J$3,'Tab 2. Bevölkerung'!$E$197:$Z$395,3,FALSE) -> #N/A | L17: =VLOOKUP(L$3,'Tab 2. Bevölkerung'!$E$197:$Z$395,3,FALSE) -> #N/A | N17: =VLOOKUP(N$3,'Tab 2. Bevölkerung'!$E$197:$Z$395,3,FALSE) -> 474056
B18: 3-6 | D18: =VLOOKUP(D$3,'Tab 2. Bevölkerung'!$E$197:$Z$395,4,FALSE) -> #N/A | F18: =VLOOKUP(F$3,'Tab 2. Bevölkerung'!$E$197:$Z$395,4,FALSE) -> #N/A | H18: =VLOOKUP(H$3,'Tab 2. Bevölkerung'!$E$197:$Z$395,4,FALSE) -> #N/A | J18: =VLOOKUP(J$3,'Tab 2. Bevölkerung'!$E$197:$Z$395,4,FALSE) -> #N/A | L18: =VLOOKUP(L$3,'Tab 2. Bevölkerung'!$E$197:$Z$395,4,FALSE) -> #N/A | N18: =VLOOKUP(N$3,'Tab 2. Bevölkerung'!$E$197:$Z$395,4,FALSE) -> 520177
B19: 6-10 | D19: =VLOOKUP(D$3,'Tab 2. Bevölkerung'!$E$197:$Z$395,5,FALSE) -> #N/A | F19: =VLOOKUP(F$3,'Tab 2. Bevölkerung'!$E$197:$Z$395,5,FALSE) -> #N/A | H19: =VLOOKUP(H$3,'Tab 2. Bevölkerung'!$E$197:$Z$395,5,FALSE) -> #N/A | J19: =VLOOKUP(J$3,'Tab 2. Bevölkerung'!$E$197:$Z$395,5,FALSE) -> #N/A | L19: =VLOOKUP(L$3,'Tab 2. Bevölkerung'!$E$197:$Z$395,5,FALSE) -> #N/A | N19: =VLOOKUP(N$3,'Tab 2. Bevölkerung'!$E$197:$Z$395,5,FALSE) -> 709988
B20: 10-14 | D20: =VLOOKUP(D$3,'Tab 2. Bevölkerung'!$E$197:$Z$395,6,FALSE) -> #N/A | F20: =VLOOKUP(F$3,'Tab 2. Bevölkerung'!$E$197:$Z$395,6,FALSE) -> #N/A | H20: =VLOOKUP(H$3,'Tab 2. Bevölkerung'!$E$197:$Z$395,6,FALSE) -> #N/A | J20: =VLOOKUP(J$3,'Tab 2. Bevölkerung'!$E$197:$Z$395,6,FALSE) -> #N/A | L20: =VLOOKUP(L$3,'Tab 2. Bevölkerung'!$E$197:$Z$395,6,FALSE) -> #N/A | N20: =VLOOKUP(N$3,'Tab 2. Bevölkerung'!$E$197:$Z$395,6,FALSE) -> 672396
B21: 14-18 | D21: =VLOOKUP(D$3,'Tab 2. Bevölkerung'!$E$197:$Z$395,7,FALSE) -> #N/A | F21: =VLOOKUP(F$3,'Tab 2. Bevölkerung'!$E$197:$Z$395,7,FALSE) -> #N/A | H21: =VLOOKUP(H$3,'Tab 2. Bevölkerung'!$E$197:$Z$395,7,FALSE) -> #N/A | J21: =VLOOKUP(J$3,'Tab 2. Bevölkerung'!$E$197:$Z$395,7,FALSE) -> #N/A | L21: =VLOOKUP(L$3,'Tab 2. Bevölkerung'!$E$197:$Z$395,7,FALSE) -> #N/A | N21: =VLOOKUP(N$3,'Tab 2. Bevölkerung'!$E$197:$Z$395,7,FALSE) -> 686889
B22: 18 bis unter 21 | D22: =VLOOKUP(D$3,'Tab 2. Bevölkerung'!$E$197:$Z$395,8,FALSE) -> #N/A | F22: =VLOOKUP(F$3,'Tab 2. Bevölkerung'!$E$197:$Z$395,8,FALSE) -> #N/A | H22: =VLOOKUP(H$3,'Tab 2. Bevölkerung'!$E$197:$Z$395,8,FALSE) -> #N/A | J22: =VLOOKUP(J$3,'Tab 2. Bevölkerung'!$E$197:$Z$395,8,FALSE) -> #N/A | L22: =VLOOKUP(L$3,'Tab 2. Bevölkerung'!$E$197:$Z$395,8,FALSE) -> #N/A | N22: =VLOOKUP(N$3,'Tab 2. Bevölkerung'!$E$197:$Z$395,8,FALSE) -> 539405
A24: weitere Altersgruppen | B24: 0 bis unter 6 Jahre | D24: =VLOOKUP(D$3,'Tab 2. Bevölkerung'!$E$197:$Z$395,9,FALSE) -> #N/A | F24: =VLOOKUP(F$3,'Tab 2. Bevölkerung'!$E$197:$Z$395,9,FALSE) -> #N/A | H24: =VLOOKUP(H$3,'Tab 2. Bevölkerung'!$E$197:$Z$395,9,FALSE) -> #N/A | J24: =VLOOKUP(J$3,'Tab 2. Bevölkerung'!$E$197:$Z$395,9,FALSE) -> #N/A | L24: =VLOOKUP(L$3,'Tab 2. Bevölkerung'!$E$197:$Z$395,9,FALSE) -> #N/A | N24: =VLOOKUP(N$3,'Tab 2. Bevölkerung'!$E$197:$Z$395,9,FALSE) -> 994233
B25: unter 10 Jahre | D25: =VLOOKUP(D$3,'Tab 2. Bevölkerung'!$E$197:$Z$395,10,FALSE) -> #N/A | F25: =VLOOKUP(F$3,'Tab 2. Bevölkerung'!$E$197:$Z$395,10,FALSE) -> #N/A | H25: =VLOOKUP(H$3,'Tab 2. Bevölkerung'!$E$197:$Z$395,10,FALSE) -> #N/A | J25: =VLOOKUP(J$3,'Tab 2. Bevölkerung'!$E$197:$Z$395,10,FALSE) -> #N/A | L25: =VLOOKUP(L$3,'Tab 2. Bevölkerung'!$E$197:$Z$395,10,FALSE) -> #N/A | N25: =VLOOKUP(N$3,'Tab 2. Bevölkerung'!$E$197:$Z$395,10,FALSE) -> 1704221
B26: 10 bis unter 21 Jahre | D26: =VLOOKUP(D$3,'Tab 2. Bevölkerung'!$E$197:$Z$395,11,FALSE) -> #N/A | F26: =VLOOKUP(F$3,'Tab 2. Bevölkerung'!$E$197:$Z$395,11,FALSE) -> #N/A | H26: =VLOOKUP(H$3,'Tab 2. Bevölkerung'!$E$197:$Z$395,11,FALSE) -> #N/A | J26: =VLOOKUP(J$3,'Tab 2. Bevölkerung'!$E$197:$Z$395,11,FALSE) -> #N/A | L26: =VLOOKUP(L$3,'Tab 2. Bevölkerung'!$E$197:$Z$395,11,FALSE) -> #N/A | N26: =VLOOKUP(N$3,'Tab 2. Bevölkerung'!$E$197:$Z$395,11,FALSE) -> 1898690
A28: Geschlecht | B28: männlich (unter 21 J.) | D28: =VLOOKUP(D$3,'Tab 2. Bevölkerung'!$E$197:$Z$395,12,FALSE) -> #N/A | F28: =VLOOKUP(F$3,'Tab 2. Bevölkerung'!$E$197:$Z$395,12,FALSE) -> #N/A | H28: =VLOOKUP(H$3,'Tab 2. Bevölkerung'!$E$197:$Z$395,12,FALSE) -> #N/A | J28: =VLOOKUP(J$3,'Tab 2. Bevölkerung'!$E$197:$Z$395,12,FALSE) -> #N/A | L28: =VLOOKUP(L$3,'Tab 2. Bevölkerung'!$E$197:$Z$395,12,FALSE) -> #N/A | N28: =VLOOKUP(N$3,'Tab 2. Bevölkerung'!$E$197:$Z$395,12,FALSE) -> 1858393
B29: weiblich (unter 21 J.) | D29: =VLOOKUP(D$3,'Tab 2. Bevölkerung'!$E$197:$Z$395,13,FALSE) -> #N/A | F29: =VLOOKUP(F$3,'Tab 2. Bevölkerung'!$E$197:$Z$395,13,FALSE) -> #N/A | H29: =VLOOKUP(H$3,'Tab 2. Bevölkerung'!$E$197:$Z$395,13,FALSE) -> #N/A | J29: =VLOOKUP(J$3,'Tab 2. Bevölkerung'!$E$197:$Z$395,13,FALSE) -> #N/A | L29: =VLOOKUP(L$3,'Tab 2. Bevölkerung'!$E$197:$Z$395,13,FALSE) -> #N/A | N29: =VLOOKUP(N$3,'Tab 2. Bevölkerung'!$E$197:$Z$395,13,FALSE) -> 1744518
B30: männlich (6 bis u. 10) | D30: =VLOOKUP(D$3,'Tab 2. Bevölkerung'!$E$197:$Z$395,14,FALSE) -> #N/A | F30: =VLOOKUP(F$3,'Tab 2. Bevölkerung'!$E$197:$Z$395,14,FALSE) -> #N/A | H30: =VLOOKUP(H$3,'Tab 2. Bevölkerung'!$E$197:$Z$395,14,FALSE) -> #N/A | J30: =VLOOKUP(J$3,'Tab 2. Bevölkerung'!$E$197:$Z$395,14,FALSE) -> #N/A | L30: =VLOOKUP(L$3,'Tab 2. Bevölkerung'!$E$197:$Z$395,14,FALSE) -> #N/A | N30: =VLOOKUP(N$3,'Tab 2. Bevölkerung'!$E$197:$Z$395,14,FALSE) -> 364346
B31: weiblich (6 bis u. 10) | D31: =VLOOKUP(D$3,'Tab 2. Bevölkerung'!$E$197:$Z$395,15,FALSE) -> #N/A | F31: =VLOOKUP(F$3,'Tab 2. Bevölkerung'!$E$197:$Z$395,15,FALSE) -> #N/A | H31: =VLOOKUP(H$3,'Tab 2. Bevölkerung'!$E$197:$Z$395,15,FALSE) -> #N/A | J31: =VLOOKUP(J$3,'Tab 2. Bevölkerung'!$E$197:$Z$395,15,FALSE) -> #N/A | L31: =VLOOKUP(L$3,'Tab 2. Bevölkerung'!$E$197:$Z$395,15,FALSE) -> #N/A | N31: =VLOOKUP(N$3,'Tab 2. Bevölkerung'!$E$197:$Z$395,15,FALSE) -> 345642
B32: männlich (10 bis u. 21 J.) | D32: =VLOOKUP(D$3,'Tab 2. Bevölkerung'!$E$197:$Z$395,16,FALSE) -> #N/A | F32: =VLOOKUP(F$3,'Tab 2. Bevölkerung'!$E$197:$Z$395,16,FALSE) -> #N/A | H32: =VLOOKUP(H$3,'Tab 2. Bevölkerung'!$E$197:$Z$395,16,FALSE) -> #N/A | J32: =VLOOKUP(J$3,'Tab 2. Bevölkerung'!$E$197:$Z$395,16,FALSE) -> #N/A | L32: =VLOOKUP(L$3,'Tab 2. Bevölkerung'!$E$197:$Z$395,16,FALSE) -> #N/A | N32: =VLOOKUP(N$3,'Tab 2. Bevölkerung'!$E$197:$Z$395,16,FALSE) -> 983329
B33: weiblich (10 bis u. 21 J.) | D33: =VLOOKUP(D$3,'Tab 2. Bevölkerung'!$E$197:$Z$395,17,FALSE) -> #N/A | F33: =VLOOKUP(F$3,'Tab 2. Bevölkerung'!$E$197:$Z$395,17,FALSE) -> #N/A | H33: =VLOOKUP(H$3,'Tab 2. Bevölkerung'!$E$197:$Z$395,17,FALSE) -> #N/A | J33: =VLOOKUP(J$3,'Tab 2. Bevölkerung'!$E$197:$Z$395,17,FALSE) -> #N/A | L33: =VLOOKUP(L$3,'Tab 2. Bevölkerung'!$E$197:$Z$395,17,FALSE) -> #N/A | N33: =VLOOKUP(N$3,'Tab 2. Bevölkerung'!$E$197:$Z$395,17,FALSE) -> 915361
B34: männlich (6 bis u. 21 J.) | D34: =VLOOKUP(D$3,'Tab 2. Bevölkerung'!$E$197:$Z$395,18,FALSE) -> #N/A | F34: =VLOOKUP(F$3,'Tab 2. Bevölkerung'!$E$197:$Z$395,18,FALSE) -> #N/A | H34: =VLOOKUP(H$3,'Tab 2. Bevölkerung'!$E$197:$Z$395,18,FALSE) -> #N/A | J34: =VLOOKUP(J$3,'Tab 2. Bevölkerung'!$E$197:$Z$395,18,FALSE) -> #N/A | L34: =VLOOKUP(L$3,'Tab 2. Bevölkerung'!$E$197:$Z$395,18,FALSE) -> #N/A | N34: =VLOOKUP(N$3,'Tab 2. Bevölkerung'!$E$197:$Z$395,18,FALSE) -> 1347675
B35: weiblich (6 bis u. 21 J.) | D35: =VLOOKUP(D$3,'Tab 2. Bevölkerung'!$E$197:$Z$395,19,FALSE) -> #N/A | F35: =VLOOKUP(F$3,'Tab 2. Bevölkerung'!$E$197:$Z$395,19,FALSE) -> #N/A | H35: =VLOOKUP(H$3,'Tab 2. Bevölkerung'!$E$197:$Z$395,19,FALSE) -> #N/A | J35: =VLOOKUP(J$3,'Tab 2. Bevölkerung'!$E$197:$Z$395,19,FALSE) -> #N/A | L35: =VLOOKUP(L$3,'Tab 2. Bevölkerung'!$E$197:$Z$395,19,FALSE) -> #N/A | N35: =VLOOKUP(N$3,'Tab 2. Bevölkerung'!$E$197:$Z$395,19,FALSE) -> 1261003
A37: Insgesamt | B37: 6 bis unter 21 Jahre | D37: =VLOOKUP(D$3,'Tab 2. Bevölkerung'!$E$197:$Z$395,20,FALSE) -> #N/A | F37: =VLOOKUP(F$3,'Tab 2. Bevölkerung'!$E$197:$Z$395,20,FALSE) -> #N/A | H37: =VLOOKUP(H$3,'Tab 2. Bevölkerung'!$E$197:$Z$395,20,FALSE) -> #N/A | J37: =VLOOKUP(J$3,'Tab 2. Bevölkerung'!$E$197:$Z$395,20,FALSE) -> #N/A | L37: =VLOOKUP(L$3,'Tab 2. Bevölkerung'!$E$197:$Z$395,20,FALSE) -> #N/A | N37: =VLOOKUP(N$3,'Tab 2. Bevölkerung'!$E$197:$Z$395,20,FALSE) -> 2608678
B38: 6 bis unter 10 Jahre | D38: =VLOOKUP(D$3,'Tab 2. Bevölkerung'!$E$197:$Z$395,21,FALSE) -> #N/A | F38: =VLOOKUP(F$3,'Tab 2. Bevölkerung'!$E$197:$Z$395,21,FALSE) -> #N/A | H38: =VLOOKUP(H$3,'Tab 2. Bevölkerung'!$E$197:$Z$395,21,FALSE) -> #N/A | J38: =VLOOKUP(J$3,'Tab 2. Bevölkerung'!$E$197:$Z$395,21,FALSE) -> #N/A | L38: =VLOOKUP(L$3,'Tab 2. Bevölkerung'!$E$197:$Z$395,21,FALSE) -> #N/A | N38: =VLOOKUP(N$3,'Tab 2. Bevölkerung'!$E$197:$Z$395,21,FALSE) -> 709988
B39: 10 bis unter 21 Jahre | D39: =VLOOKUP(D$3,'Tab 2. Bevölkerung'!$E$197:$Z$395,22,FALSE) -> #N/A | F39: =VLOOKUP(F$3,'Tab 2. Bevölkerung'!$E$197:$Z$395,22,FALSE) -> #N/A | H39: =VLOOKUP(H$3,'Tab 2. Bevölkerung'!$E$197:$Z$395,22,FALSE) -> #N/A | J39: =VLOOKUP(J$3,'Tab 2. Bevölkerung'!$E$197:$Z$395,22,FALSE) -> #N/A | L39: =VLOOKUP(L$3,'Tab 2. Bevölkerung'!$E$197:$Z$395,22,FALSE) -> #N/A | N39: =VLOOKUP(N$3,'Tab 2. Bevölkerung'!$E$197:$Z$395,22,FALSE) -> 1898690
A42: 3a. Leistungen der Hilfen zur Erziehung (einschl. Erziehungsberatung) und der Erziehungsberatung in den Jugendamtsbezirken der Kreise und kreisfreien Städte Nordrhein-Westfalens; 2024 (Aufsummierung der zum 31.12. eines Jahres andauernden und der innerhalb eines Jahres beendeten Hilfen; Angaben absolut, Inanspruchnahme pro 10.000 der unter 21-jährigen Bevölkerung)
B45: HzE insg. (einschl. EB) Zahl der Hilfen | D45: =VLOOKUP(D$3,'Tab. 3a Leistungen_mEB'!$B$5:$H$61,2,FALSE) -> #N/A | F45: =VLOOKUP(F$3,'Tab. 3a Leistungen_mEB'!$B$5:$H$61,2,FALSE) -> #N/A | H45: =VLOOKUP(H$3,'Tab. 3a Leistungen_mEB'!$B$5:$H$61,2,FALSE) -> #N/A | J45: =VLOOKUP(J$3,'Tab. 3a Leistungen_mEB'!$B$5:$H$61,2,FALSE) -> #N/A | L45: =VLOOKUP(L$3,'Tab. 3a Leistungen_mEB'!$B$5:$H$61,2,FALSE) -> #N/A | N45: =VLOOKUP(N$3,'Tab. 3a Leistungen_mEB'!$B$5:$H$61,2,FALSE) -> 267238
A46: Anzahl absolut | B46: HzE insg. (einschl. EB) Zahl der Kinder | D46: =VLOOKUP(D$3,'Tab. 3a Leistungen_mEB'!$B$5:$H$61,3,FALSE) -> #N/A | F46: =VLOOKUP(F$3,'Tab. 3a Leistungen_mEB'!$B$5:$H$61,3,FALSE) -> #N/A | H46: =VLOOKUP(H$3,'Tab. 3a Leistungen_mEB'!$B$5:$H$61,3,FALSE) -> #N/A | J46: =VLOOKUP(J$3,'Tab. 3a Leistungen_mEB'!$B$5:$H$61,3,FALSE) -> #N/A | L46: =VLOOKUP(L$3,'Tab. 3a Leistungen_mEB'!$B$5:$H$61,3,FALSE) -> #N/A | N46: =VLOOKUP(N$3,'Tab. 3a Leistungen_mEB'!$B$5:$H$61,3,FALSE) -> 311492
B47: Erziehungsberatung | D47: =VLOOKUP(D$3,'Tab. 3a Leistungen_mEB'!$B$5:$H$61,4,FALSE) -> #N/A | F47: =VLOOKUP(F$3,'Tab. 3a Leistungen_mEB'!$B$5:$H$61,4,FALSE) -> #N/A | H47: =VLOOKUP(H$3,'Tab. 3a Leistungen_mEB'!$B$5:$H$61,4,FALSE) -> #N/A | J47: =VLOOKUP(J$3,'Tab. 3a Leistungen_mEB'!$B$5:$H$61,4,FALSE) -> #N/A | L47: =VLOOKUP(L$3,'Tab. 3a Leistungen_mEB'!$B$5:$H$61,4,FALSE) -> #N/A | N47: =VLOOKUP(N$3,'Tab. 3a Leistungen_mEB'!$B$5:$H$61,4,FALSE) -> 127691
A49: Inanspruchnahme pro 10.000 der unter 21-Jährigen | B49: HzE insg. (einschl. EB) Zahl der Hilfen | D49: =VLOOKUP(D$3,'Tab. 3a Leistungen_mEB'!$B$5:$H$61,5,FALSE) -> #N/A | F49: =VLOOKUP(F$3,'Tab. 3a Leistungen_mEB'!$B$5:$H$61,5,FALSE) -> #N/A | H49: =VLOOKUP(H$3,'Tab. 3a Leistungen_mEB'!$B$5:$H$61,5,FALSE) -> #N/A | J49: =VLOOKUP(J$3,'Tab. 3a Leistungen_mEB'!$B$5:$H$61,5,FALSE) -> #N/A | L49: =VLOOKUP(L$3,'Tab. 3a Leistungen_mEB'!$B$5:$H$61,5,FALSE) -> #N/A | N49: =VLOOKUP(N$3,'Tab. 3a Leistungen_mEB'!$B$5:$H$61,5,FALSE) -> 741.72801
B50: HzE insg. (einschl. EB) Zahl der Kinder | D50: =VLOOKUP(D$3,'Tab. 3a Leistungen_mEB'!$B$5:$H$61,6,FALSE) -> #N/A | F50: =VLOOKUP(F$3,'Tab. 3a Leistungen_mEB'!$B$5:$H$61,6,FALSE) -> #N/A | H50: =VLOOKUP(H$3,'Tab. 3a Leistungen_mEB'!$B$5:$H$61,6,FALSE) -> #N/A | J50: =VLOOKUP(J$3,'Tab. 3a Leistungen_mEB'!$B$5:$H$61,6,FALSE) -> #N/A | L50: =VLOOKUP(L$3,'Tab. 3a Leistungen_mEB'!$B$5:$H$61,6,FALSE) -> #N/A | N50: =VLOOKUP(N$3,'Tab. 3a Leistungen_mEB'!$B$5:$H$61,6,FALSE) -> 864.55647
B51: Erziehungsberatung | D51: =VLOOKUP(D$3,'Tab. 3a Leistungen_mEB'!$B$5:$H$61,7,FALSE) -> #N/A | F51: =VLOOKUP(F$3,'Tab. 3a Leistungen_mEB'!$B$5:$H$61,7,FALSE) -> #N/A | H51: =VLOOKUP(H$3,'Tab. 3a Leistungen_mEB'!$B$5:$H$61,7,FALSE) -> #N/A | J51: =VLOOKUP(J$3,'Tab. 3a Leistungen_mEB'!$B$5:$H$61,7,FALSE) -> #N/A | L51: =VLOOKUP(L$3,'Tab. 3a Leistungen_mEB'!$B$5:$H$61,7,FALSE) -> #N/A | N51: =VLOOKUP(N$3,'Tab. 3a Leistungen_mEB'!$B$5:$H$61,7,FALSE) -> 354.41064
A54: 3b. Leistungen der Hilfen zur Erziehung (ohne Erziehungsberatung) nach Leistungssegmenten in den Jugendamtsbezirken Nordrhein-Westfalens; 2024 (Aufsummierung der zum 31.12. eines Jahres andauernden und der innerhalb eines Jahres beendeten Hilfen; Angaben absolut)
A57: HzE insg (ohne Beratung) Zahl der Hilfen | D57: =VLOOKUP(D$3,'Tab. 3b Leistungen absolut_oEB'!$E$4:$L$202,2,FALSE) -> #N/A | F57: =VLOOKUP(F$3,'Tab. 3b Leistungen absolut_oEB'!$E$4:$L$202,2,FALSE) -> #N/A | H57: =VLOOKUP(H$3,'Tab. 3b Leistungen absolut_oEB'!$E$4:$L$202,2,FALSE) -> #N/A | J57: =VLOOKUP(J$3,'Tab. 3b Leistungen absolut_oEB'!$E$4:$L$202,2,FALSE) -> #N/A | L57: =VLOOKUP(L$3,'Tab. 3b Leistungen absolut_oEB'!$E$4:$L$202,2,FALSE) -> #N/A | N57: =VLOOKUP(N$3,'Tab. 3b Leistungen absolut_oEB'!$E$4:$L$202,2,FALSE) -> 139547
A58: HzE insg (ohne Beratung) Zahl der Kinder | D58: =VLOOKUP(D$3,'Tab. 3b Leistungen absolut_oEB'!$E$4:$L$202,3,FALSE) -> #N/A | F58: =VLOOKUP(F$3,'Tab. 3b Leistungen absolut_oEB'!$E$4:$L$202,3,FALSE) -> #N/A | H58: =VLOOKUP(H$3,'Tab. 3b Leistungen absolut_oEB'!$E$4:$L$202,3,FALSE) -> #N/A | J58: =VLOOKUP(J$3,'Tab. 3b Leistungen absolut_oEB'!$E$4:$L$202,3,FALSE) -> #N/A | L58: =VLOOKUP(L$3,'Tab. 3b Leistungen absolut_oEB'!$E$4:$L$202,3,FALSE) -> #N/A | N58: =VLOOKUP(N$3,'Tab. 3b Leistungen absolut_oEB'!$E$4:$L$202,3,FALSE) -> 183801
A59: Ambulante Hilfen gem. §§ 27,2, 29-35 SGB VIII (Zahl der Hilfen) | D59: =VLOOKUP(D$3,'Tab. 3b Leistungen absolut_oEB'!$E$4:$L$202,4,FALSE) -> #N/A | F59: =VLOOKUP(F$3,'Tab. 3b Leistungen absolut_oEB'!$E$4:$L$202,4,FALSE) -> #N/A | H59: =VLOOKUP(H$3,'Tab. 3b Leistungen absolut_oEB'!$E$4:$L$202,4,FALSE) -> #N/A | J59: =VLOOKUP(J$3,'Tab. 3b Leistungen absolut_oEB'!$E$4:$L$202,4,FALSE) -> #N/A | L59: =VLOOKUP(L$3,'Tab. 3b Leistungen absolut_oEB'!$E$4:$L$202,4,FALSE) -> #N/A | N59: =VLOOKUP(N$3,'Tab. 3b Leistungen absolut_oEB'!$E$4:$L$202,4,FALSE) -> 77671
A60: Ambulante Hilfen gem. §§ 27,2, 29-35 SGB VIII (Zahl der Kinder) | D60: =VLOOKUP(D$3,'Tab. 3b Leistungen absolut_oEB'!$E$4:$L$202,5,FALSE) -> #N/A | F60: =VLOOKUP(F$3,'Tab. 3b Leistungen absolut_oEB'!$E$4:$L$202,5,FALSE) -> #N/A | H60: =VLOOKUP(H$3,'Tab. 3b Leistungen absolut_oEB'!$E$4:$L$202,5,FALSE) -> #N/A | J60: =VLOOKUP(J$3,'Tab. 3b Leistungen absolut_oEB'!$E$4:$L$202,5,FALSE) -> #N/A | L60: =VLOOKUP(L$3,'Tab. 3b Leistungen absolut_oEB'!$E$4:$L$202,5,FALSE) -> #N/A | N60: =VLOOKUP(N$3,'Tab. 3b Leistungen absolut_oEB'!$E$4:$L$202,5,FALSE) -> 121925
A61: Stationäre Hilfen gem. §§ 27,2, 33, 34 | D61: =VLOOKUP(D$3,'Tab. 3b Leistungen absolut_oEB'!$E$4:$L$202,6,FALSE) -> #N/A | F61: =VLOOKUP(F$3,'Tab. 3b Leistungen absolut_oEB'!$E$4:$L$202,6,FALSE) -> #N/A | H61: =VLOOKUP(H$3,'Tab. 3b Leistungen absolut_oEB'!$E$4:$L$202,6,FALSE) -> #N/A | J61: =VLOOKUP(J$3,'Tab. 3b Leistungen absolut_oEB'!$E$4:$L$202,6,FALSE) -> #N/A | L61: =VLOOKUP(L$3,'Tab. 3b Leistungen absolut_oEB'!$E$4:$L$202,6,FALSE) -> #N/A | N61: =VLOOKUP(N$3,'Tab. 3b Leistungen absolut_oEB'!$E$4:$L$202,6,FALSE) -> 61876
A62: Vollzeitpflege | D62: =VLOOKUP(D$3,'Tab. 3b Leistungen absolut_oEB'!$E$4:$L$202,7,FALSE) -> #N/A | F62: =VLOOKUP(F$3,'Tab. 3b Leistungen absolut_oEB'!$E$4:$L$202,7,FALSE) -> #N/A | H62: =VLOOKUP(H$3,'Tab. 3b Leistungen absolut_oEB'!$E$4:$L$202,7,FALSE) -> #N/A | J62: =VLOOKUP(J$3,'Tab. 3b Leistungen absolut_oEB'!$E$4:$L$202,7,FALSE) -> #N/A | L62: =VLOOKUP(L$3,'Tab. 3b Leistungen absolut_oEB'!$E$4:$L$202,7,FALSE) -> #N/A | N62: =VLOOKUP(N$3,'Tab. 3b Leistungen absolut_oEB'!$E$4:$L$202,7,FALSE) -> 26508
A63: Heimerziehung und stationäre Hilfen gem. § 27,2 | D63: =VLOOKUP(D$3,'Tab. 3b Leistungen absolut_oEB'!$E$4:$L$202,8,FALSE) -> #N/A | F63: =VLOOKUP(F$3,'Tab. 3b Leistungen absolut_oEB'!$E$4:$L$202,8,FALSE) -> #N/A | H63: =VLOOKUP(H$3,'Tab. 3b Leistungen absolut_oEB'!$E$4:$L$202,8,FALSE) -> #N/A | J63: =VLOOKUP(J$3,'Tab. 3b Leistungen absolut_oEB'!$E$4:$L$202,8,FALSE) -> #N/A | L63: =VLOOKUP(L$3,'Tab. 3b Leistungen absolut_oEB'!$E$4:$L$202,8,FALSE) -> #N/A | N63: =VLOOKUP(N$3,'Tab. 3b Leistungen absolut_oEB'!$E$4:$L$202,8,FALSE) -> 35368
A66: 4. Inanspruchnahme von Leistungen der Hilfen zur Erziehung (ohne Erziehungsberatung) nach Leistungssegmenten in den Jugendamtsbezirken Nordrhein-Westfalens; 2024 (Aufsummierung der am 31.12. eines Jahres andauernden und der innerhalb eines Jahres beendeten Hilfen; Angaben pro 10.000 der unter 21-jährigen Bevölkerung)
A69: HzE insg (ohne Beratung) Zahl der Hilfen | D69: =VLOOKUP(D$3,'Tab. 4 Inanspruchnahme'!$E$4:$L$202,2,FALSE) -> #N/A | F69: =VLOOKUP(F$3,'Tab. 4 Inanspruchnahme'!$E$4:$L$202,2,FALSE) -> #N/A | H69: =VLOOKUP(H$3,'Tab. 4 Inanspruchnahme'!$E$4:$L$202,2,FALSE) -> #N/A | J69: =VLOOKUP(J$3,'Tab. 4 Inanspruchnahme'!$E$4:$L$202,2,FALSE) -> #N/A | L69: =VLOOKUP(L$3,'Tab. 4 Inanspruchnahme'!$E$4:$L$202,2,FALSE) -> #N/A | N69: =VLOOKUP(N$3,'Tab. 4 Inanspruchnahme'!$E$4:$L$202,2,FALSE) -> 387.31737
A70: HzE insg (ohne Beratung) Zahl der Kinder | D70: =VLOOKUP(D$3,'Tab. 4 Inanspruchnahme'!$E$4:$L$202,3,FALSE) -> #N/A | F70: =VLOOKUP(F$3,'Tab. 4 Inanspruchnahme'!$E$4:$L$202,3,FALSE) -> #N/A | H70: =VLOOKUP(H$3,'Tab. 4 Inanspruchnahme'!$E$4:$L$202,3,FALSE) -> #N/A | J70: =VLOOKUP(J$3,'Tab. 4 Inanspruchnahme'!$E$4:$L$202,3,FALSE) -> #N/A | L70: =VLOOKUP(L$3,'Tab. 4 Inanspruchnahme'!$E$4:$L$202,3,FALSE) -> #N/A | N70: =VLOOKUP(N$3,'Tab. 4 Inanspruchnahme'!$E$4:$L$202,3,FALSE) -> 510.14582
A71: Ambulante Hilfen gem. §§ 27,2, 29-35 SGB VIII (Zahl der Hilfen) | D71: =VLOOKUP(D$3,'Tab. 4 Inanspruchnahme'!$E$4:$L$202,4,FALSE) -> #N/A | F71: =VLOOKUP(F$3,'Tab. 4 Inanspruchnahme'!$E$4:$L$202,4,FALSE) -> #N/A | H71: =VLOOKUP(H$3,'Tab. 4 Inanspruchnahme'!$E$4:$L$202,4,FALSE) -> #N/A | J71: =VLOOKUP(J$3,'Tab. 4 Inanspruchnahme'!$E$4:$L$202,4,FALSE) -> #N/A | L71: =VLOOKUP(L$3,'Tab. 4 Inanspruchnahme'!$E$4:$L$202,4,FALSE) -> #N/A | N71: =VLOOKUP(N$3,'Tab. 4 Inanspruchnahme'!$E$4:$L$202,4,FALSE) -> 215.57846
A72: Ambulante Hilfen gem. §§ 27,2, 29-35 SGB VIII (Zahl der Kinder) | D72: =VLOOKUP(D$3,'Tab. 4 Inanspruchnahme'!$E$4:$L$202,5,FALSE) -> #N/A | F72: =VLOOKUP(F$3,'Tab. 4 Inanspruchnahme'!$E$4:$L$202,5,FALSE) -> #N/A | H72: =VLOOKUP(H$3,'Tab. 4 Inanspruchnahme'!$E$4:$L$202,5,FALSE) -> #N/A | J72: =VLOOKUP(J$3,'Tab. 4 Inanspruchnahme'!$E$4:$L$202,5,FALSE) -> #N/A | L72: =VLOOKUP(L$3,'Tab. 4 Inanspruchnahme'!$E$4:$L$202,5,FALSE) -> #N/A | N72: =VLOOKUP(N$3,'Tab. 4 Inanspruchnahme'!$E$4:$L$202,5,FALSE) -> 338.40692
A73: Stationäre Hilfen gem. §§ 27,2, 33, 34 | D73: =VLOOKUP(D$3,'Tab. 4 Inanspruchnahme'!$E$4:$L$202,6,FALSE) -> #N/A | F73: =VLOOKUP(F$3,'Tab. 4 Inanspruchnahme'!$E$4:$L$202,6,FALSE) -> #N/A | H73: =VLOOKUP(H$3,'Tab. 4 Inanspruchnahme'!$E$4:$L$202,6,FALSE) -> #N/A | J73: =VLOOKUP(J$3,'Tab. 4 Inanspruchnahme'!$E$4:$L$202,6,FALSE) -> #N/A | L73: =VLOOKUP(L$3,'Tab. 4 Inanspruchnahme'!$E$4:$L$202,6,FALSE) -> #N/A | N73: =VLOOKUP(N$3,'Tab. 4 Inanspruchnahme'!$E$4:$L$202,6,FALSE) -> 171.73891
A74: Vollzeitpflege | D74: =VLOOKUP(D$3,'Tab. 4 Inanspruchnahme'!$E$4:$L$202,7,FALSE) -> #N/A | F74: =VLOOKUP(F$3,'Tab. 4 Inanspruchnahme'!$E$4:$L$202,7,FALSE) -> #N/A | H74: =VLOOKUP(H$3,'Tab. 4 Inanspruchnahme'!$E$4:$L$202,7,FALSE) -> #N/A | J74: =VLOOKUP(J$3,'Tab. 4 Inanspruchnahme'!$E$4:$L$202,7,FALSE) -> #N/A | L74: =VLOOKUP(L$3,'Tab. 4 Inanspruchnahme'!$E$4:$L$202,7,FALSE) -> #N/A | N74: =VLOOKUP(N$3,'Tab. 4 Inanspruchnahme'!$E$4:$L$202,7,FALSE) -> 73.573841
A75: Heimerziehung und stationäre Hilfen gem. § 27,2 | D75: =VLOOKUP(D$3,'Tab. 4 Inanspruchnahme'!$E$4:$L$202,8,FALSE) -> #N/A | F75: =VLOOKUP(F$3,'Tab. 4 Inanspruchnahme'!$E$4:$L$202,8,FALSE) -> #N/A | H75: =VLOOKUP(H$3,'Tab. 4 Inanspruchnahme'!$E$4:$L$202,8,FALSE) -> #N/A | J75: =VLOOKUP(J$3,'Tab. 4 Inanspruchnahme'!$E$4:$L$202,8,FALSE) -> #N/A | L75: =VLOOKUP(L$3,'Tab. 4 Inanspruchnahme'!$E$4:$L$202,8,FALSE) -> #N/A | N75: =VLOOKUP(N$3,'Tab. 4 Inanspruchnahme'!$E$4:$L$202,8,FALSE) -> 98.165067
A78: 5. Inanspruchnahme von Leistungen der Hilfen zur Erziehung nach Altersgruppen und Leistungssegmenten in den Jugendamtsbezirken Nordrhein-Westfalens; 2024 (am 31.12. andauernde Hilfen; Angaben pro 10.000 der altersgleichen Bevölkerung)
A81: HzE insg. (ohne Beratung) Zahl der Kinder | B81: 0 bis unter 6 J. | D81: =VLOOKUP(D$3,'Tab.5 Alter Inanspruchnahme'!$E$5:$AC$203,2,FALSE) -> #N/A | F81: =VLOOKUP(F$3,'Tab.5 Alter Inanspruchnahme'!$E$5:$AC$203,2,FALSE) -> #N/A | H81: =VLOOKUP(H$3,'Tab.5 Alter Inanspruchnahme'!$E$5:$AC$203,2,FALSE) -> #N/A | J81: =VLOOKUP(J$3,'Tab.5 Alter Inanspruchnahme'!$E$5:$AC$203,2,FALSE) -> #N/A | L81: =VLOOKUP(L$3,'Tab.5 Alter Inanspruchnahme'!$E$5:$AC$203,2,FALSE) -> #N/A | N81: =VLOOKUP(N$3,'Tab.5 Alter Inanspruchnahme'!$E$5:$AC$203,2,FALSE) -> 197.57944
B82: 6 bis unter 10 J. | D82: =VLOOKUP(D$3,'Tab.5 Alter Inanspruchnahme'!$E$5:$AC$203,3,FALSE) -> #N/A | F82: =VLOOKUP(F$3,'Tab.5 Alter Inanspruchnahme'!$E$5:$AC$203,3,FALSE) -> #N/A | H82: =VLOOKUP(H$3,'Tab.5 Alter Inanspruchnahme'!$E$5:$AC$203,3,FALSE) -> #N/A | J82: =VLOOKUP(J$3,'Tab.5 Alter Inanspruchnahme'!$E$5:$AC$203,3,FALSE) -> #N/A | L82: =VLOOKUP(L$3,'Tab.5 Alter Inanspruchnahme'!$E$5:$AC$203,3,FALSE) -> #N/A | N82: =VLOOKUP(N$3,'Tab.5 Alter Inanspruchnahme'!$E$5:$AC$203,3,FALSE) -> 371.85136
B83: 10 bis unter 14 Jahren | D83: =VLOOKUP(D$3,'Tab.5 Alter Inanspruchnahme'!$E$5:$AC$203,4,FALSE) -> #N/A | F83: =VLOOKUP(F$3,'Tab.5 Alter Inanspruchnahme'!$E$5:$AC$203,4,FALSE) -> #N/A | H83: =VLOOKUP(H$3,'Tab.5 Alter Inanspruchnahme'!$E$5:$AC$203,4,FALSE) -> #N/A | J83: =VLOOKUP(J$3,'Tab.5 Alter Inanspruchnahme'!$E$5:$AC$203,4,FALSE) -> #N/A | L83: =VLOOKUP(L$3,'Tab.5 Alter Inanspruchnahme'!$E$5:$AC$203,4,FALSE) -> #N/A | N83: =VLOOKUP(N$3,'Tab.5 Alter Inanspruchnahme'!$E$5:$AC$203,4,FALSE) -> 415.30586
B84: 14 bis unter 18 Jahren | D84: =VLOOKUP(D$3,'Tab.5 Alter Inanspruchnahme'!$E$5:$AC$203,5,FALSE) -> #N/A | F84: =VLOOKUP(F$3,'Tab.5 Alter Inanspruchnahme'!$E$5:$AC$203,5,FALSE) -> #N/A | H84: =VLOOKUP(H$3,'Tab.5 Alter Inanspruchnahme'!$E$5:$AC$203,5,FALSE) -> #N/A | J84: =VLOOKUP(J$3,'Tab.5 Alter Inanspruchnahme'!$E$5:$AC$203,5,FALSE) -> #N/A | L84: =VLOOKUP(L$3,'Tab.5 Alter Inanspruchnahme'!$E$5:$AC$203,5,FALSE) -> #N/A | N84: =VLOOKUP(N$3,'Tab.5 Alter Inanspruchnahme'!$E$5:$AC$203,5,FALSE) -> 462.85499
B85: 18 Jahre und älter | D85: =VLOOKUP(D$3,'Tab.5 Alter Inanspruchnahme'!$E$5:$AC$203,6,FALSE) -> #N/A | F85: =VLOOKUP(F$3,'Tab.5 Alter Inanspruchnahme'!$E$5:$AC$203,6,FALSE) -> #N/A | H85: =VLOOKUP(H$3,'Tab.5 Alter Inanspruchnahme'!$E$5:$AC$203,6,FALSE) -> #N/A | J85: =VLOOKUP(J$3,'Tab.5 Alter Inanspruchnahme'!$E$5:$AC$203,6,FALSE) -> #N/A | L85: =VLOOKUP(L$3,'Tab.5 Alter Inanspruchnahme'!$E$5:$AC$203,6,FALSE) -> #N/A | N85: =VLOOKUP(N$3,'Tab.5 Alter Inanspruchnahme'!$E$5:$AC$203,6,FALSE) -> 273.87584
B86: insgesamt | D86: =VLOOKUP(D$3,'Tab.5 Alter Inanspruchnahme'!$E$5:$AC$203,7,FALSE) -> #N/A | F86: =VLOOKUP(F$3,'Tab.5 Alter Inanspruchnahme'!$E$5:$AC$203,7,FALSE) -> #N/A | H86: =VLOOKUP(H$3,'Tab.5 Alter Inanspruchnahme'!$E$5:$AC$203,7,FALSE) -> #N/A | J86: =VLOOKUP(J$3,'Tab.5 Alter Inanspruchnahme'!$E$5:$AC$203,7,FALSE) -> #N/A | L86: =VLOOKUP(L$3,'Tab.5 Alter Inanspruchnahme'!$E$5:$AC$203,7,FALSE) -> #N/A | N86: =VLOOKUP(N$3,'Tab.5 Alter Inanspruchnahme'!$E$5:$AC$203,7,FALSE) -> 334.5517
A88: Ambulante Hilfen gem. §§ 27,2; 29-32, 35 SGB VIII (Anzahl der Kinder) | B88: 0 bis unter 6 J. | D88: =VLOOKUP(D$3,'Tab.5 Alter Inanspruchnahme'!$E$5:$AC$203,8,FALSE) -> #N/A | F88: =VLOOKUP(F$3,'Tab.5 Alter Inanspruchnahme'!$E$5:$AC$203,8,FALSE) -> #N/A | H88: =VLOOKUP(H$3,'Tab.5 Alter Inanspruchnahme'!$E$5:$AC$203,8,FALSE) -> #N/A | J88: =VLOOKUP(J$3,'Tab.5 Alter Inanspruchnahme'!$E$5:$AC$203,8,FALSE) -> #N/A | L88: =VLOOKUP(L$3,'Tab.5 Alter Inanspruchnahme'!$E$5:$AC$203,8,FALSE) -> #N/A | N88: =VLOOKUP(N$3,'Tab.5 Alter Inanspruchnahme'!$E$5:$AC$203,8,FALSE) -> 142.71303
B89: 6 bis unter 10 J. | D89: =VLOOKUP(D$3,'Tab.5 Alter Inanspruchnahme'!$E$5:$AC$203,9,FALSE) -> #N/A | F89: =VLOOKUP(F$3,'Tab.5 Alter Inanspruchnahme'!$E$5:$AC$203,9,FALSE) -> #N/A | H89: =VLOOKUP(H$3,'Tab.5 Alter Inanspruchnahme'!$E$5:$AC$203,9,FALSE) -> #N/A | J89: =VLOOKUP(J$3,'Tab.5 Alter Inanspruchnahme'!$E$5:$AC$203,9,FALSE) -> #N/A | L89: =VLOOKUP(L$3,'Tab.5 Alter Inanspruchnahme'!$E$5:$AC$203,9,FALSE) -> #N/A | N89: =VLOOKUP(N$3,'Tab.5 Alter Inanspruchnahme'!$E$5:$AC$203,9,FALSE) -> 260.04665
B90: 10 bis unter 14 Jahren | D90: =VLOOKUP(D$3,'Tab.5 Alter Inanspruchnahme'!$E$5:$AC$203,10,FALSE) -> #N/A | F90: =VLOOKUP(F$3,'Tab.5 Alter Inanspruchnahme'!$E$5:$AC$203,10,FALSE) -> #N/A | H90: =VLOOKUP(H$3,'Tab.5 Alter Inanspruchnahme'!$E$5:$AC$203,10,FALSE) -> #N/A | J90: =VLOOKUP(J$3,'Tab.5 Alter Inanspruchnahme'!$E$5:$AC$203,10,FALSE) -> #N/A | L90: =VLOOKUP(L$3,'Tab.5 Alter Inanspruchnahme'!$E$5:$AC$203,10,FALSE) -> #N/A | N90: =VLOOKUP(N$3,'Tab.5 Alter Inanspruchnahme'!$E$5:$AC$203,10,FALSE) -> 269.03789
B91: 14 bis unter 18 Jahren | D91: =VLOOKUP(D$3,'Tab.5 Alter Inanspruchnahme'!$E$5:$AC$203,11,FALSE) -> #N/A | F91: =VLOOKUP(F$3,'Tab.5 Alter Inanspruchnahme'!$E$5:$AC$203,11,FALSE) -> #N/A | H91: =VLOOKUP(H$3,'Tab.5 Alter Inanspruchnahme'!$E$5:$AC$203,11,FALSE) -> #N/A | J91: =VLOOKUP(J$3,'Tab.5 Alter Inanspruchnahme'!$E$5:$AC$203,11,FALSE) -> #N/A | L91: =VLOOKUP(L$3,'Tab.5 Alter Inanspruchnahme'!$E$5:$AC$203,11,FALSE) -> #N/A | N91: =VLOOKUP(N$3,'Tab.5 Alter Inanspruchnahme'!$E$5:$AC$203,11,FALSE) -> 243.91132
B92: 18 Jahre und älter | D92: =VLOOKUP(D$3,'Tab.5 Alter Inanspruchnahme'!$E$5:$AC$203,12,FALSE) -> #N/A | F92: =VLOOKUP(F$3,'Tab.5 Alter Inanspruchnahme'!$E$5:$AC$203,12,FALSE) -> #N/A | H92: =VLOOKUP(H$3,'Tab.5 Alter Inanspruchnahme'!$E$5:$AC$203,12,FALSE) -> #N/A | J92: =VLOOKUP(J$3,'Tab.5 Alter Inanspruchnahme'!$E$5:$AC$203,12,FALSE) -> #N/A | L92: =VLOOKUP(L$3,'Tab.5 Alter Inanspruchnahme'!$E$5:$AC$203,12,FALSE) -> #N/A | N92: =VLOOKUP(N$3,'Tab.5 Alter Inanspruchnahme'!$E$5:$AC$203,12,FALSE) -> 126.23168
B93: insgesamt | D93: =VLOOKUP(D$3,'Tab.5 Alter Inanspruchnahme'!$E$5:$AC$203,13,FALSE) -> #N/A | F93: =VLOOKUP(F$3,'Tab.5 Alter Inanspruchnahme'!$E$5:$AC$203,13,FALSE) -> #N/A | H93: =VLOOKUP(H$3,'Tab.5 Alter Inanspruchnahme'!$E$5:$AC$203,13,FALSE) -> #N/A | J93: =VLOOKUP(J$3,'Tab.5 Alter Inanspruchnahme'!$E$5:$AC$203,13,FALSE) -> #N/A | L93: =VLOOKUP(L$3,'Tab.5 Alter Inanspruchnahme'!$E$5:$AC$203,13,FALSE) -> #N/A | N93: =VLOOKUP(N$3,'Tab.5 Alter Inanspruchnahme'!$E$5:$AC$203,13,FALSE) -> 206.23601
A95: Vollzeitpflege | B95: 0 bis unter 6 J. | D95: =VLOOKUP(D$3,'Tab.5 Alter Inanspruchnahme'!$E$5:$AC$203,14,FALSE) -> #N/A | F95: =VLOOKUP(F$3,'Tab.5 Alter Inanspruchnahme'!$E$5:$AC$203,14,FALSE) -> #N/A | H95: =VLOOKUP(H$3,'Tab.5 Alter Inanspruchnahme'!$E$5:$AC$203,14,FALSE) -> #N/A | J95: =VLOOKUP(J$3,'Tab.5 Alter Inanspruchnahme'!$E$5:$AC$203,14,FALSE) -> #N/A | L95: =VLOOKUP(L$3,'Tab.5 Alter Inanspruchnahme'!$E$5:$AC$203,14,FALSE) -> #N/A | N95: =VLOOKUP(N$3,'Tab.5 Alter Inanspruchnahme'!$E$5:$AC$203,14,FALSE) -> 48.177842
B96: 6 bis unter 10 J. | D96: =VLOOKUP(D$3,'Tab.5 Alter Inanspruchnahme'!$E$5:$AC$203,15,FALSE) -> #N/A | F96: =VLOOKUP(F$3,'Tab.5 Alter Inanspruchnahme'!$E$5:$AC$203,15,FALSE) -> #N/A | H96: =VLOOKUP(H$3,'Tab.5 Alter Inanspruchnahme'!$E$5:$AC$203,15,FALSE) -> #N/A | J96: =VLOOKUP(J$3,'Tab.5 Alter Inanspruchnahme'!$E$5:$AC$203,15,FALSE) -> #N/A | L96: =VLOOKUP(L$3,'Tab.5 Alter Inanspruchnahme'!$E$5:$AC$203,15,FALSE) -> #N/A | N96: =VLOOKUP(N$3,'Tab.5 Alter Inanspruchnahme'!$E$5:$AC$203,15,FALSE) -> 68.071573
B97: 10 bis unter 14 Jahren | D97: =VLOOKUP(D$3,'Tab.5 Alter Inanspruchnahme'!$E$5:$AC$203,16,FALSE) -> #N/A | F97: =VLOOKUP(F$3,'Tab.5 Alter Inanspruchnahme'!$E$5:$AC$203,16,FALSE) -> #N/A | H97: =VLOOKUP(H$3,'Tab.5 Alter Inanspruchnahme'!$E$5:$AC$203,16,FALSE) -> #N/A | J97: =VLOOKUP(J$3,'Tab.5 Alter Inanspruchnahme'!$E$5:$AC$203,16,FALSE) -> #N/A | L97: =VLOOKUP(L$3,'Tab.5 Alter Inanspruchnahme'!$E$5:$AC$203,16,FALSE) -> #N/A | N97: =VLOOKUP(N$3,'Tab.5 Alter Inanspruchnahme'!$E$5:$AC$203,16,FALSE) -> 74.613769
B98: 14 bis unter 18 Jahren | D98: =VLOOKUP(D$3,'Tab.5 Alter Inanspruchnahme'!$E$5:$AC$203,17,FALSE) -> #N/A | F98: =VLOOKUP(F$3,'Tab.5 Alter Inanspruchnahme'!$E$5:$AC$203,17,FALSE) -> #N/A | H98: =VLOOKUP(H$3,'Tab.5 Alter Inanspruchnahme'!$E$5:$AC$203,17,FALSE) -> #N/A | J98: =VLOOKUP(J$3,'Tab.5 Alter Inanspruchnahme'!$E$5:$AC$203,17,FALSE) -> #N/A | L98: =VLOOKUP(L$3,'Tab.5 Alter Inanspruchnahme'!$E$5:$AC$203,17,FALSE) -> #N/A | N98: =VLOOKUP(N$3,'Tab.5 Alter Inanspruchnahme'!$E$5:$AC$203,17,FALSE) -> 78.688114
B99: 18 Jahre und älter | D99: =VLOOKUP(D$3,'Tab.5 Alter Inanspruchnahme'!$E$5:$AC$203,18,FALSE) -> #N/A | F99: =VLOOKUP(F$3,'Tab.5 Alter Inanspruchnahme'!$E$5:$AC$203,18,FALSE) -> #N/A | H99: =VLOOKUP(H$3,'Tab.5 Alter Inanspruchnahme'!$E$5:$AC$203,18,FALSE) -> #N/A | J99: =VLOOKUP(J$3,'Tab.5 Alter Inanspruchnahme'!$E$5:$AC$203,18,FALSE) -> #N/A | L99: =VLOOKUP(L$3,'Tab.5 Alter Inanspruchnahme'!$E$5:$AC$203,18,FALSE) -> #N/A | N99: =VLOOKUP(N$3,'Tab.5 Alter Inanspruchnahme'!$E$5:$AC$203,18,FALSE) -> 37.837988
B100: insgesamt | D100: =VLOOKUP(D$3,'Tab.5 Alter Inanspruchnahme'!$E$5:$AC$203,19,FALSE) -> #N/A | F100: =VLOOKUP(F$3,'Tab.5 Alter Inanspruchnahme'!$E$5:$AC$203,19,FALSE) -> #N/A | H100: =VLOOKUP(H$3,'Tab.5 Alter Inanspruchnahme'!$E$5:$AC$203,19,FALSE) -> #N/A | J100: =VLOOKUP(J$3,'Tab.5 Alter Inanspruchnahme'!$E$5:$AC$203,19,FALSE) -> #N/A | L100: =VLOOKUP(L$3,'Tab.5 Alter Inanspruchnahme'!$E$5:$AC$203,19,FALSE) -> #N/A | N100: =VLOOKUP(N$3,'Tab.5 Alter Inanspruchnahme'!$E$5:$AC$203,19,FALSE) -> 61.300432
A102: Heimerziehung und stationäre Hilfen gem. § 27,2 | B102: 0 bis unter 6 J. | D102: =VLOOKUP(D$3,'Tab.5 Alter Inanspruchnahme'!$E$5:$AC$203,20,FALSE) -> #N/A | F102: =VLOOKUP(F$3,'Tab.5 Alter Inanspruchnahme'!$E$5:$AC$203,20,FALSE) -> #N/A | H102: =VLOOKUP(H$3,'Tab.5 Alter Inanspruchnahme'!$E$5:$AC$203,20,FALSE) -> #N/A | J102: =VLOOKUP(J$3,'Tab.5 Alter Inanspruchnahme'!$E$5:$AC$203,20,FALSE) -> #N/A | L102: =VLOOKUP(L$3,'Tab.5 Alter Inanspruchnahme'!$E$5:$AC$203,20,FALSE) -> #N/A | N102: =VLOOKUP(N$3,'Tab.5 Alter Inanspruchnahme'!$E$5:$AC$203,20,FALSE) -> 6.688573
B103: 6 bis unter 10 J. | D103: =VLOOKUP(D$3,'Tab.5 Alter Inanspruchnahme'!$E$5:$AC$203,21,FALSE) -> #N/A | F103: =VLOOKUP(F$3,'Tab.5 Alter Inanspruchnahme'!$E$5:$AC$203,21,FALSE) -> #N/A | H103: =VLOOKUP(H$3,'Tab.5 Alter Inanspruchnahme'!$E$5:$AC$203,21,FALSE) -> #N/A | J103: =VLOOKUP(J$3,'Tab.5 Alter Inanspruchnahme'!$E$5:$AC$203,21,FALSE) -> #N/A | L103: =VLOOKUP(L$3,'Tab.5 Alter Inanspruchnahme'!$E$5:$AC$203,21,FALSE) -> #N/A | N103: =VLOOKUP(N$3,'Tab.5 Alter Inanspruchnahme'!$E$5:$AC$203,21,FALSE) -> 43.733134
B104: 10 bis unter 14 Jahren | D104: =VLOOKUP(D$3,'Tab.5 Alter Inanspruchnahme'!$E$5:$AC$203,22,FALSE) -> #N/A | F104: =VLOOKUP(F$3,'Tab.5 Alter Inanspruchnahme'!$E$5:$AC$203,22,FALSE) -> #N/A | H104: =VLOOKUP(H$3,'Tab.5 Alter Inanspruchnahme'!$E$5:$AC$203,22,FALSE) -> #N/A | J104: =VLOOKUP(J$3,'Tab.5 Alter Inanspruchnahme'!$E$5:$AC$203,22,FALSE) -> #N/A | L104: =VLOOKUP(L$3,'Tab.5 Alter Inanspruchnahme'!$E$5:$AC$203,22,FALSE) -> #N/A | N104: =VLOOKUP(N$3,'Tab.5 Alter Inanspruchnahme'!$E$5:$AC$203,22,FALSE) -> 71.654204
B105: 14 bis unter 18 Jahren | D105: =VLOOKUP(D$3,'Tab.5 Alter Inanspruchnahme'!$E$5:$AC$203,23,FALSE) -> #N/A | F105: =VLOOKUP(F$3,'Tab.5 Alter Inanspruchnahme'!$E$5:$AC$203,23,FALSE) -> #N/A | H105: =VLOOKUP(H$3,'Tab.5 Alter Inanspruchnahme'!$E$5:$AC$203,23,FALSE) -> #N/A | J105: =VLOOKUP(J$3,'Tab.5 Alter Inanspruchnahme'!$E$5:$AC$203,23,FALSE) -> #N/A | L105: =VLOOKUP(L$3,'Tab.5 Alter Inanspruchnahme'!$E$5:$AC$203,23,FALSE) -> #N/A | N105: =VLOOKUP(N$3,'Tab.5 Alter Inanspruchnahme'!$E$5:$AC$203,23,FALSE) -> 140.25556
B106: 18 Jahre und älter | D106: =VLOOKUP(D$3,'Tab.5 Alter Inanspruchnahme'!$E$5:$AC$203,24,FALSE) -> #N/A | F106: =VLOOKUP(F$3,'Tab.5 Alter Inanspruchnahme'!$E$5:$AC$203,24,FALSE) -> #N/A | H106: =VLOOKUP(H$3,'Tab.5 Alter Inanspruchnahme'!$E$5:$AC$203,24,FALSE) -> #N/A | J106: =VLOOKUP(J$3,'Tab.5 Alter Inanspruchnahme'!$E$5:$AC$203,24,FALSE) -> #N/A | L106: =VLOOKUP(L$3,'Tab.5 Alter Inanspruchnahme'!$E$5:$AC$203,24,FALSE) -> #N/A | N106: =VLOOKUP(N$3,'Tab.5 Alter Inanspruchnahme'!$E$5:$AC$203,24,FALSE) -> 109.80618
B107: insgesamt | D107: =VLOOKUP(D$3,'Tab.5 Alter Inanspruchnahme'!$E$5:$AC$203,25,FALSE) -> #N/A | F107: =VLOOKUP(F$3,'Tab.5 Alter Inanspruchnahme'!$E$5:$AC$203,25,FALSE) -> #N/A | H107: =VLOOKUP(H$3,'Tab.5 Alter Inanspruchnahme'!$E$5:$AC$203,25,FALSE) -> #N/A | J107: =VLOOKUP(J$3,'Tab.5 Alter Inanspruchnahme'!$E$5:$AC$203,25,FALSE) -> #N/A | L107: =VLOOKUP(L$3,'Tab.5 Alter Inanspruchnahme'!$E$5:$AC$203,25,FALSE) -> #N/A | N107: =VLOOKUP(N$3,'Tab.5 Alter Inanspruchnahme'!$E$5:$AC$203,25,FALSE) -> 67.015255
A110: 6. Inanspruchnahme von Leistungen der Hilfen zur Erziehung nach Geschlecht und Leistungssegmenten in den Jugendamtsbezirken Nordrhein-Westfalens; 2024 (Aufsummierung der zum 31.12. eines Jahres andauernden und der innerhalb eines Jahres beendeten Leistungen; Angaben pro 10.000 der unter 21-jährigen Bevölkerung)
A113: HzE insg (ohne Beratung) Zahl der Kinder | B113: männlich | D113: =VLOOKUP(D$3,'Tab.6 Geschlecht Inanspr.'!$E$5:$T$203,2,FALSE) -> #N/A | F113: =VLOOKUP(F$3,'Tab.6 Geschlecht Inanspr.'!$E$5:$T$203,2,FALSE) -> #N/A | H113: =VLOOKUP(H$3,'Tab.6 Geschlecht Inanspr.'!$E$5:$T$203,2,FALSE) -> #N/A | J113: =VLOOKUP(J$3,'Tab.6 Geschlecht Inanspr.'!$E$5:$T$203,2,FALSE) -> #N/A | L113: =VLOOKUP(L$3,'Tab.6 Geschlecht Inanspr.'!$E$5:$T$203,2,FALSE) -> #N/A | N113: =VLOOKUP(N$3,'Tab.6 Geschlecht Inanspr.'!$E$5:$T$203,2,FALSE) -> 545.07308
B114: weiblich | D114: =VLOOKUP(D$3,'Tab.6 Geschlecht Inanspr.'!$E$5:$T$203,3,FALSE) -> #N/A | F114: =VLOOKUP(F$3,'Tab.6 Geschlecht Inanspr.'!$E$5:$T$203,3,FALSE) -> #N/A | H114: =VLOOKUP(H$3,'Tab.6 Geschlecht Inanspr.'!$E$5:$T$203,3,FALSE) -> #N/A | J114: =VLOOKUP(J$3,'Tab.6 Geschlecht Inanspr.'!$E$5:$T$203,3,FALSE) -> #N/A | L114: =VLOOKUP(L$3,'Tab.6 Geschlecht Inanspr.'!$E$5:$T$203,3,FALSE) -> #N/A | N114: =VLOOKUP(N$3,'Tab.6 Geschlecht Inanspr.'!$E$5:$T$203,3,FALSE) -> 472.93866
B115: insgesamt | D115: =VLOOKUP(D$3,'Tab.6 Geschlecht Inanspr.'!$E$5:$T$203,4,FALSE) -> #N/A | F115: =VLOOKUP(F$3,'Tab.6 Geschlecht Inanspr.'!$E$5:$T$203,4,FALSE) -> #N/A | H115: =VLOOKUP(H$3,'Tab.6 Geschlecht Inanspr.'!$E$5:$T$203,4,FALSE) -> #N/A | J115: =VLOOKUP(J$3,'Tab.6 Geschlecht Inanspr.'!$E$5:$T$203,4,FALSE) -> #N/A | L115: =VLOOKUP(L$3,'Tab.6 Geschlecht Inanspr.'!$E$5:$T$203,4,FALSE) -> #N/A | N115: =VLOOKUP(N$3,'Tab.6 Geschlecht Inanspr.'!$E$5:$T$203,4,FALSE) -> 510.14582
A117: Ambulante Hilfen gem. §§ 27,2, 29-32, 35 SGB VIII | B117: männlich | D117: =VLOOKUP(D$3,'Tab.6 Geschlecht Inanspr.'!$E$5:$T$203,5,FALSE) -> #N/A | F117: =VLOOKUP(F$3,'Tab.6 Geschlecht Inanspr.'!$E$5:$T$203,5,FALSE) -> #N/A | H117: =VLOOKUP(H$3,'Tab.6 Geschlecht Inanspr.'!$E$5:$T$203,5,FALSE) -> #N/A | J117: =VLOOKUP(J$3,'Tab.6 Geschlecht Inanspr.'!$E$5:$T$203,5,FALSE) -> #N/A | L117: =VLOOKUP(L$3,'Tab.6 Geschlecht Inanspr.'!$E$5:$T$203,5,FALSE) -> #N/A | N117: =VLOOKUP(N$3,'Tab.6 Geschlecht Inanspr.'!$E$5:$T$203,5,FALSE) -> 358.57862
B118: weiblich | D118: =VLOOKUP(D$3,'Tab.6 Geschlecht Inanspr.'!$E$5:$T$203,6,FALSE) -> #N/A | F118: =VLOOKUP(F$3,'Tab.6 Geschlecht Inanspr.'!$E$5:$T$203,6,FALSE) -> #N/A | H118: =VLOOKUP(H$3,'Tab.6 Geschlecht Inanspr.'!$E$5:$T$203,6,FALSE) -> #N/A | J118: =VLOOKUP(J$3,'Tab.6 Geschlecht Inanspr.'!$E$5:$T$203,6,FALSE) -> #N/A | L118: =VLOOKUP(L$3,'Tab.6 Geschlecht Inanspr.'!$E$5:$T$203,6,FALSE) -> #N/A | N118: =VLOOKUP(N$3,'Tab.6 Geschlecht Inanspr.'!$E$5:$T$203,6,FALSE) -> 316.91848
B119: insgesamt | D119: =VLOOKUP(D$3,'Tab.6 Geschlecht Inanspr.'!$E$5:$T$203,7,FALSE) -> #N/A | F119: =VLOOKUP(F$3,'Tab.6 Geschlecht Inanspr.'!$E$5:$T$203,7,FALSE) -> #N/A | H119: =VLOOKUP(H$3,'Tab.6 Geschlecht Inanspr.'!$E$5:$T$203,7,FALSE) -> #N/A | J119: =VLOOKUP(J$3,'Tab.6 Geschlecht Inanspr.'!$E$5:$T$203,7,FALSE) -> #N/A | L119: =VLOOKUP(L$3,'Tab.6 Geschlecht Inanspr.'!$E$5:$T$203,7,FALSE) -> #N/A | N119: =VLOOKUP(N$3,'Tab.6 Geschlecht Inanspr.'!$E$5:$T$203,7,FALSE) -> 338.40692
A121: Stationäre Hilfen | B121: männlich | D121: =VLOOKUP(D$3,'Tab.6 Geschlecht Inanspr.'!$E$5:$T$203,8,FALSE) -> #N/A | F121: =VLOOKUP(F$3,'Tab.6 Geschlecht Inanspr.'!$E$5:$T$203,8,FALSE) -> #N/A | H121: =VLOOKUP(H$3,'Tab.6 Geschlecht Inanspr.'!$E$5:$T$203,8,FALSE) -> #N/A | J121: =VLOOKUP(J$3,'Tab.6 Geschlecht Inanspr.'!$E$5:$T$203,8,FALSE) -> #N/A | L121: =VLOOKUP(L$3,'Tab.6 Geschlecht Inanspr.'!$E$5:$T$203,8,FALSE) -> #N/A | N121: =VLOOKUP(N$3,'Tab.6 Geschlecht Inanspr.'!$E$5:$T$203,8,FALSE) -> 186.49446
B122: weiblich | D122: =VLOOKUP(D$3,'Tab.6 Geschlecht Inanspr.'!$E$5:$T$203,9,FALSE) -> #N/A | F122: =VLOOKUP(F$3,'Tab.6 Geschlecht Inanspr.'!$E$5:$T$203,9,FALSE) -> #N/A | H122: =VLOOKUP(H$3,'Tab.6 Geschlecht Inanspr.'!$E$5:$T$203,9,FALSE) -> #N/A | J122: =VLOOKUP(J$3,'Tab.6 Geschlecht Inanspr.'!$E$5:$T$203,9,FALSE) -> #N/A | L122: =VLOOKUP(L$3,'Tab.6 Geschlecht Inanspr.'!$E$5:$T$203,9,FALSE) -> #N/A | N122: =VLOOKUP(N$3,'Tab.6 Geschlecht Inanspr.'!$E$5:$T$203,9,FALSE) -> 156.02017
B123: insgesamt | D123: =VLOOKUP(D$3,'Tab.6 Geschlecht Inanspr.'!$E$5:$T$203,10,FALSE) -> #N/A | F123: =VLOOKUP(F$3,'Tab.6 Geschlecht Inanspr.'!$E$5:$T$203,10,FALSE) -> #N/A | H123: =VLOOKUP(H$3,'Tab.6 Geschlecht Inanspr.'!$E$5:$T$203,10,FALSE) -> #N/A | J123: =VLOOKUP(J$3,'Tab.6 Geschlecht Inanspr.'!$E$5:$T$203,10,FALSE) -> #N/A | L123: =VLOOKUP(L$3,'Tab.6 Geschlecht Inanspr.'!$E$5:$T$203,10,FALSE) -> #N/A | N123: =VLOOKUP(N$3,'Tab.6 Geschlecht Inanspr.'!$E$5:$T$203,10,FALSE) -> 171.73891
A125: Vollzeitpflege | B125: männlich | D125: =VLOOKUP(D$3,'Tab.6 Geschlecht Inanspr.'!$E$5:$T$203,11,FALSE) -> #N/A | F125: =VLOOKUP(F$3,'Tab.6 Geschlecht Inanspr.'!$E$5:$T$203,11,FALSE) -> #N/A | H125: =VLOOKUP(H$3,'Tab.6 Geschlecht Inanspr.'!$E$5:$T$203,11,FALSE) -> #N/A | J125: =VLOOKUP(J$3,'Tab.6 Geschlecht Inanspr.'!$E$5:$T$203,11,FALSE) -> #N/A | L125: =VLOOKUP(L$3,'Tab.6 Geschlecht Inanspr.'!$E$5:$T$203,11,FALSE) -> #N/A | N125: =VLOOKUP(N$3,'Tab.6 Geschlecht Inanspr.'!$E$5:$T$203,11,FALSE) -> 73.757273
B126: weiblich | D126: =VLOOKUP(D$3,'Tab.6 Geschlecht Inanspr.'!$E$5:$T$203,12,FALSE) -> #N/A | F126: =VLOOKUP(F$3,'Tab.6 Geschlecht Inanspr.'!$E$5:$T$203,12,FALSE) -> #N/A | H126: =VLOOKUP(H$3,'Tab.6 Geschlecht Inanspr.'!$E$5:$T$203,12,FALSE) -> #N/A | J126: =VLOOKUP(J$3,'Tab.6 Geschlecht Inanspr.'!$E$5:$T$203,12,FALSE) -> #N/A | L126: =VLOOKUP(L$3,'Tab.6 Geschlecht Inanspr.'!$E$5:$T$203,12,FALSE) -> #N/A | N126: =VLOOKUP(N$3,'Tab.6 Geschlecht Inanspr.'!$E$5:$T$203,12,FALSE) -> 73.378435
B127: insgesamt | D127: =VLOOKUP(D$3,'Tab.6 Geschlecht Inanspr.'!$E$5:$T$203,13,FALSE) -> #N/A | F127: =VLOOKUP(F$3,'Tab.6 Geschlecht Inanspr.'!$E$5:$T$203,13,FALSE) -> #N/A | H127: =VLOOKUP(H$3,'Tab.6 Geschlecht Inanspr.'!$E$5:$T$203,13,FALSE) -> #N/A | J127: =VLOOKUP(J$3,'Tab.6 Geschlecht Inanspr.'!$E$5:$T$203,13,FALSE) -> #N/A | L127: =VLOOKUP(L$3,'Tab.6 Geschlecht Inanspr.'!$E$5:$T$203,13,FALSE) -> #N/A | N127: =VLOOKUP(N$3,'Tab.6 Geschlecht Inanspr.'!$E$5:$T$203,13,FALSE) -> 73.573841
A129: Heimerziehung und stat. Hilfen gem. § 27,2 | B129: männlich | D129: =VLOOKUP(D$3,'Tab.6 Geschlecht Inanspr.'!$E$5:$T$203,14,FALSE) -> #N/A | F129: =VLOOKUP(F$3,'Tab.6 Geschlecht Inanspr.'!$E$5:$T$203,14,FALSE) -> #N/A | H129: =VLOOKUP(H$3,'Tab.6 Geschlecht Inanspr.'!$E$5:$T$203,14,FALSE) -> #N/A | J129: =VLOOKUP(J$3,'Tab.6 Geschlecht Inanspr.'!$E$5:$T$203,14,FALSE) -> #N/A | L129: =VLOOKUP(L$3,'Tab.6 Geschlecht Inanspr.'!$E$5:$T$203,14,FALSE) -> #N/A | N129: =VLOOKUP(N$3,'Tab.6 Geschlecht Inanspr.'!$E$5:$T$203,14,FALSE) -> 112.73719
B130: weiblich | D130: =VLOOKUP(D$3,'Tab.6 Geschlecht Inanspr.'!$E$5:$T$203,15,FALSE) -> #N/A | F130: =VLOOKUP(F$3,'Tab.6 Geschlecht Inanspr.'!$E$5:$T$203,15,FALSE) -> #N/A | H130: =VLOOKUP(H$3,'Tab.6 Geschlecht Inanspr.'!$E$5:$T$203,15,FALSE) -> #N/A | J130: =VLOOKUP(J$3,'Tab.6 Geschlecht Inanspr.'!$E$5:$T$203,15,FALSE) -> #N/A | L130: =VLOOKUP(L$3,'Tab.6 Geschlecht Inanspr.'!$E$5:$T$203,15,FALSE) -> #N/A | N130: =VLOOKUP(N$3,'Tab.6 Geschlecht Inanspr.'!$E$5:$T$203,15,FALSE) -> 82.641738
B131: insgesamt | D131: =VLOOKUP(D$3,'Tab.6 Geschlecht Inanspr.'!$E$5:$T$203,16,FALSE) -> #N/A | F131: =VLOOKUP(F$3,'Tab.6 Geschlecht Inanspr.'!$E$5:$T$203,16,FALSE) -> #N/A | H131: =VLOOKUP(H$3,'Tab.6 Geschlecht Inanspr.'!$E$5:$T$203,16,FALSE) -> #N/A | J131: =VLOOKUP(J$3,'Tab.6 Geschlecht Inanspr.'!$E$5:$T$203,16,FALSE) -> #N/A | L131: =VLOOKUP(L$3,'Tab.6 Geschlecht Inanspr.'!$E$5:$T$203,16,FALSE) -> #N/A | N131: =VLOOKUP(N$3,'Tab.6 Geschlecht Inanspr.'!$E$5:$T$203,16,FALSE) -> 98.165067
A134: 7. Erziehungsberatung (§ 28 SGB VIII) nach Altersgruppen und Geschlecht in den Jugendamtsbezirken der Kreise und kreisfreien Städte Nordrhein-Westfalens; 2024 (andauernde Hilfen am 31.12; Angaben absolut, Inanspruchnahme pro 10.000 der altersgleichen Bevölkerung)
A137: Anzahl absolut | B137: Insgesamt | D137: =VLOOKUP(D$3,'Tab. 7 Erziehungsberatung'!$B$6:$L$62,2,FALSE) -> #N/A | F137: =VLOOKUP(F$3,'Tab. 7 Erziehungsberatung'!$B$6:$L$62,2,FALSE) -> #N/A | H137: =VLOOKUP(H$3,'Tab. 7 Erziehungsberatung'!$B$6:$L$62,2,FALSE) -> #N/A | J137: =VLOOKUP(J$3,'Tab. 7 Erziehungsberatung'!$B$6:$L$62,2,FALSE) -> #N/A | L137: =VLOOKUP(L$3,'Tab. 7 Erziehungsberatung'!$B$6:$L$62,2,FALSE) -> #N/A | N137: =VLOOKUP(N$3,'Tab. 7 Erziehungsberatung'!$B$6:$L$62,2,FALSE) -> 42125
B138: Männlich | D138: =VLOOKUP(D$3,'Tab. 7 Erziehungsberatung'!$B$6:$L$62,3,FALSE) -> #N/A | F138: =VLOOKUP(F$3,'Tab. 7 Erziehungsberatung'!$B$6:$L$62,3,FALSE) -> #N/A | H138: =VLOOKUP(H$3,'Tab. 7 Erziehungsberatung'!$B$6:$L$62,3,FALSE) -> #N/A | J138: =VLOOKUP(J$3,'Tab. 7 Erziehungsberatung'!$B$6:$L$62,3,FALSE) -> #N/A | L138: =VLOOKUP(L$3,'Tab. 7 Erziehungsberatung'!$B$6:$L$62,3,FALSE) -> #N/A | N138: =VLOOKUP(N$3,'Tab. 7 Erziehungsberatung'!$B$6:$L$62,3,FALSE) -> 21676
B139: Weiblich | D139: =VLOOKUP(D$3,'Tab. 7 Erziehungsberatung'!$B$6:$L$62,4,FALSE) -> #N/A | F139: =VLOOKUP(F$3,'Tab. 7 Erziehungsberatung'!$B$6:$L$62,4,FALSE) -> #N/A | H139: =VLOOKUP(H$3,'Tab. 7 Erziehungsberatung'!$B$6:$L$62,4,FALSE) -> #N/A | J139: =VLOOKUP(J$3,'Tab. 7 Erziehungsberatung'!$B$6:$L$62,4,FALSE) -> #N/A | L139: =VLOOKUP(L$3,'Tab. 7 Erziehungsberatung'!$B$6:$L$62,4,FALSE) -> #N/A | N139: =VLOOKUP(N$3,'Tab. 7 Erziehungsberatung'!$B$6:$L$62,4,FALSE) -> 20449
B140: Unter 10 Jahre | D140: =VLOOKUP(D$3,'Tab. 7 Erziehungsberatung'!$B$6:$L$62,5,FALSE) -> #N/A | F140: =VLOOKUP(F$3,'Tab. 7 Erziehungsberatung'!$B$6:$L$62,5,FALSE) -> #N/A | H140: =VLOOKUP(H$3,'Tab. 7 Erziehungsberatung'!$B$6:$L$62,5,FALSE) -> #N/A | J140: =VLOOKUP(J$3,'Tab. 7 Erziehungsberatung'!$B$6:$L$62,5,FALSE) -> #N/A | L140: =VLOOKUP(L$3,'Tab. 7 Erziehungsberatung'!$B$6:$L$62,5,FALSE) -> #N/A | N140: =VLOOKUP(N$3,'Tab. 7 Erziehungsberatung'!$B$6:$L$62,5,FALSE) -> 22508
B141: 10 bis unter 21 Jahre | D141: =VLOOKUP(D$3,'Tab. 7 Erziehungsberatung'!$B$6:$L$62,6,FALSE) -> #N/A | F141: =VLOOKUP(F$3,'Tab. 7 Erziehungsberatung'!$B$6:$L$62,6,FALSE) -> #N/A | H141: =VLOOKUP(H$3,'Tab. 7 Erziehungsberatung'!$B$6:$L$62,6,FALSE) -> #N/A | J141: =VLOOKUP(J$3,'Tab. 7 Erziehungsberatung'!$B$6:$L$62,6,FALSE) -> #N/A | L141: =VLOOKUP(L$3,'Tab. 7 Erziehungsberatung'!$B$6:$L$62,6,FALSE) -> #N/A | N141: =VLOOKUP(N$3,'Tab. 7 Erziehungsberatung'!$B$6:$L$62,6,FALSE) -> 19617
A143: Inanspruchnahme pro 10.000 | B143: Insgesamt | D143: =VLOOKUP(D$3,'Tab. 7 Erziehungsberatung'!$B$6:$L$62,7,FALSE) -> #N/A | F143: =VLOOKUP(F$3,'Tab. 7 Erziehungsberatung'!$B$6:$L$62,7,FALSE) -> #N/A | H143: =VLOOKUP(H$3,'Tab. 7 Erziehungsberatung'!$B$6:$L$62,7,FALSE) -> #N/A | J143: =VLOOKUP(J$3,'Tab. 7 Erziehungsberatung'!$B$6:$L$62,7,FALSE) -> #N/A | L143: =VLOOKUP(L$3,'Tab. 7 Erziehungsberatung'!$B$6:$L$62,7,FALSE) -> #N/A | N143: =VLOOKUP(N$3,'Tab. 7 Erziehungsberatung'!$B$6:$L$62,7,FALSE) -> 116.91935
...

Sheet Inhalt u. methodische Hinweise
A1: Eckwerte des Leistungsspektrums der Hilfen zur Erziehung in den Jugendämtern Nordrhein-Westfalens
A2: Jugendamtstabellen 2024, Datengrundlage für das HzE-Berichtswesen NRW 2026
A4: Inhaltsverzeichnis
A7: Tabelle 1 | B7: Zuordnungstabelle für die Jugendämter in Nordrhein-Westfalen nach Jugendamtstyp, Belastungsklasse, Strukturtyp und Landesjugendamtsbezirk (alphabetisch sortiert)
A9: Tabelle 2 | B9: Bevölkerung in den Jugendamtsbezirken in Nordrhein-Westfalen 2024
A10: Tabelle 3a | B10: Leistungen der Hilfen zur Erziehung (einschl. Erziehungsberatung) und der Erziehungsberatung in den Jugendamtsbezirken der Kreise und kreisfreien Städte Nordrhein-Westfalens; 2024 (Aufsummierung der am 31.12. eines Jahres andauernden und der innerhalb eines Jahres beendeten Hilfen; Angaben absolut, Inanspruchnahme pro 10.000 der unter 21-jährigen Bevölkerung) (Jugendamtsbezirke sind alphabetisch sortiert))
A13: Tabelle 3b | B13: Leistungen der Hilfen zur Erziehung (ohne Erziehungsberatung) nach Leistungssegmenten in den Jugendamtsbezirken Nordrhein-Westfalens; 2024 (Aufsummierung der am 31.12. eines Jahres andauernden und der innerhalb eines Jahres beendeten Hilfen; Angaben absolut) (Jugendamtsbezirke sind innerhalb der Jugendamtstypen alphabetisch sortiert))
A16: Tabelle 4 | B16: Inanspruchnahme von Leistungen der Hilfen zur Erziehung (ohne Erziehungsberatung) nach Leistungssegmenten in den Jugendamtsbezirken Nordrhein-Westfalens; 2024 (Aufsummierung der am 31.12. eines Jahres andauernden und der innerhalb eines Jahres beendeten Hilfen; Angaben pro 10.000 der unter 21-jährigen Bevölkerung) (Jugendamtsbezirke sind innerhalb der Jugendamtstypen alphabetisch sortiert))
A19: Tabell 5 | B19: Inanspruchnahme von Leistungen der Hilfen zur Erziehung (ohne Erziehungsberatung) nach Altersgruppen und Leistungssegmenten in den Jugendamtsbezirken Nordrhein-Westfalens; 2024 (andauernde Hilfen am 31.12.; Angaben pro 10.000 der altersgleichen Bevölkerung) (Jugendamtsbezirke sind innerhalb der Jugendamtstypen alphabetisch sortiert))
A22: Tabell 6 | B22: Inanspruchnahme von Leistungen der Hilfen zur Erziehung (ohne Erziehungsberatung) nach Geschlecht und Leistungssegmenten in den Jugendamtsbezirken Nordrhein-Westfalens; 2024 (Aufsummierung der am 31.12. eines Jahres andauernden und der innerhalb eines Jahres beendeten Leistungen; Angaben pro 10.000 der unter 21-jährigen Bevölkerung) (Jugendamtsbezirke sind innerhalb der Jugendamtstypen alphabetisch sortiert))
A25: Tabell 7 | B25: Erziehungsberatung (§ 28 SGB VIII) nach Altersgruppen und Geschlecht in den Jugendamtsbezirken der Kreise und kreisfreien Städte Nordrhein-Westfalens; 2024 (andauernde Hilfen am 31.12.; Angaben absolut, Inanspruchnahme pro 10.000 der altersgleichen Bevölkerung) (Jugendamtsbezirke sind alphabetisch sortiert))
A27: Tabelle 8 | B27: Eingliederungshilfen (§ 35a SGB VIII) nach Altersgruppen und Geschlecht in den Jugendamtsbezirken Nordrhein-Westfalens; 2024 (Aufsummierung der am 31.12. eines Jahres andauernden und der innerhalb eines Jahres beendeten Leistungen; Angaben absolut, Inanspruchnahme pro 10.000 der altersgleichen Bevölkerung) (Jugendamtsbezirke sind innerhalb der Jugendamtstypen alphabetisch sortiert))
A30: Tabelle 9 | B30: Lebenslagen von Hilfen zur Erziehung in Anspruch nehmenden jungen Menschen (ohne Erziehungsberatung) in den Jugendamtsbezirken Nordrhein-Westfalens; 2024 (begonnene Hilfen, Angaben absolut und in %) (Jugendamtsbezirke sind innerhalb der Jugendamtstypen alphabetisch sortiert))
A32: Tabelle 10 | B32: Dauer von familienersetzenden Hilfen und Intensität von ambulanten Leistungen in den Jugendamtsbezirken Nordrhein-Westfalens; 2024 (andauernde und beendete Hilfen, Anzahl der Hilfen absolut und durchschnittliche Dauer der Leistungen)
A34: Tabelle 11 | B34: Eckwerte zur Höhe der Pro-Kopf-Ausgaben der Jugendämter für die Hilfen zur Erziehung (einschl. der Hilfen für junge Volljährige) nach Jugendamtstypen in Nordrhein-Westfalen; 2024 (Angaben pro unter 21-Jährigen)
A40: Methodische Hinweise
A43: Neuberechnung der Jugendamtstypen für 2026 (Datenbasis 2024)
A45: Die in den Jugendamtstabellen verwendeten Vergleichsgruppen in Form der Jugendamtstypen wurden auf Grundlage der Datenbasis 2024 neu berechnet. Die Zuordnung der Jugendämter zu den Vergleichsgruppen wurde damit aktualisiert. Das methodische Vorgehen und die Ergebnisse werden in Erdmann. J./Mühlmann T. (2026) berichtet. Der Bericht ist verfügbar unter:
A49: https://www.akjstat.tu-dortmund.de/fileadmin/user_upload/Neuberechnung_Jugendamtstypen_HzE_NRW_2026_Datenbasis_2024.pdf
A52: Datenausfälle
A54: Jugendamt | D54: Datenjahr | E54: Grund für den Ausfall | O54: Weitere Hinweise
A55: Essen, krfr. Stadt | D55: 2024 | E55: Die Stadt Essen konnte aufgrund einer technischen Neuausrichtung, die mit einer umfangreichen Umstellung der Fachverfahren verbunden war, keine validen und qualitätsgesicherten Daten an das Statistische Landesamt übermitteln. | O55: Es liegen ausschließlich Daten zur Erziehungsberatung vor.
A56: Greven, Stadt | D56: 2021-2024 | E56: Aufgrund eines Software-Problems liegen keine Meldungen zu den Eingliederungshilfen gem. § 35a SGB VIII der Stadt Greven für den Berichtszeitraum 2021-2024 vor.

Sheet Tab. 1 Zuordnungstabelle
A1: Tabelle 1: Zuordnungstabelle für die Jugendämter in Nordrhein-Westfalen nach Jugendamtstyp, Belastungsklasse, Strukturtyp und Landesjugendamtsbezirk (alphabetisch sortiert)
A3: Kreiskennzahl | B3: Jugendamt (St. = Stadt; Kr. = Kreis) | C3: Jugendamts-typ [JAT] (2024) (1-10)¹ | D3: Belastungs-klasse 2024 (1-4)¹ | E3: Strukturtyp (2024) (1-4)³ | F3: LVR (1) oder LWL (2)
B4: (St. = Stadt;
B5: Kr. = Kreis)
A6: 334000 | B6: Aachen, Kreis | C6: 3 | D6: 3 | E6: 2 | F6: 1
A7: 334002 | B7: Aachen, Stadt | C7: 2 | D7: 2 | E7: 1 | F7: 1
A8: 554004 | B8: Ahaus, Stadt | C8: 6 | D8: 4 | E8: 3 | F8: 2
A9: 570004 | B9: Ahlen, Stadt | C9: 8 | D9: 2 | E9: 4 | F9: 2
A10: 334004 | B10: Alsdorf, Stadt | C10: 4 | D10: 2 | E10: 3 | F10: 1
A11: 962004 | B11: Altena, Stadt | C11: 4 | D11: 2 | E11: 3 | F11: 2
A12: 958004 | B12: Arnsberg, Stadt | C12: 9 | D12: 3 | E12: 4 | F12: 2
A13: 382008 | B13: Bad Honnef, Stadt | C13: 6 | D13: 4 | E13: 3 | F13: 1
A14: 770004 | B14: Bad Oeynhausen, Stadt | C14: 9 | D14: 3 | E14: 4 | F14: 2
A15: 766008 | B15: Bad Salzuflen, Stadt | C15: 8 | D15: 2 | E15: 4 | F15: 2
A16: 570008 | B16: Beckum, Stadt | C16: 5 | D16: 3 | E16: 3 | F16: 2
A17: 362004 | B17: Bedburg, Stadt | C17: 6 | D17: 4 | E17: 3 | F17: 1
... A191: 334036 | B191: Würselen, Stadt | C191: 5 | D191: 3 | E191: 3 | F191: 1
A192: 1 | B192: Datenbasis ist das Jahr 2024; siehe zur näheren Erläuterung Erdmann, J./Mühlmann, T. (2026); verfügbar unter: https://www.akjstat.tu-dortmund.de/fileadmin/user_upload/Neuberechnung_Jugendamtstypen_HzE_NRW_2026_Datenbasis_2024.pdf
A196: 3 | B196: 1: Kreisfreie Städte; 2: Landkreise; 3: kreisangehörige Jugendämter mit weniger als 50.000 Einwohner:innen; 4: kreisangehörige Jugendämter mit 50.000 und mehr Einwohner:innen.
A198: 4 | B198: Die ursprünglich kreisfreie Stadt Aachen hat mit der Gründung des Kommunalverbandes „Städteregion Aachen“ als regionsangehörige Stadt mit teilweisen Rechten einer kreisfreien Stadt einen Sonderstatus. Für die Ergebnisdarstellung nach den Jugendamtsbezirken wird die Stadt Aachen als kreisfreie Stadt behandelt.
A202: 5 | B202: Die Gemeinde Breckerfeld im Ennepe-Ruhr-Kreis ist die einzige kreisangehörige Gemeinde im Kreis ohne ein eigenes Jugendamt. Da ein Kreisjugendamt nicht mehr besteht, ist das Jugendamt Ennepetal auch für Breckerfeld zuständig.
A206: Quelle: Zusammenstellung und Berechnung Arbeitsstelle Kinder- und Jugendhilfestatistik

Sheet Tab 2. Bevölkerung
A1: Tabelle 2: Bevölkerung in den Jugendamtsbezirken in Nordrhein-Westfalen 2024
A2: (Angaben der Bevölkerungsfortschreibung zum 31.12.2024 basieren auf dem Zensus 2022)
A3: Jugend-amtstyp [JAT] (2024) (1-10) | B3: Belastungs-klasse (2024) (1-4) | C3: Strukturtyp (2024) (1-4) | D3: KKZ | E3: Jugendamtsbezirke | F3: insg. (unter 21 Jahren) | G3: Alter von … bis unter … Jahren | M3: weitere Altersgruppen | P3: Geschlecht | X3: Insgesamt
G5: 0-3 | H5: 3-6 | I5: 6-10 | J5: 10-14 | K5: 14-18 | L5: 18 und älter (18 bis unter 21 J.) | M5: 0 bis unter 6 Jahre | N5: unter 10 Jahre | O5: 10 bis unter 21 Jahre | P5: männlich (unter 21 J.) | Q5: weiblich (unter 21 J.) | R5: männlich (6 bis unter 10) | S5: weiblich (6 bis unter 10) | T5: männlich (10 bis unter 21 J.) | U5: weiblich (10 bis unter 21 J.) | V5: männlich (6 bis unter 21) | W5: weiblich (6 bis unter 21) | X5: 6 bis unter 21 Jahre | Y5: 6 bis unter 10 Jahre | Z5: 10 bis unter 21 Jahre
A6: 2 | B6: 2 | C6: 1 | D6: 111000 | E6: Düsseldorf, krfr. Stadt | F6: 113973 | G6: 16116 | H6: 15989 | I6: 22216 | J6: 21547 | K6: 21602 | L6: 16503 | M6: 32105 | N6: 54321 | O6: 59652 | P6: 59295 | Q6: 54678 | R6: 11577 | S6: 10639 | T6: 31041 | U6: 28611 | V6: 42618 | W6: 39250 | X6: 81868 | Y6: 22216 | Z6: 59652
A7: 1 | B7: 1 | C7: 1 | D7: 112000 | E7: Duisburg, krfr. Stadt | F7: 106479 | G7: 14347 | H7: 15439 | I7: 21192 | J7: 19623 | K7: 20134 | L7: 15744 | M7: 29786 | N7: 50978 | O7: 55501 | P7: 55005 | Q7: 51474 | R7: 10938 | S7: 10254 | T7: 28713 | U7: 26788 | V7: 39651 | W7: 37042 | X7: 76693 | Y7: 21192 | Z7: 55501
A8: 1 | B8: 1 | C8: 1 | D8: 113000 | E8: Essen, krfr. Stadt | F8: 114664 | G8: 15853 | H8: 16769 | I8: 22925 | J8: 21134 | K8: 21214 | L8: 16769 | M8: 32622 | N8: 55547 | O8: 59117 | P8: 59210 | Q8: 55454 | R8: 11868 | S8: 11057 | T8: 30658 | U8: 28459 | V8: 42526 | W8: 39516 | X8: 82042 | Y8: 22925 | Z8: 59117
A9: 1 | B9: 1 | C9: 1 | D9: 114000 | E9: Krefeld, krfr. Stadt | F9: 45724 | G9: 5959 | H9: 6328 | I9: 9048 | J9: 8561 | K9: 8897 | L9: 6931 | M9: 12287 | N9: 21335 | O9: 24389 | P9: 23788 | Q9: 21936 | R9: 4647 | S9: 4401 | T9: 12780 | U9: 11609 | V9: 17427 | W9: 16010 | X9: 33437 | Y9: 9048 | Z9: 24389
A10: 1 | B10: 1 | C10: 1 | D10: 116000 | E10: Mönchengladbach, krfr. Stadt | F10: 53817 | G10: 7304 | H10: 7790 | I10: 10672 | J10: 9761 | K10: 10205 | L10: 8085 | M10: 15094 | N10: 25766 | O10: 28051 | P10: 27885 | Q10: 25932 | R10: 5530 | S10: 5142 | T10: 14621 | U10: 13430 | V10: 20151 | W10: 18572 | X10: 38723 | Y10: 10672 | Z10: 28051
A11: 1 | B11: 1 | C11: 1 | D11: 117000 | E11: Mülheim an der Ruhr, krfr. Stadt | F11: 34023 | G11: 4401 | H11: 4994 | I11: 7000 | J11: 6564 | K11: 6409 | L11: 4655 | M11: 9395 | N11: 16395 | O11: 17628 | P11: 17512 | Q11: 16511 | R11: 3616 | S11: 3384 | T11: 9106 | U11: 8522 | V11: 12722 | W11: 11906 | X11: 24628 | Y11: 7000 | Z11: 17628
A12: 1 | B12: 1 | C12: 1 | D12: 119000 | E12: Oberhausen, krfr. Stadt | F12: 42449 | G12: 5416 | H12: 6218 | I12: 8625 | J12: 8119 | K12: 8022 | L12: 6049 | M12: 11634 | N12: 20259 | O12: 22190 | P12: 21560 | Q12: 20889 | R12: 4399 | S12: 4226 | T12: 11297 | U12: 10893 | V12: 15696 | W12: 15119 | X12: 30815 | Y12: 8625 | Z12: 22190
A13: 2 | B13: 2 | C13: 1 | D13: 120000 | E13: Remscheid, krfr. Stadt | F13: 22748 | G13: 2917 | H13: 3268 | I13: 4480 | J13: 4276 | K13: 4418 | L13: 3389 | M13: 6185 | N13: 10665 | O13: 12083 | P13: 11772 | Q13: 10976 | R13: 2313 | S13: 2167 | T13: 6269 | U13: 5814 | V13: 8582 | W13: 7981 | X13: 16563 | Y13: 4480 | Z13: 12083
A14: 2 | B14: 2 | C14: 1 | D14: 122000 | E14: Solingen, krfr. Stadt | F14: 33005 | G14: 4114 | H14: 4893 | I14: 6538 | J14: 6084 | K14: 6417 | L14: 4959 | M14: 9007 | N14: 15545 | O14: 17460 | P14: 17190 | Q14: 15815 | R14: 3421 | S14: 3117 | T14: 9130 | U14: 8330 | V14: 12551 | W14: 11447 | X14: 23998 | Y14: 6538 | Z14: 17460
A15: 1 | B15: 1 | C15: 1 | D15: 124000 | E15: Wuppertal, krfr. Stadt | F15: 74388 | G15: 9525 | H15: 10565 | I15: 14637 | J15: 13900 | K15: 14102 | L15: 11659 | M15: 20090 | N15: 34727 | O15: 39661 | P15: 38610 | Q15: 35778 | R15: 7561 | S15: 7076 | T15: 20631 | U15: 19030 | V15: 28192 | W15: 26106 | X15: 54298 | Y15: 14637 | Z15: 39661
A16: 3 | B16: 4 | C16: 2 | D16: 154000 | E16: Kleve, Kreis | F16: 27338 | G16: 3532 | H16: 4179 | I16: 5385 | J16: 4994 | K16: 5078 | L16: 4170 | M16: 7711 | N16: 13096 | O16: 14242 | P16: 14092 | Q16: 13246 | R16: 2729 | S16: 2656 | T16: 7402 | U16: 6840 | V16: 10131 | W16: 9496 | X16: 19627 | Y16: 5385 | Z16: 14242
A17: 5 | B17: 3 | C17: 3 | D17: 154008 | E17: Emmerich am Rhein, Stadt | F17: 6463 | G17: 881 | H17: 1009 | I17: 1247 | J17: 1190 | K17: 1202 | L17: 934 | M17: 1890 | N17: 3137 | O17: 3326 | P17: 3482 | Q17: 2981 | R17: 628 | S17: 619 | T17: 1835 | U17: 1491 | V17: 2463 | W17: 2110 | X17: 4573 | Y17: 1247 | Z17: 3326
... A191: 5 | B191: 3 | C191: 3 | D191: 978040 | E191: Werne, Stadt | F191: 5438 | G191: 695 | H191: 768 | I191: 1090 | J191: 1028 | K191: 1087 | L191: 770 | M191: 1463 | N191: 2553 | O191: 2885 | P191: 2745 | Q191: 2693 | R191: 515 | S191: 575 | T191: 1492 | U191: 1393 | V191: 2007 | W191: 1968 | X191: 3975 | Y191: 1090 | Z191: 2885
E192: Nordrhein-Westfalen | F192: 3602911 | G192: 474056 | H192: 520177 | I192: 709988 | J192: 672396 | K192: 686889 | L192: 539405 | M192: 994233 | N192: 1704221 | O192: 1898690 | P192: 1858393 | Q192: 1744518 | R192: 364346 | S192: 345642 | T192: 983329 | U192: 915361 | V192: 1347675 | W192: 1261003 | X192: 2608678 | Y192: 709988 | Z192: 1898690
E193: Rheinland | F193: 1922425 | G193: 252113 | H193: 276282 | I193: 380344 | J193: 360507 | K193: 366366 | L193: 286813 | M193: 528395 | N193: 908739 | O193: 1013686 | P193: 992226 | Q193: 930199 | R193: 195441 | S193: 184903 | T193: 525408 | U193: 488278 | V193: 720849 | W193: 673181 | X193: 1394030 | Y193: 380344 | Z193: 1013686
E194: Westfalen-Lippe | F194: 1680486 | G194: 221943 | H194: 243895 | I194: 329644 | J194: 311889 | K194: 320523 | L194: 252592 | M194: 465838 | N194: 795482 | O194: 885004 | P194: 866167 | Q194: 814319 | R194: 168905 | S194: 160739 | T194: 457921 | U194: 427083 | V194: 626826 | W194: 587822 | X194: 1214648 | Y194: 329644 | Z194: 885004
A196: Sortierung nach Jugendamtstypen und innerhalb der Jugendamtstypen alphabetisch
A197: 1 | B197: 1 | C197: 1 | D197: 913000 | E197: Dortmund, krfr. Stadt | F197: 122202 | G197: 16601 | H197: 17682 | I197: 24014 | J197: 22563 | K197: 22893 | L197: 18449 | M197: 34283 | N197: 58297 | O197: 63905 | P197: 62372 | Q197: 59830 | R197: 12183 | S197: 11831 | T197: 32550 | U197: 31355 | V197: 44733 | W197: 43186 | X197: 87919 | Y197: 24014 | Z197: 63905
A198: 1 | B198: 1 | C198: 1 | D198: 112000 | E198: Duisburg, krfr. Stadt | F198: 106479 | G198: 14347 | H198: 15439 | I198: 21192 | J198: 19623 | K198: 20134 | L198: 15744 | M198: 29786 | N198: 50978 | O198: 55501 | P198: 55005 | Q198: 51474 | R198: 10938 | S198: 10254 | T198: 28713 | U198: 26788 | V198: 39651 | W198: 37042 | X198: 76693 | Y198: 21192 | Z198: 55501
A199: 1 | B199: 1 | C199: 1 | D199: 113000 | E199: Essen, krfr. Stadt | F199: 114664 | G199: 15853 | H199: 16769 | I199: 22925 | J199: 21134 | K199: 21214 | L199: 16769 | M199: 32622 | N199: 55547 | O199: 59117 | P199: 59210 | Q199: 55454 | R199: 11868 | S199: 11057 | T199: 30658 | U199: 28459 | V199: 42526 | W199: 39516 | X199: 82042 | Y199: 22925 | Z199: 59117
A200: 1 | B200: 1 | C200: 1 | D200: 513000 | E200: Gelsenkirchen, krfr. Stadt | F200: 60293 | G200: 8354 | H200: 8997 | I200: 11953 | J200: 10986 | K200: 11254 | L200: 8749 | M200: 17351 | N200: 29304 | O200: 30989 | P200: 31064 | Q200: 29229 | R200: 6096 | S200: 5857 | T200: 16083 | U200: 14906 | V200: 22179 | W200: 20763 | X200: 42942 | Y200: 11953 | Z200: 30989
A201: 1 | B201: 1 | C201: 1 | D201: 914000 | E201: Hagen, krfr. Stadt | F201: 40650 | G201: 5558 | H201: 5973 | I201: 7863 | J201: 7503 | K201: 7806 | L201: 5947 | M201: 11531 | N201: 19394 | O201: 21256 | P201: 20942 | Q201: 19708 | R201: 4035 | S201: 3828 | T201: 11043 | U201: 10213 | V201: 15078 | W201: 14041 | X201: 29119 | Y201: 7863 | Z201: 21256
A202: 1 | B202: 1 | C202: 1 | D202: 916000 | E202: Herne, krfr. Stadt | F202: 31741 | G202: 4399 | H202: 4583 | I202: 6135 | J202: 5931 | K202: 6010 | L202: 4683 | M202: 8982 | N202: 15117 | O202: 16624 | P202: 16509 | Q202: 15232 | R202: 3204 | S202: 2931 | T202: 8677 | U202: 7947 | V202: 11881 | W202: 10878 | X202: 22759 | Y202: 6135 | Z202: 16624
A203: 1 | B203: 1 | C203: 1 | D203: 116000 | E203: Mönchengladbach, krfr. Stadt | F203: 53817 | G203: 7304 | H203: 7790 | I203: 10672 | J203: 9761 | K203: 10205 | L203: 8085 | M203: 15094 | N203: 25766 | O203: 28051 | P203: 27885 | Q203: 25932 | R203: 5530 | S203: 5142 | T203: 14621 | U203: 13430 | V203: 20151 | W203: 18572 | X203: 38723 | Y203: 10672 | Z203: 28051
A204: 1 | B204: 1 | C204: 1 | D204: 117000 | E204: Mülheim an der Ruhr, krfr. Stadt | F204: 34023 | G204: 4401 | H204: 4994 | I204: 7000 | J204: 6564 | K204: 6409 | L204: 4655 | M204: 9395 | N204: 16395 | O204: 17628 | P204: 17512 | Q204: 16511 | R204: 3616 | S204: 3384 | T204: 9106 | U204: 8522 | V204: 12722 | W204: 11906 | X204: 24628 | Y204: 7000 | Z204: 17628
A205: 1 | B205: 1 | C205: 1 | D205: 119000 | E205: Oberhausen, krfr. Stadt | F205: 42449 | G205: 5416 | H205: 6218 | I205: 8625 | J205: 8119 | K205: 8022 | L205: 6049 | M205: 11634 | N205: 20259 | O205: 22190 | P205: 21560 | Q205: 20889 | R205: 4399 | S205: 4226 | T205: 11297 | U205: 10893 | V205: 15696 | W205: 15119 | X205: 30815 | Y205: 8625 | Z205: 22190
A206: 1 | B206: 1 | C206: 1 | D206: 124000 | E206: Wuppertal, krfr. Stadt | F206: 74388 | G206: 9525 | H206: 10565 | I206: 14637 | J206: 13900 | K206: 14102 | L206: 11659 | M206: 20090 | N206: 34727 | O206: 39661 | P206: 38610 | Q206: 35778 | R206: 7561 | S206: 7076 | T206: 20631 | U206: 19030 | V206: 28192 | W206: 26106 | X206: 54298 | Y206: 14637 | Z206: 39661
E207: Jugendamtstyp 1 | F207: 680706 | G207: 91758 | H207: 99010 | I207: 135016 | J207: 126084 | K207: 128049 | L207: 100789 | M207: 190768 | N207: 325784 | O207: 354922 | P207: 350669 | Q207: 330037 | R207: 69430 | S207: 65586 | T207: 183379 | U207: 171543 | V207: 252809 | W207: 237129 | X207: 489938 | Y207: 135016 | Z207: 354922
A208: 2 | B208: 2 | C208: 1 | D208: 334002 | E208: Aachen, Stadt | F208: 46660 | G208: 5562 | H208: 6157 | I208: 7976 | J208: 7723 | K208: 8037 | L208: 11205 | M208: 11719 | N208: 19695 | O208: 26965 | P208: 24332 | Q208: 22328 | R208: 4052 | S208: 3924 | T208: 14302 | U208: 12663 | V208: 18354 | W208: 16587 | X208: 34941 | Y208: 7976 | Z208: 26965
A209: 2 | B209: 2 | C209: 1 | D209: 711000 | E209: Bielefeld, krfr. Stadt | F209: 68117 | G209: 9130 | H209: 9713 | I209: 12950 | J209: 12460 | K209: 12781 | L209: 11083 | M209: 18843 | N209: 31793 | O209: 36324 | P209: 34666 | Q209: 33451 | R209: 6589 | S209: 6361 | T209: 18459 | U209: 17865 | V209: 25048 | W209: 24226 | X209: 49274 | Y209: 12950 | Z209: 36324
A210: 2 | B210: 2 | C210: 1 | D210: 911000 | E210: Bochum, krfr. Stadt | F210: 65516 | G210: 8918 | H210: 9475 | I210: 12788 | J210: 12101 | K210: 11844 | L210: 10390 | M210: 18393 | N210: 31181 | O210: 34335 | P210: 33568 | Q210: 31948 | R210: 6523 | S210: 6265 | T210: 17655 | U210: 16680 | V210: 24178 | W210: 22945 | X210: 47123 | Y210: 12788 | Z210: 34335
A211: 2 | B211: 2 | C211: 1 | D211: 314000 | E211: Bonn, krfr. Stadt | F211: 64779 | G211: 8285 | H211: 8543 | I211: 11955 | J211: 12071 | K211: 12454 | L211: 11471 | M211: 16828 | N211: 28783 | O211: 35996 | P211: 33090 | Q211: 31689 | R211: 6170 | S211: 5785 | T211: 18259 | U211: 17737 | V211: 24429 | W211: 23522 | X211: 47951 | Y211: 11955 | Z211: 35996
A212: 2 | B212: 2 | C212: 1 | D212: 512000 | E212: Bottrop, krfr. Stadt | F212: 22697 | G212: 3095 | H212: 3455 | I212: 4547 | J212: 4256 | K212: 4231 | L212: 3113 | M212: 6550 | N212: 11097 | O212: 11600 | P212: 11669 | Q212: 11028 | R212: 2331 | S212: 2216 | T212: 6000 | U212: 5600 | V212: 8331 | W212: 7816 | X212: 16147 | Y212: 4547 | Z212: 11600
A213: 2 | B213: 3 | C213: 1 | D213: 111000 | E213: Düsseldorf, krfr. Stadt | F213: 113973 | G213: 16116 | H213: 15989 | I213: 22216 | J213: 21547 | K213: 21602 | L213: 16503 | M213: 32105 | N213: 54321 | O213: 59652 | P213: 59295 | Q213: 54678 | R213: 11577 | S213: 10639 | T213: 31041 | U213: 28611 | V213: 42618 | W213: 39250 | X213: 81868 | Y213: 22216 | Z213: 59652
A214: 2 | B214: 3 | C214: 1 | D214: 915000 | E214: Hamm, krfr. Stadt | F214: 37188 | G214: 4806 | H214: 5139 | I214: 7191 | J214: 6883 | K214: 7376 | L214: 5793 | M214: 9945 | N214: 17136 | O214: 20052 | P214: 19049 | Q214: 18139 | R214: 3619 | S214: 3572 | T214: 10325 | U214: 9727 | V214: 13944 | W214: 13299 | X214: 27243 | Y214: 7191 | Z214: 20052
A215: 2 | B215: 2 | C215: 1 | D215: 315000 | E215: Köln, krfr. Stadt | F215: 192626 | G215: 27273 | H215: 26777 | I215: 36820 | J215: 35766 | K215: 36350 | L215: 29640 | M215: 54050 | N215: 90870 | O215: 101756 | P215: 98815 | Q215: 93811 | R215: 18998 | S215: 17822 | T215: 52128 | U215: 49628 | V215: 71126 | W215: 67450 | X215: 138576 | Y215: 36820 | Z215: 101756
A216: 2 | B216: 2 | C216: 1 | D216: 114000 | E216: Krefeld, krfr. Stadt | F216: 45724 | G216: 5959 | H216: 6328 | I216: 9048 | J216: 8561 | K216: 8897 | L216: 6931 | M216: 12287 | N216: 21335 | O216: 24389 | P216: 23788 | Q216: 21936 | R216: 4647 | S216: 4401 | T216: 12780 | U216: 11609 | V216: 17427 | W216: 16010 | X216: 33437 | Y216: 9048 | Z216: 24389
A217: 2 | B217: 2 | C217: 1 | D217: 316000 | E217: Leverkusen, krfr. Stadt | F217: 34021 | G217: 4334 | H217: 4843 | I217: 6673 | J217: 6566 | K217: 6631 | L217: 4974 | M217: 9177 | N217: 15850 | O217: 18171 | P217: 17394 | Q217: 16627 | R217: 3379 | S217: 3294 | T217: 9298 | U217: 8873 | V217: 12677 | W217: 12167 | X217: 24844 | Y217: 6673 | Z217: 18171
A218: 2 | B218: 3 | C218: 1 | D218: 515000 | E218: Münster, krfr. Stadt | F218: 58629 | G218: 7534 | H218: 7785 | I218: 10805 | J218: 9986 | K218: 10170 | L218: 12349 | M218: 15319 | N218: 26124 | O218: 32505 | P218: 29539 | Q218: 29090 | R218: 5627 | S218: 5178 | T218: 16043 | U218: 16462 | V218: 21670 | W218: 21640 | X218: 43310 | Y218: 10805 | Z218: 32505
A219: 2 | B219: 2 | C219: 1 | D219: 120000 | E219: Remscheid, krfr. Stadt | F219: 22748 | G219: 2917 | H219: 3268 | I219: 4480 | J219: 4276 | K219: 4418 | L219: 3389 | M219: 6185 | N219: 10665 | O219: 12083 | P219: 11772 | Q219: 10976 | R219: 2313 | S219: 2167 | T219: 6269 | U219: 5814 | V219: 8582 | W219: 7981 | X219: 16563 | Y219: 4480 | Z219: 12083
A220: 2 | B220: 2 | C220: 1 | D220: 122000 | E220: Solingen, krfr. Stadt | F220: 33005 | G220: 4114 | H220: 4893 | I220: 6538 | J220: 6084 | K220: 6417 | L220: 4959 | M220: 9007 | N220: 15545 | O220: 17460 | P220: 17190 | Q220: 15815 | R220: 3421 | S220: 3117 | T220: 9130 | U220: 8330 | V220: 12551 | W220: 11447 | X220: 23998 | Y220: 6538 | Z220: 17460
E221: Jugendamtstyp 2 | F221: 805683 | G221: 108043 | H221: 112365 | I221: 153987 | J221: 148280 | K221: 151208 | L221: 131800 | M221: 220408 | N221: 374395 | O221: 431288 | P221: 414167 | Q221: 391516 | R221: 79246 | S221: 74741 | T221: 221689 | U221: 209599 | V221: 300935 | W221: 284340 | X221: 585275 | Y221: 153987 | Z221: 431288
A222: 3 | B222: 3 | C222: 2 | D222: 334000 | E222: Aachen, Kreis | F222: 13545 | G222: 1780 | H222: 2055 | I222: 2700 | J222: 2560 | K222: 2490 | L222: 1960 | M222: 3835 | N222: 6535 | O222: 7010 | P222: 6944 | Q222: 6601 | R222: 1360 | S222: 1340 | T222: 3601 | U222: 3409 | V222: 4961 | W222: 4749 | X222: 9710 | Y222: 2700 | Z222: 7010
A223: 3 | B223: 4 | C223: 2 | D223: 554000 | E223: Borken, Kreis | F223: 37642 | G223: 5074 | H223: 5712 | I223: 7439 | J223: 6927 | K223: 7211 | L223: 5279 | M223: 10786 | N223: 18225 | O223: 19417 | P223: 19017 | Q223: 18625 | R223: 3799 | S223: 3640 | T223: 9794 | U223: 9623 | V223: 13593 | W223: 13263 | X223: 26856 | Y223: 7439 | Z223: 19417
A224: 3 | B224: 4 | C224: 2 | D224: 558000 | E224: Coesfeld, Kreis | F224: 29264 | G224: 3826 | H224: 4482 | I224: 6018 | J224: 5402 | K224: 5514 | L224: 4022 | M224: 8308 | N224: 14326 | O224: 14938 | P224: 15068 | Q224: 14196 | R224: 3020 | S224: 2998 | T224: 7774 | U224: 7164 | V224: 10794 | W224: 10162 | X224: 20956 | Y224: 6018 | Z224: 14938
A225: 3 | B225: 4 | C225: 2 | D225: 358000 | E225: Düren, Kreis | F225: 36245 | G225: 4910 | H225: 5682 | I225: 7406 | J225: 6580 | K225: 6700 | L225: 4967 | M225: 10592 | N225: 17998 | O225: 18247 | P225: 19025 | Q225: 17220 | R225: 3802 | S225: 3604 | T225: 9748 | U225: 8499 | V225: 13550 | W225: 12103 | X225: 25653 | Y225: 7406 | Z225: 18247
A226: 3 | B226: 4 | C226: 2 | D226: 366000 | E226: Euskirchen, Kreis | F226: 40235 | G226: 5103 | H226: 5943 | I226: 8106 | J226: 7553 | K226: 7667 | L226: 5863 | M226: 11046 | N226: 19152 | O226: 21083 | P226: 21008 | Q226: 19227 | R226: 4126 | S226: 3980 | T226: 11118 | U226: 9965 | V226: 15244 | W226: 13945 | X226: 29189 | Y226: 8106 | Z226: 21083
A227: 3 | B227: 4 | C227: 2 | D227: 754000 | E227: Gütersloh, Kreis | F227: 40377 | G227: 5301 | H227: 5826 | I227: 7854 | J227: 7523 | K227: 7850 | L227: 6023 | M227: 11127 | N227: 18981 | O227: 21396 | P227: 20793 | Q227: 19584 | R227: 4031 | S227: 3823 | T227: 11027 | U227: 10369 | V227: 15058 | W227: 14192 | X227: 29250 | Y227: 7854 | Z227: 21396
A228: 3 | B228: 4 | C228: 2 | D228: 370000 | E228: Heinsberg, Kreis | F228: 20607 | G228: 2649 | H228: 3147 | I228: 4257 | J228: 3729 | K228: 3930 | L228: 2895 | M228: 5796 | N228: 10053 | O228: 10554 | P228: 10540 | Q228: 10067 | R228: 2099 | S228: 2158 | T228: 5460 | U228: 5094 | V228: 7559 | W228: 7252 | X228: 14811 | Y228: 4257 | Z228: 10554
A229: 3 | B229: 4 | C229: 2 | D229: 758000 | E229: Herford, Kreis | F229: 20153 | G229: 2454 | H229: 3033 | I229: 4066 | J229: 3742 | K229: 3952 | L229: 2906 | M229: 5487 | N229: 9553 | O229: 10600 | P229: 10465 | Q229: 9688 | R229: 2125 | S229: 1941 | T229: 5484 | U229: 5116 | V229: 7609 | W229: 7057 | X229: 14666 | Y229: 4066 | Z229: 10600
A230: 3 | B230: 4 | C230: 2 | D230: 958000 | E230: Hochsauerlandkreis | F230: 25630 | G230: 3457 | H230: 3654 | I230: 4872 | J230: 4716 | K230: 4946 | L230: 3985 | M230: 7111 | N230: 11983 | O230: 13647 | P230: 13528 | Q230: 12102 | R230: 2534 | S230: 2338 | T230: 7280 | U230: 6367 | V230: 9814 | W230: 8705 | X230: 18519 | Y230: 4872 | Z230: 13647
A231: 3 | B231: 4 | C231: 2 | D231: 762000 | E231: Höxter, Kreis | F231: 27308 | G231: 3502 | H231: 3908 | I231: 5288 | J231: 5084 | K231: 5468 | L231: 4058 | M231: 7410 | N231: 12698 | O231: 14610 | P231: 14139 | Q231: 13169 | R231: 2704 | S231: 2584 | T231: 7673 | U231: 6937 | V231: 10377 | W231: 9521 | X231: 19898 | Y231: 5288 | Z231: 14610
A232: 3 | B232: 4 | C232: 2 | D232: 154000 | E232: Kleve, Kreis | F232: 27338 | G232: 3532 | H232: 4179 | I232: 5385 | J232: 4994 | K232: 5078 | L232: 4170 | M232: 7711 | N232: 13096 | O232: 14242 | P232: 14092 | Q232: 13246 | R232: 2729 | S232: 2656 | T232: 7402 | U232: 6840 | V232: 10131 | W232: 9496 | X232: 19627 | Y232: 5385 | Z232: 14242
A233: 3 | B233: 4 | C233: 2 | D233: 766000 | E233: Lippe, Kreis | F233: 30282 | G233: 3922 | H233: 4391 | I233: 6117 | J233: 5732 | K233: 5916 | L233: 4204 | M233: 8313 | N233: 14430 | O233: 15852 | P233: 15709 | Q233: 14573 | R233: 3145 | S233: 2972 | T233: 8253 | U233: 7599 | V233: 11398 | W233: 10571 | X233: 21969 | Y233: 6117 | Z233: 15852
... A248: 3 | B248: 4 | C248: 2 | D248: 170000 | E248: Wesel, Kreis | F248: 23194 | G248: 3004 | H248: 3514 | I248: 4772 | J248: 4346 | K248: 4366 | L248: 3192 | M248: 6518 | N248: 11290 | O248: 11904 | P248: 11748 | Q248: 11446 | R248: 2415 | S248: 2357 | T248: 6085 | U248: 5819 | V248: 8500 | W248: 8176 | X248: 16676 | Y248: 4772 | Z248: 11904
E249: Jugendamtstyp 3 | F249: 754660 | G249: 97678 | H249: 112106 | I249: 150900 | J249: 141319 | K249: 144501 | L249: 108156 | M249: 209784 | N249: 360684 | O249: 393976 | P249: 389567 | Q249: 365093 | R249: 76891 | S249: 74009 | T249: 204893 | U249: 189083 | V249: 281784 | W249: 263092 | X249: 544876 | Y249: 150900 | Z249: 393976
A250: 4 | B250: 2 | C250: 3 | D250: 334004 | E250: Alsdorf, Stadt | F250: 10047 | G250: 1263 | H250: 1469 | I250: 2023 | J250: 1897 | K250: 1963 | L250: 1432 | M250: 2732 | N250: 4755 | O250: 5292 | P250: 5210 | Q250: 4837 | R250: 1014 | S250: 1009 | T250: 2777 | U250: 2515 | V250: 3791 | W250: 3524 | X250: 7315 | Y250: 2023 | Z250: 5292
A251: 4 | B251: 2 | C251: 3 | D251: 962004 | E251: Altena, Stadt | F251: 3063 | G251: 387 | H251: 450 | I251: 603 | J251: 561 | K251: 600 | L251: 462 | M251: 837 | N251: 1440 | O251: 1623 | P251: 1629 | Q251: 1434 | R251: 309 | S251: 294 | T251: 876 | U251: 747 | V251: 1185 | W251: 1041 | X251: 2226 | Y251: 603 | Z251: 1623
A252: 4 | B252: 2 | C252: 3 | D252: 978004 | E252: Bergkamen, Stadt | F252: 9985 | G252: 1396 | H252: 1371 | I252: 1975 | J252: 1868 | K252: 1907 | L252: 1468 | M252: 2767 | N252: 4742 | O252: 5243 | P252: 5234 | Q252: 4751 | R252: 1000 | S252: 975 | T252: 2767 | U252: 2476 | V252: 3767 | W252: 3451 | X252: 7218 | Y252: 1975 | Z252: 5243
A253: 4 | B253: 2 | C253: 3 | D253: 562008 | E253: Datteln, Stadt | F253: 6962 | G253: 907 | H253: 1030 | I253: 1380 | J253: 1335 | K253: 1304 | L253: 1006 | M253: 1937 | N253: 3317 | O253: 3645 | P253: 3556 | Q253: 3406 | R253: 689 | S253: 691 | T253: 1881 | U253: 1764 | V253: 2570 | W253: 2455 | X253: 5025 | Y253: 1380 | Z253: 3645
A254: 4 | B254: 2 | C254: 3 | D254: 158004 | E254: Erkrath, Stadt | F254: 8497 | G254: 999 | H254: 1203 | I254: 1696 | J254: 1690 | K254: 1694 | L254: 1215 | M254: 2202 | N254: 3898 | O254: 4599 | P254: 4270 | Q254: 4227 | R254: 835 | S254: 861 | T254: 2341 | U254: 2258 | V254: 3176 | W254: 3119 | X254: 6295 | Y254: 1696 | Z254: 4599
A255: 4 | B255: 2 | C255: 3 | D255: 954012 | E255: Gevelsberg, Stadt | F255: 5569 | G255: 787 | H255: 863 | I255: 1142 | J255: 1012 | K255: 999 | L255: 766 | M255: 1650 | N255: 2792 | O255: 2777 | P255: 2854 | Q255: 2715 | R255: 570 | S255: 572 | T255: 1439 | U255: 1338 | V255: 2009 | W255: 1910 | X255: 3919 | Y255: 1142 | Z255: 2777
A256: 4 | B256: 2 | C256: 3 | D256: 158012 | E256: Heiligenhaus, Stadt | F256: 5279 | G256: 637 | H256: 735 | I256: 1056 | J256: 1069 | K256: 1036 | L256: 746 | M256: 1372 | N256: 2428 | O256: 2851 | P256: 2911 | Q256: 2368 | R256: 611 | S256: 445 | T256: 1579 | U256: 1272 | V256: 2190 | W256: 1717 | X256: 3907 | Y256: 1056 | Z256: 2851
A257: 4 | B257: 2 | C257: 3 | D257: 158026 | E257: Monheim am Rhein, Stadt | F257: 10062 | G257: 1404 | H257: 1697 | I257: 2091 | J257: 1857 | K257: 1757 | L257: 1256 | M257: 3101 | N257: 5192 | O257: 4870 | P257: 5061 | Q257: 5001 | R257: 1060 | S257: 1031 | T257: 2448 | U257: 2422 | V257: 3508 | W257: 3453 | X257: 6961 | Y257: 2091 | Z257: 4870
A258: 4 | B258: 2 | C258: 3 | D258: 954024 | E258: Schwelm, Stadt | F258: 5562 | G258: 743 | H258: 822 | I258: 1160 | J258: 1070 | K258: 1000 | L258: 767 | M258: 1565 | N258: 2725 | O258: 2837 | P258: 2909 | Q258: 2653 | R258: 604 | S258: 556 | T258: 1510 | U258: 1327 | V258: 2114 | W258: 1883 | X258: 3997 | Y258: 1160 | Z258: 2837
A259: 4 | B259: 2 | C259: 3 | D259: 962060 | E259: Werdohl, Stadt | F259: 3857 | G259: 500 | H259: 554 | I259: 767 | J259: 726 | K259: 757 | L259: 553 | M259: 1054 | N259: 1821 | O259: 2036 | P259: 1999 | Q259: 1858 | R259: 407 | S259: 360 | T259: 1047 | U259: 989 | V259: 1454 | W259: 1349 | X259: 2803 | Y259: 767 | Z259: 2036
E260: Jugendamtstyp 4 | F260: 68883 | G260: 9023 | H260: 10194 | I260: 13893 | J260: 13085 | K260: 13017 | L260: 9671 | M260: 19217 | N260: 33110 | O260: 35773 | P260: 35633 | Q260: 33250 | R260: 7099 | S260: 6794 | T260: 18665 | U260: 17108 | V260: 25764 | W260: 23902 | X260: 49666 | Y260: 13893 | Z260: 35773
A261: 5 | B261: 3 | C261: 3 | D261: 570008 | E261: Beckum, Stadt | F261: 7485 | G261: 1007 | H261: 1086 | I261: 1403 | J261: 1362 | K261: 1455 | L261: 1172 | M261: 2093 | N261: 3496 | O261: 3989 | P261: 3780 | Q261: 3705 | R261: 675 | S261: 728 | T261: 2067 | U261: 1922 | V261: 2742 | W261: 2650 | X261: 5392 | Y261: 1403 | Z261: 3989
A262: 5 | B262: 3 | C262: 3 | D262: 758004 | E262: Bünde, Stadt | F262: 9265 | G262: 1058 | H262: 1335 | I262: 1852 | J262: 1757 | K262: 1840 | L262: 1423 | M262: 2393 | N262: 4245 | O262: 5020 | P262: 4773 | Q262: 4492 | R262: 940 | S262: 912 | T262: 2594 | U262: 2426 | V262: 3534 | W262: 3338 | X262: 6872 | Y262: 1852 | Z262: 5020
A263: 5 | B263: 3 | C263: 3 | D263: 362016 | E263: Elsdorf, Stadt | F263: 4487 | G263: 624 | H263: 692 | I263: 876 | J263: 844 | K263: 833 | L263: 618 | M263: 1316 | N263: 2192 | O263: 2295 | P263: 2366 | Q263: 2121 | R263: 471 | S263: 405 | T263: 1210 | U263: 1085 | V263: 1681 | W263: 1490 | X263: 3171 | Y263: 876 | Z263: 2295
A264: 5 | B264: 3 | C264: 3 | D264: 154008 | E264: Emmerich am Rhein, Stadt | F264: 6463 | G264: 881 | H264: 1009 | I264: 1247 | J264: 1190 | K264: 1202 | L264: 934 | M264: 1890 | N264: 3137 | O264: 3326 | P264: 3482 | Q264: 2981 | R264: 628 | S264: 619 | T264: 1835 | U264: 1491 | V264: 2463 | W264: 2110 | X264: 4573 | Y264: 1247 | Z264: 3326
A265: 5 | B265: 3 | C265: 3 | D265: 954008 | E265: Ennepetal, Stadt (incl. Stadt Breckerfeld) | F265: 7693 | G265: 991 | H265: 1240 | I265: 1569 | J265: 1444 | K265: 1392 | L265: 1057 | M265: 2231 | N265: 3800 | O265: 3893 | P265: 3929 | Q265: 3764 | R265: 813 | S265: 756 | T265: 1973 | U265: 1920 | V265: 2786 | W265: 2676 | X265: 5462 | Y265: 1569 | Z265: 3893
A266: 5 | B266: 3 | C266: 3 | D266: 370012 | E266: Geilenkirchen, Stadt | F266: 6019 | G266: 776 | H266: 831 | I266: 1120 | J266: 1081 | K266: 1188 | L266: 1023 | M266: 1607 | N266: 2727 | O266: 3292 | P266: 3167 | Q266: 2852 | R266: 581 | S266: 539 | T266: 1752 | U266: 1540 | V266: 2333 | W266: 2079 | X266: 4412 | Y266: 1120 | Z266: 3292
A267: 5 | B267: 3 | C267: 3 | D267: 154012 | E267: Geldern, Stadt | F267: 6767 | G267: 897 | H267: 937 | I267: 1328 | J267: 1295 | K267: 1285 | L267: 1025 | M267: 1834 | N267: 3162 | O267: 3605 | P267: 3520 | Q267: 3247 | R267: 669 | S267: 659 | T267: 1928 | U267: 1677 | V267: 2597 | W267: 2336 | X267: 4933 | Y267: 1328 | Z267: 3605
A268: 5 | B268: 3 | C268: 3 | D268: 154016 | E268: Goch, Stadt | F268: 7016 | G268: 903 | H268: 983 | I268: 1363 | J268: 1385 | K268: 1318 | L268: 1064 | M268: 1886 | N268: 3249 | O268: 3767 | P268: 3582 | Q268: 3434 | R268: 692 | S268: 671 | T268: 1943 | U268: 1824 | V268: 2635 | W268: 2495 | X268: 5130 | Y268: 1363 | Z268: 3767
A269: 5 | B269: 3 | C269: 3 | D269: 158008 | E269: Haan, Stadt | F269: 5601 | G269: 657 | H269: 778 | I269: 1146 | J269: 1098 | K269: 1161 | L269: 761 | M269: 1435 | N269: 2581 | O269: 3020 | P269: 2808 | Q269: 2793 | R269: 584 | S269: 562 | T269: 1506 | U269: 1514 | V269: 2090 | W269: 2076 | X269: 4166 | Y269: 1146 | Z269: 3020
A270: 5 | B270: 3 | C270: 3 | D270: 370016 | E270: Heinsberg (Rhld.), Stadt | F270: 8455 | G270: 1086 | H270: 1238 | I270: 1724 | J270: 1608 | K270: 1589 | L270: 1210 | M270: 2324 | N270: 4048 | O270: 4407 | P270: 4434 | Q270: 4021 | R270: 910 | S270: 814 | T270: 2299 | U270: 2108 | V270: 3209 | W270: 2922 | X270: 6131 | Y270: 1724 | Z270: 4407
A271: 5 | B271: 3 | C271: 3 | D271: 962016 | E271: Hemer, Stadt | F271: 6990 | G271: 835 | H271: 975 | I271: 1358 | J271: 1364 | K271: 1417 | L271: 1041 | M271: 1810 | N271: 3168 | O271: 3822 | P271: 3704 | Q271: 3286 | R271: 706 | S271: 652 | T271: 2024 | U271: 1798 | V271: 2730 | W271: 2450 | X271: 5180 | Y271: 1358 | Z271: 3822
A272: 5 | B272: 3 | C272: 3 | D272: 954020 | E272: Herdecke, Stadt | F272: 4086 | G272: 517 | H272: 633 | I272: 848 | J272: 740 | K272: 790 | L272: 558 | M272: 1150 | N272: 1998 | O272: 2088 | P272: 2024 | Q272: 2062 | R272: 392 | S272: 456 | T272: 1054 | U272: 1034 | V272: 1446 | W272: 1490 | X272: 2936 | Y272: 848 | Z272: 2088
... A294: 5 | B294: 3 | C294: 3 | D294: 334036 | E294: Würselen, Stadt | F294: 7808 | G294: 1019 | H294: 1046 | I294: 1502 | J294: 1518 | K294: 1545 | L294: 1178 | M294: 2065 | N294: 3567 | O294: 4241 | P294: 3997 | Q294: 3811 | R294: 756 | S294: 746 | T294: 2205 | U294: 2036 | V294: 2961 | W294: 2782 | X294: 5743 | Y294: 1502 | Z294: 4241
E295: Jugendamtstyp 5 | F295: 234281 | G295: 30508 | H295: 34010 | I295: 46489 | J295: 44200 | K295: 45073 | L295: 34001 | M295: 64518 | N295: 111007 | O295: 123274 | P295: 120873 | Q295: 113408 | R295: 23696 | S295: 22793 | T295: 63983 | U295: 59291 | V295: 87679 | W295: 82084 | X295: 169763 | Y295: 46489 | Z295: 123274
A296: 6 | B296: 4 | C296: 3 | D296: 554004 | E296: Ahaus, Stadt | F296: 8996 | G296: 1191 | H296: 1360 | I296: 1680 | J296: 1662 | K296: 1784 | L296: 1319 | M296: 2551 | N296: 4231 | O296: 4765 | P296: 4703 | Q296: 4293 | R296: 885 | S296: 795 | T296: 2482 | U296: 2283 | V296: 3367 | W296: 3078 | X296: 6445 | Y296: 1680 | Z296: 4765
A297: 6 | B297: 4 | C297: 3 | D297: 382008 | E297: Bad Honnef, Stadt | F297: 4600 | G297: 532 | H297: 600 | I297: 827 | J297: 823 | K297: 975 | L297: 843 | M297: 1132 | N297: 1959 | O297: 2641 | P297: 2390 | Q297: 2210 | R297: 422 | S297: 405 | T297: 1386 | U297: 1255 | V297: 1808 | W297: 1660 | X297: 3468 | Y297: 827 | Z297: 2641
A298: 6 | B298: 4 | C298: 3 | D298: 362004 | E298: Bedburg, Stadt | F298: 5054 | G298: 662 | H298: 798 | I298: 1061 | J298: 935 | K298: 929 | L298: 669 | M298: 1460 | N298: 2521 | O298: 2533 | P298: 2593 | Q298: 2461 | R298: 540 | S298: 521 | T298: 1315 | U298: 1218 | V298: 1855 | W298: 1739 | X298: 3594 | Y298: 1061 | Z298: 2533
A299: 6 | B299: 4 | C299: 3 | D299: 554012 | E299: Borken, Stadt | F299: 8951 | G299: 1203 | H299: 1331 | I299: 1770 | J299: 1675 | K299: 1696 | L299: 1276 | M299: 2534 | N299: 4304 | O299: 4647 | P299: 4737 | Q299: 4214 | R299: 940 | S299: 830 | T299: 2491 | U299: 2156 | V299: 3431 | W299: 2986 | X299: 6417 | Y299: 1770 | Z299: 4647
A300: 6 | B300: 4 | C300: 3 | D300: 382012 | E300: Bornheim, Stadt | F300: 9310 | G300: 1259 | H300: 1334 | I300: 1883 | J300: 1706 | K300: 1787 | L300: 1341 | M300: 2593 | N300: 4476 | O300: 4834 | P300: 5093 | Q300: 4217 | R300: 1016 | S300: 867 | T300: 2694 | U300: 2140 | V300: 3710 | W300: 3007 | X300: 6717 | Y300: 1883 | Z300: 4834
A301: 6 | B301: 4 | C301: 3 | D301: 362012 | E301: Brühl, Stadt | F301: 8741 | G301: 1159 | H301: 1240 | I301: 1716 | J301: 1712 | K301: 1702 | L301: 1212 | M301: 2399 | N301: 4115 | O301: 4626 | P301: 4586 | Q301: 4155 | R301: 878 | S301: 838 | T301: 2441 | U301: 2185 | V301: 3319 | W301: 3023 | X301: 6342 | Y301: 1716 | Z301: 4626
A302: 6 | B302: 4 | C302: 3 | D302: 558012 | E302: Coesfeld, Stadt | F302: 7703 | G302: 1091 | H302: 1158 | I302: 1543 | J302: 1417 | K302: 1401 | L302: 1093 | M302: 2249 | N302: 3792 | O302: 3911 | P302: 3954 | Q302: 3749 | R302: 755 | S302: 788 | T302: 2059 | U302: 1852 | V302: 2814 | W302: 2640 | X302: 5454 | Y302: 1543 | Z302: 3911
A303: 6 | B303: 4 | C303: 3 | D303: 558016 | E303: Dülmen, Stadt | F303: 9606 | G303: 1269 | H303: 1401 | I303: 1924 | J303: 1759 | K303: 1854 | L303: 1399 | M303: 2670 | N303: 4594 | O303: 5012 | P303: 4807 | Q303: 4799 | R303: 946 | S303: 978 | T303: 2528 | U303: 2484 | V303: 3474 | W303: 3462 | X303: 6936 | Y303: 1924 | Z303: 5012
A304: 6 | B304: 4 | C304: 3 | D304: 566008 | E304: Emsdetten, Stadt | F304: 7128 | G304: 969 | H304: 1051 | I304: 1453 | J304: 1245 | K304: 1290 | L304: 1120 | M304: 2020 | N304: 3473 | O304: 3655 | P304: 3937 | Q304: 3191 | R304: 834 | S304: 619 | T304: 2047 | U304: 1608 | V304: 2881 | W304: 2227 | X304: 5108 | Y304: 1453 | Z304: 3655
A305: 6 | B305: 4 | C305: 3 | D305: 362020 | E305: Erftstadt, Stadt | F305: 9295 | G305: 1167 | H305: 1345 | I305: 1898 | J305: 1807 | K305: 1756 | L305: 1322 | M305: 2512 | N305: 4410 | O305: 4885 | P305: 4820 | Q305: 4475 | R305: 996 | S305: 902 | T305: 2528 | U305: 2357 | V305: 3524 | W305: 3259 | X305: 6783 | Y305: 1898 | Z305: 4885
A306: 6 | B306: 4 | C306: 3 | D306: 370004 | E306: Erkelenz, Stadt | F306: 8914 | G306: 1220 | H306: 1287 | I306: 1785 | J306: 1640 | K306: 1739 | L306: 1243 | M306: 2507 | N306: 4292 | O306: 4622 | P306: 4542 | Q306: 4372 | R306: 933 | S306: 852 | T306: 2323 | U306: 2299 | V306: 3256 | W306: 3151 | X306: 6407 | Y306: 1785 | Z306: 4622
A307: 6 | B307: 4 | C307: 3 | D307: 566012 | E307: Greven, Stadt | F307: 8354 | G307: 1114 | H307: 1213 | I307: 1767 | J307: 1618 | K307: 1524 | L307: 1118 | M307: 2327 | N307: 4094 | O307: 4260 | P307: 4136 | Q307: 4218 | R307: 894 | S307: 873 | T307: 2075 | U307: 2185 | V307: 2969 | W307: 3058 | X307: 6027 | Y307: 1767 | Z307: 4260
... A334: 6 | B334: 4 | C334: 3 | D334: 374052 | E334: Wipperfürth, Stadt | F334: 4393 | G334: 600 | H334: 644 | I334: 787 | J334: 827 | K334: 924 | L334: 611 | M334: 1244 | N334: 2031 | O334: 2362 | P334: 2153 | Q334: 2240 | R334: 376 | S334: 411 | T334: 1149 | U334: 1213 | V334: 1525 | W334: 1624 | X334: 3149 | Y334: 787 | Z334: 2362
E335: Jugendamtstyp 6 | F335: 272312 | G335: 34857 | H335: 39274 | I335: 54368 | J335: 51501 | K335: 52860 | L335: 39452 | M335: 74131 | N335: 128499 | O335: 143813 | P335: 141141 | Q335: 131171 | R335: 28175 | S335: 26193 | T335: 75007 | U335: 68806 | V335: 103182 | W335: 94999 | X335: 198181 | Y335: 54368 | Z335: 143813
A336: 7 | B336: 1 | C336: 4 | D336: 358008 | E336: Düren, Stadt | F336: 19864 | G336: 2745 | H336: 2909 | I336: 3802 | J336: 3560 | K336: 3827 | L336: 3021 | M336: 5654 | N336: 9456 | O336: 10408 | P336: 10294 | Q336: 9570 | R336: 1991 | S336: 1811 | T336: 5415 | U336: 4993 | V336: 7406 | W336: 6804 | X336: 14210 | Y336: 3802 | Z336: 10408
...

Sheet Tab. 3a Leistungen_mEB
A1: Tabelle 3a: Leistungen der Hilfen zur Erziehung (einschl. Erziehungsberatung) und der Erziehungsberatung in den Jugendamtsbezirken der Kreise und kreisfreien Städte Nordrhein-Westfalens; 2024 (Aufsummierung der am 31.12. eines Jahres andauernden und der innerhalb eines Jahres beendeten Hilfen; Angaben absolut, Inanspruchnahme pro 10.000 der unter 21-jährigen Bevölkerung) (Kreise und kreisefreie Städte sind alphabetisch sortiert))
A3: Kreiskennzahl | B3: Jugendamt | C3: Anzahl absolut | F3: Inanspruchnahme pro 10.000 der unter 21-Jährigen
C4: HzE insg. (einschl. Beratung) Zahl der Hilfen | D4: HzE insg. (einschl. Beratung) Zahl der Kinder | E4: Erziehungs-beratung | F4: HzE insg. (einschl. Beratung) Zahl der Hilfen | G4: HzE insg. (einschl. Beratung) Zahl der Kinder | H4: Erziehungs-beratung
A5: 5334000 | B5: Aachen, Kreis | C5: 5359 | D5: 6239 | E5: 2222 | F5: 836.28533 | G5: 973.61152 | H5: 346.74865
A6: 5334002 | B6: Aachen, Stadt | C6: 4603 | D6: 5628 | E6: 2505 | F6: 986.49807 | G6: 1206.1723 | H6: 536.86241
A7: 5711000 | B7: Bielefeld, krfr. Stadt | C7: 5224 | D7: 6163 | E7: 2337 | F7: 766.91575 | G7: 904.7668 | H7: 343.08616
A8: 5911000 | B8: Bochum, krfr. Stadt | C8: 5020 | D8: 6484 | E8: 2584 | F8: 766.22504 | G8: 989.68191 | H8: 394.40747
A9: 5314000 | B9: Bonn, krfr. Stadt | C9: 3901 | D9: 4230 | E9: 2258 | F9: 602.20133 | G9: 652.98939 | H9: 348.56975
A10: 5554000 | B10: Borken, Kreis | C10: 6986 | D10: 7812 | E10: 4115 | F10: 851.46319 | G10: 952.13719 | H10: 501.5418
A11: 5512000 | B11: Bottrop, krfr. Stadt | C11: 1701 | D11: 1710 | E11: 750 | F11: 749.43825 | G11: 753.40353 | H11: 330.44015
A12: 5558000 | B12: Coesfeld, Kreis | C12: 2285 | D12: 2827 | E12: 899 | F12: 490.62762 | G12: 607.00406 | H12: 193.0303
A13: 5913000 | B13: Dortmund, krfr. Stadt | C13: 9394 | D13: 11006 | E13: 4635 | F13: 768.72719 | G13: 900.63992 | H13: 379.29003
A14: 5112000 | B14: Duisburg, krfr. Stadt | C14: 9436 | D14: 11767 | E14: 2310 | F14: 886.18413 | G14: 1105.1005 | H14: 216.94419
A15: 5358000 | B15: Düren, Kreis | C15: 3932 | D15: 4708 | E15: 1833 | F15: 700.77884 | G15: 839.08107 | H15: 326.68556
A16: 5111000 | B16: Düsseldorf, krfr. Stadt | C16: 10741 | D16: 12817 | E16: 7045 | F16: 942.41619 | G16: 1124.5646 | H16: 618.12886
A17: 5954000 | B17: Ennepe-Ruhr-Kreis | C17: 5011 | D17: 5894 | E17: 2404 | F17: 854.39045 | G17: 1004.9446 | H17: 409.88917
A18: 5113000 | B18: Essen, krfr. Stadt | C18: / | D18: / | E18: 3894 | F18: / | G18: / | H18: 339.60092
A19: 5366000 | B19: Euskirchen, Kreis | C19: 2130 | D19: 2465 | E19: 898 | F19: 529.38983 | G19: 612.65068 | H19: 223.18877
A20: 5513000 | B20: Gelsenkirchen, krfr. Stadt | C20: 3567 | D20: 4229 | E20: 1684 | F20: 591.61097 | G20: 701.40812 | H20: 279.30274
A21: 5754000 | B21: Gütersloh, Kreis | C21: 5688 | D21: 6952 | E21: 2683 | F21: 741.88079 | G21: 906.74319 | H21: 349.94131
A22: 5914000 | B22: Hagen, krfr. Stadt | C22: 2626 | D22: 2661 | E22: 1036 | F22: 646.00246 | G22: 654.61255 | H22: 254.85855
A23: 5915000 | B23: Hamm, krfr. Stadt | C23: 3833 | D23: 4861 | E23: 1407 | F23: 1030.7088 | G23: 1307.1421 | H23: 378.34785
A24: 5370000 | B24: Heinsberg, Kreis | C24: 2844 | D24: 3331 | E24: 1284 | F24: 539.47418 | G24: 631.8525 | H24: 243.56007
A25: 5758000 | B25: Herford, Kreis | C25: 3127 | D25: 3845 | E25: 1265 | F25: 604.68354 | G25: 743.52677 | H25: 244.61934
A26: 5916000 | B26: Herne, krfr. Stadt | C26: 2822 | D26: 3600 | E26: 1258 | F26: 889.07092 | G26: 1134.1798 | H26: 396.33282
A27: 5958000 | B27: Hochsauerlandkreis | C27: 4024 | D27: 4485 | E27: 2327 | F27: 801.91311 | G27: 893.78238 | H27: 463.73057
A28: 5762000 | B28: Höxter, Kreis | C28: 1596 | D28: 1922 | E28: 572 | F28: 584.44412 | G28: 703.82306 | H28: 209.46243
A29: 5154000 | B29: Kleve, Kreis | C29: 4296 | D29: 4310 | E29: 1728 | F29: 679.70382 | G29: 681.91887 | H29: 273.40042
A30: 5315000 | B30: Köln, krfr. Stadt | C30: 13679 | D30: 16815 | E30: 6575 | F30: 710.13259 | G30: 872.93512 | H30: 341.33502
... A58: 5124000 | B58: Wuppertal, krfr. Stadt | C58: 5227 | D58: 5332 | E58: 1626 | F58: 702.6671 | G58: 716.78228 | H58: 218.58364
B59: Nordrhein-Westfalen | C59: 267238 | D59: 311492 | E59: 127691 | F59: 741.72801 | G59: 864.55647 | H59: 354.41064
B60: Rheinland | C60: 142644 | D60: 164550 | E60: 68377 | F60: 742.00034 | G60: 855.95017 | H60: 355.68098
B61: Westfalen-Lippe | C61: 124594 | D61: 146942 | E61: 59314 | F61: 741.41647 | G61: 874.40181 | H61: 352.95742
A63: Anmerkungen: | B63: Die Ergebnisse werden hier für die kreisfreien Städte und die Kreise dargestellt. Die Ergebnisse zu den kreisangehörigen Gemeinden mit einem eigenen Jugendamt werden dabei ihrem jeweiligen Kreis zugeordnet.
B65: Die Hilfen für junge Volljährige sind hier – wie auch in den vorherigen Veröffentlichungen der Jugendamtstabellen – mitberücksichtigt.
A66: Datenausfälle: | B66: Die Stadt Essen konnte aufgrund einer technischen Neuausrichtung, die mit einer umfangreichen Umstellung der Fachverfahren verbunden war, keine validen und qualitätsgesicherten Daten an das Statistische Landesamt übermitteln.
A69: Quelle: IT.NRW, Zusammenstellung und Berechnung Arbeitsstelle Kinder- und Jugendhilfestatistik

Sheet Tab. 3b Leistungen absolut_oEB
A1: Tabelle 3b: Leistungen der Hilfen zur Erziehung (ohne Erziehungsberatung) nach Leistungssegmenten in den Jugendamtsbezirken Nordrhein-Westfalens; 2024 (Aufsummierung der am 31.12. eines Jahres andauernden und der innerhalb eines Jahres beendeten Hilfen; Angaben absolut) (Jugendamtsbezirke sind innerhalb der Jugendamtstypen alphabetisch sortiert))
A3: Jugend-amtstyp [JAT] (2024) (1-10) | B3: Belastungs-klasse (2024) (1-4) | C3: Strukturtyp (2024) (1-4) | D3: KKZ | E3: Jugendamt | F3: HzE insg, ohne Beratung Zahl der Hilfen | G3: HzE insg, ohne Beratung Zahl der Kinder | H3: Ambulante Hilfen gem. §§ 27,2, 29-35 SGB VIII (Zahl der Hilfen) | I3: Ambulante Hilfen gem. §§ 27,2, 29-35 SGB VIII (Zahl der Kinder) | J3: Stationäre Hilfen gem. §§ 27,2, 33, 34 | K3: Vollzeitpflege | L3: Heim-erziehung und stationäre Hilfen gem. § 27,2
A4: 1 | B4: 1 | C4: 1 | D4: 913000 | E4: Dortmund, krfr. Stadt | F4: 4759 | G4: 6371 | H4: 2444 | I4: 4056 | J4: 2315 | K4: 847 | L4: 1468
A5: 1 | B5: 1 | C5: 1 | D5: 112000 | E5: Duisburg, krfr. Stadt | F5: 7126 | G5: 9457 | H5: 4213 | I5: 6544 | J5: 2913 | K5: 1102 | L5: 1811
A6: 1 | B6: 1 | C6: 1 | D6: 113000 | E6: Essen, krfr. Stadt | F6: / | G6: / | H6: / | I6: / | J6: / | K6: / | L6: /
A7: 1 | B7: 1 | C7: 1 | D7: 513000 | E7: Gelsenkirchen, krfr. Stadt | F7: 1883 | G7: 2545 | H7: 985 | I7: 1647 | J7: 898 | K7: 441 | L7: 457
A8: 1 | B8: 1 | C8: 1 | D8: 914000 | E8: Hagen, krfr. Stadt | F8: 1590 | G8: 1625 | H8: 792 | I8: 827 | J8: 798 | K8: 332 | L8: 466
A9: 1 | B9: 1 | C9: 1 | D9: 916000 | E9: Herne, krfr. Stadt | F9: 1564 | G9: 2342 | H9: 733 | I9: 1511 | J9: 831 | K9: 439 | L9: 392
A10: 1 | B10: 1 | C10: 1 | D10: 116000 | E10: Mönchengladbach, krfr. Stadt | F10: 2874 | G10: 4403 | H10: 1522 | I10: 3051 | J10: 1352 | K10: 509 | L10: 843
A11: 1 | B11: 1 | C11: 1 | D11: 117000 | E11: Mülheim an der Ruhr, krfr. Stadt | F11: 1319 | G11: 1858 | H11: 828 | I11: 1367 | J11: 491 | K11: 147 | L11: 344
A12: 1 | B12: 1 | C12: 1 | D12: 119000 | E12: Oberhausen, krfr. Stadt | F12: 2707 | G12: 4201 | H12: 1738 | I12: 3232 | J12: 969 | K12: 473 | L12: 496
A13: 1 | B13: 1 | C13: 1 | D13: 124000 | E13: Wuppertal, krfr. Stadt | F13: 3601 | G13: 3706 | H13: 2080 | I13: 2185 | J13: 1521 | K13: 457 | L13: 1064
E14: Jugendamtstyp 1 | F14: 27423 | G14: 36508 | H14: 15335 | I14: 24420 | J14: 12088 | K14: 4747 | L14: 7341
A15: 2 | B15: 2 | C15: 1 | D15: 334002 | E15: Aachen, Stadt | F15: 2098 | G15: 3123 | H15: 1326 | I15: 2351 | J15: 772 | K15: 224 | L15: 548
A16: 2 | B16: 2 | C16: 1 | D16: 711000 | E16: Bielefeld, krfr. Stadt | F16: 2887 | G16: 3826 | H16: 1552 | I16: 2491 | J16: 1335 | K16: 477 | L16: 858
A17: 2 | B17: 2 | C17: 1 | D17: 911000 | E17: Bochum, krfr. Stadt | F17: 2436 | G17: 3900 | H17: 1281 | I17: 2745 | J17: 1155 | K17: 446 | L17: 709
A18: 2 | B18: 2 | C18: 1 | D18: 314000 | E18: Bonn, krfr. Stadt | F18: 1643 | G18: 1972 | H18: 994 | I18: 1323 | J18: 649 | K18: 201 | L18: 448
A19: 2 | B19: 2 | C19: 1 | D19: 512000 | E19: Bottrop, krfr. Stadt | F19: 951 | G19: 960 | H19: 565 | I19: 574 | J19: 386 | K19: 204 | L19: 182
A20: 2 | B20: 3 | C20: 1 | D20: 111000 | E20: Düsseldorf, krfr. Stadt | F20: 3696 | G20: 5772 | H20: 1964 | I20: 4040 | J20: 1732 | K20: 394 | L20: 1338
A21: 2 | B21: 3 | C21: 1 | D21: 915000 | E21: Hamm, krfr. Stadt | F21: 2426 | G21: 3454 | H21: 1459 | I21: 2487 | J21: 967 | K21: 400 | L21: 567
A22: 2 | B22: 2 | C22: 1 | D22: 315000 | E22: Köln, krfr. Stadt | F22: 7104 | G22: 10240 | H22: 4476 | I22: 7612 | J22: 2628 | K22: 885 | L22: 1743
A23: 2 | B23: 2 | C23: 1 | D23: 114000 | E23: Krefeld, krfr. Stadt | F23: 2127 | G23: 2617 | H23: 1037 | I23: 1527 | J23: 1090 | K23: 500 | L23: 590
A24: 2 | B24: 2 | C24: 1 | D24: 316000 | E24: Leverkusen, krfr. Stadt | F24: 1207 | G24: 1260 | H24: 772 | I24: 825 | J24: 435 | K24: 156 | L24: 279
A25: 2 | B25: 3 | C25: 1 | D25: 515000 | E25: Münster, krfr. Stadt | F25: 2178 | G25: 3365 | H25: 1170 | I25: 2357 | J25: 1008 | K25: 398 | L25: 610
A26: 2 | B26: 2 | C26: 1 | D26: 120000 | E26: Remscheid, krfr. Stadt | F26: 1053 | G26: 1536 | H26: 569 | I26: 1052 | J26: 484 | K26: 176 | L26: 308
A27: 2 | B27: 2 | C27: 1 | D27: 122000 | E27: Solingen, krfr. Stadt | F27: 1529 | G27: 2150 | H27: 878 | I27: 1499 | J27: 651 | K27: 255 | L27: 396
E28: Jugendamtstyp 2 | F28: 31335 | G28: 44175 | H28: 18043 | I28: 30883 | J28: 13292 | K28: 4716 | L28: 8576
A29: 3 | B29: 3 | C29: 2 | D29: 334000 | E29: Aachen, Kreis | F29: 714 | G29: 990 | H29: 412 | I29: 688 | J29: 302 | K29: 190 | L29: 112
A30: 3 | B30: 4 | C30: 2 | D30: 554000 | E30: Borken, Kreis | F30: 1226 | G30: 1655 | H30: 511 | I30: 940 | J30: 715 | K30: 372 | L30: 343
A31: 3 | B31: 4 | C31: 2 | D31: 558000 | E31: Coesfeld, Kreis | F31: 596 | G31: 772 | H31: 244 | I31: 420 | J31: 352 | K31: 205 | L31: 147
A32: 3 | B32: 4 | C32: 2 | D32: 358000 | E32: Düren, Kreis | F32: 1435 | G32: 1941 | H32: 793 | I32: 1299 | J32: 642 | K32: 339 | L32: 303
A33: 3 | B33: 4 | C33: 2 | D33: 366000 | E33: Euskirchen, Kreis | F33: 1232 | G33: 1567 | H33: 595 | I33: 930 | J33: 637 | K33: 316 | L33: 321
A34: 3 | B34: 4 | C34: 2 | D34: 754000 | E34: Gütersloh, Kreis | F34: 1643 | G34: 2368 | H34: 978 | I34: 1703 | J34: 665 | K34: 268 | L34: 397
A35: 3 | B35: 4 | C35: 2 | D35: 370000 | E35: Heinsberg, Kreis | F35: 459 | G35: 594 | H35: 281 | I35: 416 | J35: 178 | K35: 83 | L35: 95
A36: 3 | B36: 4 | C36: 2 | D36: 758000 | E36: Herford, Kreis | F36: 606 | G36: 826 | H36: 303 | I36: 523 | J36: 303 | K36: 131 | L36: 172
A37: 3 | B37: 4 | C37: 2 | D37: 958000 | E37: Hochsauerlandkreis | F37: 718 | G37: 1021 | H37: 340 | I37: 643 | J37: 378 | K37: 155 | L37: 223
A38: 3 | B38: 4 | C38: 2 | D38: 762000 | E38: Höxter, Kreis | F38: 1024 | G38: 1350 | H38: 519 | I38: 845 | J38: 505 | K38: 216 | L38: 289
A39: 3 | B39: 4 | C39: 2 | D39: 154000 | E39: Kleve, Kreis | F39: 909 | G39: 911 | H39: 327 | I39: 329 | J39: 582 | K39: 425 | L39: 157
A40: 3 | B40: 4 | C40: 2 | D40: 766000 | E40: Lippe, Kreis | F40: 815 | G40: 1083 | H40: 379 | I40: 647 | J40: 436 | K40: 218 | L40: 218
... A55: 3 | B55: 4 | C55: 2 | D55: 170000 | E55: Wesel, Kreis | F55: 1109 | G55: 1113 | H55: 557 | I55: 561 | J55: 552 | K55: 349 | L55: 203
E56: Jugendamtstyp 3 | F56: 26730 | G56: 34748 | H56: 14005 | I56: 22023 | J56: 12725 | K56: 6241 | L56: 6484
A57: 4 | B57: 2 | C57: 3 | D57: 334004 | E57: Alsdorf, Stadt | F57: 604 | G57: 821 | H57: 320 | I57: 537 | J57: 284 | K57: 161 | L57: 123
A58: 4 | B58: 2 | C58: 3 | D58: 962004 | E58: Altena, Stadt | F58: 173 | G58: 259 | H58: 101 | I58: 187 | J58: 72 | K58: 38 | L58: 34
A59: 4 | B59: 2 | C59: 3 | D59: 978004 | E59: Bergkamen, Stadt | F59: 630 | G59: 1023 | H59: 437 | I59: 830 | J59: 193 | K59: 81 | L59: 112
A60: 4 | B60: 2 | C60: 3 | D60: 562008 | E60: Datteln, Stadt | F60: 278 | G60: 362 | H60: 108 | I60: 192 | J60: 170 | K60: 73 | L60: 97
A61: 4 | B61: 2 | C61: 3 | D61: 158004 | E61: Erkrath, Stadt | F61: 309 | G61: 401 | H61: 196 | I61: 288 | J61: 113 | K61: 50 | L61: 63
A62: 4 | B62: 2 | C62: 3 | D62: 954012 | E62: Gevelsberg, Stadt | F62: 148 | G62: 191 | H62: 82 | I62: 125 | J62: 66 | K62: 30 | L62: 36
A63: 4 | B63: 2 | C63: 3 | D63: 158012 | E63: Heiligenhaus, Stadt | F63: 268 | G63: 389 | H63: 151 | I63: 272 | J63: 117 | K63: 69 | L63: 48
A64: 4 | B64: 2 | C64: 3 | D64: 158026 | E64: Monheim am Rhein, Stadt | F64: 486 | G64: 659 | H64: 306 | I64: 479 | J64: 180 | K64: 61 | L64: 119
A65: 4 | B65: 2 | C65: 3 | D65: 954024 | E65: Schwelm, Stadt | F65: 273 | G65: 357 | H65: 162 | I65: 246 | J65: 111 | K65: 49 | L65: 62
A66: 4 | B66: 2 | C66: 3 | D66: 962060 | E66: Werdohl, Stadt | F66: 112 | G66: 166 | H66: 63 | I66: 117 | J66: 49 | K66: 24 | L66: 25
E67: Jugendamtstyp 4 | F67: 3281 | G67: 4628 | H67: 1926 | I67: 3273 | J67: 1355 | K67: 636 | L67: 719
A68: 5 | B68: 3 | C68: 3 | D68: 570008 | E68: Beckum, Stadt | F68: 384 | G68: 579 | H68: 238 | I68: 433 | J68: 146 | K68: 50 | L68: 96
A69: 5 | B69: 3 | C69: 3 | D69: 758004 | E69: Bünde, Stadt | F69: 224 | G69: 342 | H69: 117 | I69: 235 | J69: 107 | K69: 41 | L69: 66
A70: 5 | B70: 3 | C70: 3 | D70: 362016 | E70: Elsdorf, Stadt | F70: 125 | G70: 136 | H70: 63 | I70: 74 | J70: 62 | K70: 33 | L70: 29
A71: 5 | B71: 3 | C71: 3 | D71: 154008 | E71: Emmerich am Rhein, Stadt | F71: 210 | G71: 210 | H71: 90 | I71: 90 | J71: 120 | K71: 77 | L71: 43
A72: 5 | B72: 3 | C72: 3 | D72: 954008 | E72: Ennepetal, Stadt (incl. Stadt Breckerfeld) | F72: 275 | G72: 366 | H72: 113 | I72: 204 | J72: 162 | K72: 74 | L72: 88
A73: 5 | B73: 3 | C73: 3 | D73: 370012 | E73: Geilenkirchen, Stadt | F73: 203 | G73: 286 | H73: 105 | I73: 188 | J73: 98 | K73: 57 | L73: 41
A74: 5 | B74: 3 | C74: 3 | D74: 154012 | E74: Geldern, Stadt | F74: 330 | G74: 339 | H74: 184 | I74: 193 | J74: 146 | K74: 79 | L74: 67
A75: 5 | B75: 3 | C75: 3 | D75: 154016 | E75: Goch, Stadt | F75: 309 | G75: 309 | H75: 146 | I75: 146 | J75: 163 | K75: 94 | L75: 69
A76: 5 | B76: 3 | C76: 3 | D76: 158008 | E76: Haan, Stadt | F76: 134 | G76: 180 | H76: 55 | I76: 101 | J76: 79 | K76: 32 | L76: 47
A77: 5 | B77: 3 | C77: 3 | D77: 370016 | E77: Heinsberg (Rhld.), Stadt | F77: 316 | G77: 326 | H77: 154 | I77: 164 | J77: 162 | K77: 85 | L77: 77
A78: 5 | B78: 3 | C78: 3 | D78: 962016 | E78: Hemer, Stadt | F78: 143 | G78: 182 | H78: 54 | I78: 93 | J78: 89 | K78: 50 | L78: 39
A79: 5 | B79: 3 | C79: 3 | D79: 954020 | E79: Herdecke, Stadt | F79: 121 | G79: 146 | H79: 63 | I79: 88 | J79: 58 | K79: 25 | L79: 33
... A101: 5 | B101: 3 | C101: 3 | D101: 334036 | E101: Würselen, Stadt | F101: 311 | G101: 387 | H101: 202 | I101: 278 | J101: 109 | K101: 69 | L101: 40
E102: Jugendamtstyp 5 | F102: 9124 | G102: 11219 | H102: 4861 | I102: 6956 | J102: 4263 | K102: 2233 | L102: 2030
A103: 6 | B103: 4 | C103: 3 | D103: 554004 | E103: Ahaus, Stadt | F103: 251 | G103: 289 | H103: 125 | I103: 163 | J103: 126 | K103: 59 | L103: 67
A104: 6 | B104: 4 | C104: 3 | D104: 382008 | E104: Bad Honnef, Stadt | F104: 131 | G104: 188 | H104: 70 | I104: 127 | J104: 61 | K104: 14 | L104: 47
A105: 6 | B105: 4 | C105: 3 | D105: 362004 | E105: Bedburg, Stadt | F105: 199 | G105: 228 | H105: 119 | I105: 148 | J105: 80 | K105: 48 | L105: 32
A106: 6 | B106: 4 | C106: 3 | D106: 554012 | E106: Borken, Stadt | F106: 343 | G106: 470 | H106: 198 | I106: 325 | J106: 145 | K106: 66 | L106: 79
A107: 6 | B107: 4 | C107: 3 | D107: 382012 | E107: Bornheim, Stadt | F107: 342 | G107: 343 | H107: 219 | I107: 220 | J107: 123 | K107: 55 | L107: 68
A108: 6 | B108: 4 | C108: 3 | D108: 362012 | E108: Brühl, Stadt | F108: 234 | G108: 427 | H108: 151 | I108: 344 | J108: 83 | K108: 40 | L108: 43
A109: 6 | B109: 4 | C109: 3 | D109: 558012 | E109: Coesfeld, Stadt | F109: 298 | G109: 476 | H109: 170 | I109: 348 | J109: 128 | K109: 44 | L109: 84
A110: 6 | B110: 4 | C110: 3 | D110: 558016 | E110: Dülmen, Stadt | F110: 492 | G110: 680 | H110: 268 | I110: 456 | J110: 224 | K110: 94 | L110: 130
A111: 6 | B111: 4 | C111: 3 | D111: 566008 | E111: Emsdetten, Stadt | F111: 241 | G111: 275 | H111: 117 | I111: 151 | J111: 124 | K111: 54 | L111: 70
A112: 6 | B112: 4 | C112: 3 | D112: 362020 | E112: Erftstadt, Stadt | F112: 167 | G112: 218 | H112: 95 | I112: 146 | J112: 72 | K112: 29 | L112: 43
A113: 6 | B113: 4 | C113: 3 | D113: 370004 | E113: Erkelenz, Stadt | F113: 242 | G113: 346 | H113: 115 | I113: 219 | J113: 127 | K113: 66 | L113: 61
A114: 6 | B114: 4 | C114: 3 | D114: 566012 | E114: Greven, Stadt | F114: 140 | G114: 161 | H114: 54 | I114: 75 | J114: 86 | K114: 32 | L114: 54
... A141: 6 | B141: 4 | C141: 3 | D141: 374052 | E141: Wipperfürth, Stadt | F141: 107 | G141: 135 | H141: 54 | I141: 82 | J141: 53 | K141: 18 | L141: 35
E142: Jugendamtstyp 6 | F142: 9723 | G142: 12193 | H142: 5613 | I142: 8083 | J142: 4110 | K142: 1797 | L142: 2313
A143: 7 | B143: 1 | C143: 4 | D143: 358008 | E143: Düren, Stadt | F143: 664 | G143: 934 | H143: 302 | I143: 572 | J143: 362 | K143: 170 | L143: 192
A144: 7 | B144: 1 | C144: 4 | D144: 562014 | E144: Gladbeck, Stadt | F144: 1273 | G144: 1364 | H144: 834 | I144: 925 | J144: 439 | K144: 238 | L144: 201
A145: 7 | B145: 1 | C145: 4 | D145: 978024 | E145: Lünen, Stadt | F145: 726 | G145: 788 | H145: 209 | I145: 271 | J145: 517 | K145: 331 | L145: 186
A146: 7 | B146: 1 | C146: 4 | D146: 562024 | E146: Marl, Stadt | F146: 528 | G146: 750 | H146: 241 | I146: 463 | J146: 287 | K146: 113 | L146: 174
A147: 7 | B147: 1 | C147: 4 | D147: 770024 | E147: Minden, Stadt | F147: 730 | G147: 1051 | H147: 448 | I147: 769 | J147: 282 | K147: 115 | L147: 167
A148: 7 | B148: 1 | C148: 4 | D148: 562032 | E148: Recklinghausen, Stadt | F148: 841 | G148: 972 | H148: 498 | I148: 629 | J148: 343 | K148: 160 | L148: 183
E149: Jugendamtstyp 7 | F149: 4762 | G149: 5859 | H149: 2532 | I149: 3629 | J149: 2230 | K149: 1127 | L149: 1103
A150: 8 | B150: 2 | C150: 4 | D150: 570004 | E150: Ahlen, Stadt | F150: 330 | G150: 439 | H150: 162 | I150: 271 | J150: 168 | K150: 72 | L150: 96
A151: 8 | B151: 2 | C151: 4 | D151: 766008 | E151: Bad Salzuflen, Stadt | F151: 403 | G151: 551 | H151: 258 | I151: 406 | J151: 145 | K151: 69 | L151: 76
A152: 8 | B152: 2 | C152: 4 | D152: 362008 | E152: Bergheim, Stadt | F152: 426 | G152: 514 | H152: 176 | I152: 264 | J152: 250 | K152: 86 | L152: 164
A153: 8 | B153: 2 | C153: 4 | D153: 562004 | E153: Castrop-Rauxel, Stadt | F153: 877 | G153: 1224 | H153: 477 | I153: 824 | J153: 400 | K153: 158 | L153: 242
A154: 8 | B154: 2 | C154: 4 | D154: 766020 | E154: Detmold, Stadt | F154: 693 | G154: 996 | H154: 359 | I154: 662 | J154: 334 | K154: 136 | L154: 198
A155: 8 | B155: 2 | C155: 4 | D155: 334012 | E155: Eschweiler, Stadt | F155: 527 | G155: 687 | H155: 277 | I155: 437 | J155: 250 | K155: 149 | L155: 101
A156: 8 | B156: 2 | C156: 4 | D156: 758012 | E156: Herford, Stadt | F156: 789 | G156: 1097 | H156: 463 | I156: 771 | J156: 326 | K156: 128 | L156: 198
A157: 8 | B157: 2 | C157: 4 | D157: 562020 | E157: Herten, Stadt | F157: 670 | G157: 975 | H157: 411 | I157: 716 | J157: 259 | K157: 100 | L157: 159
A158: 8 | B158: 2 | C158: 4 | D158: 962024 | E158: Iserlohn, Stadt | F158: 425 | G158: 585 | H158: 166 | I158: 326 | J158: 259 | K158: 126 | L158: 133
A159: 8 | B159: 2 | C159: 4 | D159: 962032 | E159: Lüdenscheid, Stadt | F159: 577 | G159: 843 | H159: 294 | I159: 560 | J159: 283 | K159: 95 | L159: 188
A160: 8 | B160: 2 | C160: 4 | D160: 170024 | E160: Moers, Stadt | F160: 1001 | G160: 1006 | H160: 612 | I160: 617 | J160: 389 | K160: 141 | L160: 248
A161: 8 | B161: 2 | C161: 4 | D161: 970040 | E161: Siegen, Stadt | F161: 845 | G161: 1209 | H161: 471 | I161: 835 | J161: 374 | K161: 160 | L161: 214
... A164: 8 | B164: 2 | C164: 4 | D164: 954036 | E164: Witten, Stadt | F164: 969 | G164: 1375 | H164: 578 | I164: 984 | J164: 391 | K164: 176 | L164: 215
...

Sheet Tab. 4 Inanspruchnahme
A1: Tabelle 4: Inanspruchnahme von Leistungen der Hilfen zur Erziehung (ohne Erziehungsberatung) nach Leistungssegmenten in den Jugendamtsbezirken Nordrhein-Westfalens; 2024 (Aufsummierung der am 31.12. eines Jahres andauernden und der innerhalb eines Jahres beendeten Hilfen; Angaben pro 10.000 der unter 21-jährigen Bevölkerung) (Jugendamtsbezirke sind innerhalb der Jugendamtstypen alphabetisch sortiert))
A3: Jugend-amtstyp [JAT] (2024) (1-10) | B3: Belastungs-klasse (2024) (1-4) | C3: Strukturtyp (2024) (1-4) | D3: KKZ | E3: Jugendamt | F3: HzE insg, ohne Beratung Zahl der Hilfen | G3: HzE insg, ohne Beratung Zahl der Kinder | H3: Ambulante Hilfen gem. §§ 27,2, 29-35 SGB VIII (Zahl der Hilfen) | I3: Ambulante Hilfen gem. §§ 27,2, 29-35 SGB VIII (Zahl der Kinder) | J3: Stationäre Hilfen gem. §§ 27,2, 33, 34 | K3: Vollzeit-pflege | L3: Heim-erziehung und stationäre Hilfen gem. § 27,2
A4: 1 | B4: 1 | C4: 1 | D4: 913000 | E4: Dortmund, krfr. Stadt | F4: 389.43716 | G4: 521.3499 | H4: 199.99673 | I4: 331.90946 | J4: 189.44043 | K4: 69.311468 | L4: 120.12897
A5: 1 | B5: 1 | C5: 1 | D5: 112000 | E5: Duisburg, krfr. Stadt | F5: 669.23994 | G5: 888.15635 | H5: 395.66487 | I5: 614.58128 | J5: 273.57507 | K5: 103.49459 | L5: 170.08049
A6: 1 | B6: 1 | C6: 1 | D6: 113000 | E6: Essen, krfr. Stadt | F6: / | G6: / | H6: / | I6: / | J6: / | K6: / | L6: /
A7: 1 | B7: 1 | C7: 1 | D7: 513000 | E7: Gelsenkirchen, krfr. Stadt | F7: 312.30823 | G7: 422.10539 | H7: 163.36888 | I7: 273.16604 | J7: 148.93935 | K7: 73.142819 | L7: 75.796527
A8: 1 | B8: 1 | C8: 1 | D8: 914000 | E8: Hagen, krfr. Stadt | F8: 391.14391 | G8: 399.754 | H8: 194.83395 | I8: 203.44403 | J8: 196.30996 | K8: 81.672817 | L8: 114.63715
A9: 1 | B9: 1 | C9: 1 | D9: 916000 | E9: Herne, krfr. Stadt | F9: 492.7381 | G9: 737.84695 | H9: 230.9316 | I9: 476.04045 | J9: 261.8065 | K9: 138.30692 | L9: 123.49957
A10: 1 | B10: 1 | C10: 1 | D10: 116000 | E10: Mönchengladbach, krfr. Stadt | F10: 534.032 | G10: 818.14297 | H10: 282.81026 | I10: 566.92123 | J10: 251.22173 | K10: 94.57978 | L10: 156.64195
A11: 1 | B11: 1 | C11: 1 | D11: 117000 | E11: Mülheim an der Ruhr, krfr. Stadt | F11: 387.67892 | G11: 546.10117 | H11: 243.36478 | I11: 401.78703 | J11: 144.31414 | K11: 43.206066 | L11: 101.10807
A12: 1 | B12: 1 | C12: 1 | D12: 119000 | E12: Oberhausen, krfr. Stadt | F12: 637.70642 | G12: 989.65818 | H12: 409.4325 | I12: 761.38425 | J12: 228.27393 | K12: 111.42783 | L12: 116.8461
A13: 1 | B13: 1 | C13: 1 | D13: 124000 | E13: Wuppertal, krfr. Stadt | F13: 484.08345 | G13: 498.19863 | H13: 279.61499 | I13: 293.73017 | J13: 204.46846 | K13: 61.43464 | L13: 143.03382
E14: Jugendamtstyp 1 | F14: 402.86115 | G14: 536.32552 | H14: 225.28081 | I14: 358.74519 | J14: 177.58034 | K14: 69.736421 | L14: 107.84391
A15: 2 | B15: 2 | C15: 1 | D15: 334002 | E15: Aachen, Stadt | F15: 449.63566 | G15: 669.3099 | H15: 284.18345 | I15: 503.85769 | J15: 165.45221 | K15: 48.006858 | L15: 117.44535
A16: 2 | B16: 2 | C16: 1 | D16: 711000 | E16: Bielefeld, krfr. Stadt | F16: 423.82959 | G16: 561.68064 | H16: 227.84327 | I16: 365.69432 | J16: 195.98632 | K16: 70.026572 | L16: 125.95975
A17: 2 | B17: 2 | C17: 1 | D17: 911000 | E17: Bochum, krfr. Stadt | F17: 371.81757 | G17: 595.27444 | H17: 195.52476 | I17: 418.98162 | J17: 176.29281 | K17: 68.074974 | L17: 108.21784
A18: 2 | B18: 2 | C18: 1 | D18: 314000 | E18: Bonn, krfr. Stadt | F18: 253.63158 | G18: 304.41964 | H18: 153.44479 | I18: 204.23285 | J18: 100.18679 | K18: 31.028574 | L18: 69.158215
A19: 2 | B19: 2 | C19: 1 | D19: 512000 | E19: Bottrop, krfr. Stadt | F19: 418.99811 | G19: 422.96339 | H19: 248.93158 | I19: 252.89686 | J19: 170.06653 | K19: 89.87972 | L19: 80.186809
A20: 2 | B20: 3 | C20: 1 | D20: 111000 | E20: Düsseldorf, krfr. Stadt | F20: 324.28733 | G20: 506.43573 | H20: 172.32151 | I20: 354.46992 | J20: 151.96582 | K20: 34.569591 | L20: 117.39623
A21: 2 | B21: 3 | C21: 1 | D21: 915000 | E21: Hamm, krfr. Stadt | F21: 652.36098 | G21: 928.79423 | H21: 392.33086 | I21: 668.76412 | J21: 260.03012 | K21: 107.56158 | L21: 152.46854
A22: 2 | B22: 2 | C22: 1 | D22: 315000 | E22: Köln, krfr. Stadt | F22: 368.79757 | G22: 531.6001 | H22: 232.36739 | I22: 395.16991 | J22: 136.43018 | K22: 45.943954 | L22: 90.486227
A23: 2 | B23: 2 | C23: 1 | D23: 114000 | E23: Krefeld, krfr. Stadt | F23: 465.1824 | G23: 572.34713 | H23: 226.79556 | I23: 333.96028 | J23: 238.38684 | K23: 109.35176 | L23: 129.03508
A24: 2 | B24: 2 | C24: 1 | D24: 316000 | E24: Leverkusen, krfr. Stadt | F24: 354.78087 | G24: 370.35948 | H24: 226.91867 | I24: 242.49728 | J24: 127.8622 | K24: 45.854031 | L24: 82.008171
A25: 2 | B25: 3 | C25: 1 | D25: 515000 | E25: Münster, krfr. Stadt | F25: 371.48851 | G25: 573.94805 | H25: 199.55994 | I25: 402.01948 | J25: 171.92857 | K25: 67.884494 | L25: 104.04407
A26: 2 | B26: 2 | C26: 1 | D26: 120000 | E26: Remscheid, krfr. Stadt | F26: 462.89784 | G26: 675.2242 | H26: 250.13188 | I26: 462.45824 | J26: 212.76596 | K26: 77.369439 | L26: 135.39652
A27: 2 | B27: 2 | C27: 1 | D27: 122000 | E27: Solingen, krfr. Stadt | F27: 463.26314 | G27: 651.41645 | H27: 266.0203 | I27: 454.17361 | J27: 197.24284 | K27: 77.261021 | L27: 119.98182
E28: Jugendamtstyp 2 | F28: 388.92468 | G28: 548.29257 | H28: 223.94664 | I28: 383.31453 | J28: 164.97804 | K28: 58.534188 | L28: 106.44385
A29: 3 | B29: 3 | C29: 2 | D29: 334000 | E29: Aachen, Kreis | F29: 527.13178 | G29: 730.89701 | H29: 304.17128 | I29: 507.93651 | J29: 222.9605 | K29: 140.27316 | L29: 82.687339
A30: 3 | B30: 4 | C30: 2 | D30: 554000 | E30: Borken, Kreis | F30: 325.70002 | G30: 439.66846 | H30: 135.75262 | I30: 249.72106 | J30: 189.9474 | K30: 98.82578 | L30: 91.121619
A31: 3 | B31: 4 | C31: 2 | D31: 558000 | E31: Coesfeld, Kreis | F31: 203.6632 | G31: 263.80536 | H31: 83.378896 | I31: 143.52105 | J31: 120.28431 | K31: 70.051941 | L31: 50.232367
A32: 3 | B32: 4 | C32: 2 | D32: 358000 | E32: Düren, Kreis | F32: 395.91668 | G32: 535.52214 | H32: 218.7888 | I32: 358.39426 | J32: 177.12788 | K32: 93.530142 | L32: 83.597738
A33: 3 | B33: 4 | C33: 2 | D33: 366000 | E33: Euskirchen, Kreis | F33: 306.20107 | G33: 389.46191 | H33: 147.8812 | I33: 231.14204 | J33: 158.31987 | K33: 78.538586 | L33: 79.781285
A34: 3 | B34: 4 | C34: 2 | D34: 754000 | E34: Gütersloh, Kreis | F34: 406.91483 | G34: 586.4725 | H34: 242.2171 | I34: 421.77477 | J34: 164.69772 | K34: 66.374421 | L34: 98.323303
A35: 3 | B35: 4 | C35: 2 | D35: 370000 | E35: Heinsberg, Kreis | F35: 222.73985 | G35: 288.25157 | H35: 136.36143 | I35: 201.87315 | J35: 86.378415 | K35: 40.277576 | L35: 46.10084
A36: 3 | B36: 4 | C36: 2 | D36: 758000 | E36: Herford, Kreis | F36: 300.69965 | G36: 409.86454 | H36: 150.34982 | I36: 259.51471 | J36: 150.34982 | K36: 65.002729 | L36: 85.347095
A37: 3 | B37: 4 | C37: 2 | D37: 958000 | E37: Hochsauerlandkreis | F37: 280.14046 | G37: 398.3613 | H37: 132.65704 | I37: 250.87788 | J37: 147.48342 | K37: 60.476005 | L37: 87.007413
A38: 3 | B38: 4 | C38: 2 | D38: 762000 | E38: Höxter, Kreis | F38: 374.98169 | G38: 494.36063 | H38: 190.0542 | I38: 309.43313 | J38: 184.92749 | K38: 79.0977 | L38: 105.82979
A39: 3 | B39: 4 | C39: 2 | D39: 154000 | E39: Kleve, Kreis | F39: 332.50421 | G39: 333.23579 | H39: 119.61372 | I39: 120.34531 | J39: 212.89048 | K39: 155.46126 | L39: 57.429219
A40: 3 | B40: 4 | C40: 2 | D40: 766000 | E40: Lippe, Kreis | F40: 269.13678 | G40: 357.6382 | H40: 125.15686 | I40: 213.65828 | J40: 143.97992 | K40: 71.989961 | L40: 71.989961
... A55: 3 | B55: 4 | C55: 2 | D55: 170000 | E55: Wesel, Kreis | F55: 478.1409 | G55: 479.86548 | H55: 240.14831 | I55: 241.8729 | J55: 237.99258 | K55: 150.46995 | L55: 87.522635
E56: Jugendamtstyp 3 | F56: 354.19924 | G56: 460.44576 | H56: 185.58026 | I56: 291.82678 | J56: 168.61898 | K56: 82.699494 | L56: 85.919487
A57: 4 | B57: 2 | C57: 3 | D57: 334004 | E57: Alsdorf, Stadt | F57: 601.17448 | G57: 817.15935 | H57: 318.50304 | I57: 534.48791 | J57: 282.67144 | K57: 160.24684 | L57: 122.4246
A58: 4 | B58: 2 | C58: 3 | D58: 962004 | E58: Altena, Stadt | F58: 564.80575 | G58: 845.57623 | H58: 329.74208 | I58: 610.51257 | J58: 235.06366 | K58: 124.06138 | L58: 111.00229
A59: 4 | B59: 2 | C59: 3 | D59: 978004 | E59: Bergkamen, Stadt | F59: 630.94642 | G59: 1024.5368 | H59: 437.65648 | I59: 831.24687 | J59: 193.28993 | K59: 81.121683 | L59: 112.16825
A60: 4 | B60: 2 | C60: 3 | D60: 562008 | E60: Datteln, Stadt | F60: 399.31054 | G60: 519.96553 | H60: 155.12784 | I60: 275.78282 | J60: 244.18271 | K60: 104.85493 | L60: 139.32778
A61: 4 | B61: 2 | C61: 3 | D61: 158004 | E61: Erkrath, Stadt | F61: 363.65776 | G61: 471.93127 | H61: 230.66965 | I61: 338.94316 | J61: 132.98811 | K61: 58.844298 | L61: 74.143815
A62: 4 | B62: 2 | C62: 3 | D62: 954012 | E62: Gevelsberg, Stadt | F62: 265.75687 | G62: 342.97001 | H62: 147.24367 | I62: 224.45681 | J62: 118.5132 | K62: 53.869635 | L62: 64.643563
A63: 4 | B63: 2 | C63: 3 | D63: 158012 | E63: Heiligenhaus, Stadt | F63: 507.67191 | G63: 736.88199 | H63: 286.03902 | I63: 515.2491 | J63: 221.63289 | K63: 130.70657 | L63: 90.926312
A64: 4 | B64: 2 | C64: 3 | D64: 158026 | E64: Monheim am Rhein, Stadt | F64: 483.00537 | G64: 654.93938 | H64: 304.11449 | I64: 476.0485 | J64: 178.89088 | K64: 60.62413 | L64: 118.26675
A65: 4 | B65: 2 | C65: 3 | D65: 954024 | E65: Schwelm, Stadt | F65: 490.83064 | G65: 641.85545 | H65: 291.26214 | I65: 442.28695 | J65: 199.5685 | K65: 88.097807 | L65: 111.47069
A66: 4 | B66: 2 | C66: 3 | D66: 962060 | E66: Werdohl, Stadt | F66: 290.38113 | G66: 430.38631 | H66: 163.33938 | I66: 303.34457 | J66: 127.04174 | K66: 62.224527 | L66: 64.817215
E67: Jugendamtstyp 4 | F67: 476.31491 | G67: 671.86389 | H67: 279.60455 | I67: 475.15352 | J67: 196.71036 | K67: 92.330473 | L67: 104.37989
A68: 5 | B68: 3 | C68: 3 | D68: 570008 | E68: Beckum, Stadt | F68: 513.02605 | G68: 773.54709 | H68: 317.96927 | I68: 578.49031 | J68: 195.05678 | K68: 66.800267 | L68: 128.25651
A69: 5 | B69: 3 | C69: 3 | D69: 758004 | E69: Bünde, Stadt | F69: 241.7701 | G69: 369.13114 | H69: 126.28171 | I69: 253.64274 | J69: 115.4884 | K69: 44.252563 | L69: 71.235834
A70: 5 | B70: 3 | C70: 3 | D70: 362016 | E70: Elsdorf, Stadt | F70: 278.58257 | G70: 303.09784 | H70: 140.40562 | I70: 164.92088 | J70: 138.17696 | K70: 73.545799 | L70: 64.631157
A71: 5 | B71: 3 | C71: 3 | D71: 154008 | E71: Emmerich am Rhein, Stadt | F71: 324.9265 | G71: 324.9265 | H71: 139.25422 | I71: 139.25422 | J71: 185.67229 | K71: 119.13972 | L71: 66.53257
A72: 5 | B72: 3 | C72: 3 | D72: 954008 | E72: Ennepetal, Stadt (incl. Stadt Breckerfeld) | F72: 357.46783 | G72: 475.75718 | H72: 146.88678 | I72: 265.17613 | J72: 210.58105 | K72: 96.191343 | L72: 114.3897
A73: 5 | B73: 3 | C73: 3 | D73: 370012 | E73: Geilenkirchen, Stadt | F73: 337.26533 | G73: 475.16199 | H73: 174.44758 | I73: 312.34424 | J73: 162.81774 | K73: 94.700116 | L73: 68.117628
A74: 5 | B74: 3 | C74: 3 | D74: 154012 | E74: Geldern, Stadt | F74: 487.66071 | G74: 500.96054 | H74: 271.90779 | I74: 285.20763 | J74: 215.75292 | K74: 116.74302 | L74: 99.009901
A75: 5 | B75: 3 | C75: 3 | D75: 154016 | E75: Goch, Stadt | F75: 440.42189 | G75: 440.42189 | H75: 208.09578 | I75: 208.09578 | J75: 232.32611 | K75: 133.97948 | L75: 98.346636
A76: 5 | B76: 3 | C76: 3 | D76: 158008 | E76: Haan, Stadt | F76: 239.24299 | G76: 321.37118 | H76: 98.196751 | I76: 180.32494 | J76: 141.04624 | K76: 57.132655 | L76: 83.913587
A77: 5 | B77: 3 | C77: 3 | D77: 370016 | E77: Heinsberg (Rhld.), Stadt | F77: 373.74335 | G77: 385.57067 | H77: 182.14075 | I77: 193.96807 | J77: 191.6026 | K77: 100.53223 | L77: 91.070373
A78: 5 | B78: 3 | C78: 3 | D78: 962016 | E78: Hemer, Stadt | F78: 204.57797 | G78: 260.37196 | H78: 77.253219 | I78: 133.04721 | J78: 127.32475 | K78: 71.530758 | L78: 55.793991
A79: 5 | B79: 3 | C79: 3 | D79: 954020 | E79: Herdecke, Stadt | F79: 296.13314 | G79: 357.31767 | H79: 154.18502 | I79: 215.36955 | J79: 141.94812 | K79: 61.184533 | L79: 80.763583
... A101: 5 | B101: 3 | C101: 3 | D101: 334036 | E101: Würselen, Stadt | F101: 398.30943 | G101: 495.64549 | H101: 258.70902 | I101: 356.04508 | J101: 139.60041 | K101: 88.370902 | L101: 51.229508
E102: Jugendamtstyp 5 | F102: 389.44686 | G102: 478.86939 | H102: 207.48588 | I102: 296.90841 | J102: 181.96098 | K102: 95.312893 | L102: 86.648085
A103: 6 | B103: 4 | C103: 3 | D103: 554004 | E103: Ahaus, Stadt | F103: 279.01289 | G103: 321.25389 | H103: 138.95064 | I103: 181.19164 | J103: 140.06225 | K103: 65.584704 | L103: 74.477546
A104: 6 | B104: 4 | C104: 3 | D104: 382008 | E104: Bad Honnef, Stadt | F104: 284.78261 | G104: 408.69565 | H104: 152.17391 | I104: 276.08696 | J104: 132.6087 | K104: 30.434783 | L104: 102.17391
A105: 6 | B105: 4 | C105: 3 | D105: 362004 | E105: Bedburg, Stadt | F105: 393.74753 | G105: 451.12782 | H105: 235.45706 | I105: 292.83736 | J105: 158.29046 | K105: 94.974278 | L105: 63.316185
A106: 6 | B106: 4 | C106: 3 | D106: 554012 | E106: Borken, Stadt | F106: 383.19741 | G106: 525.081 | H106: 221.20433 | I106: 363.08792 | J106: 161.99307 | K106: 73.734778 | L106: 88.258295
A107: 6 | B107: 4 | C107: 3 | D107: 382012 | E107: Bornheim, Stadt | F107: 367.34694 | G107: 368.42105 | H107: 235.23093 | I107: 236.30505 | J107: 132.116 | K107: 59.076262 | L107: 73.039742
A108: 6 | B108: 4 | C108: 3 | D108: 362012 | E108: Brühl, Stadt | F108: 267.70392 | G108: 488.50246 | H108: 172.74911 | I108: 393.54765 | J108: 94.954811 | K108: 45.761355 | L108: 49.193456
A109: 6 | B109: 4 | C109: 3 | D109: 558012 | E109: Coesfeld, Stadt | F109: 386.86226 | G109: 617.94106 | H109: 220.69324 | I109: 451.77204 | J109: 166.16903 | K109: 57.120602 | L109: 109.04842
A110: 6 | B110: 4 | C110: 3 | D110: 558016 | E110: Dülmen, Stadt | F110: 512.17989 | G110: 707.8909 | H110: 278.9923 | I110: 474.70331 | J110: 233.18759 | K110: 97.855507 | L110: 135.33208
A111: 6 | B111: 4 | C111: 3 | D111: 566008 | E111: Emsdetten, Stadt | F111: 338.10325 | G111: 385.80247 | H111: 164.14141 | I111: 211.84063 | J111: 173.96184 | K111: 75.757576 | L111: 98.204265
A112: 6 | B112: 4 | C112: 3 | D112: 362020 | E112: Erftstadt, Stadt | F112: 179.66649 | G112: 234.5347 | H112: 102.20549 | I112: 157.0737 | J112: 77.461001 | K112: 31.19957 | L112: 46.261431
A113: 6 | B113: 4 | C113: 3 | D113: 370004 | E113: Erkelenz, Stadt | F113: 271.48306 | G113: 388.15347 | H113: 129.01055 | I113: 245.68095 | J113: 142.47252 | K113: 74.040835 | L113: 68.431681
A114: 6 | B114: 4 | C114: 3 | D114: 566012 | E114: Greven, Stadt | F114: 167.58439 | G114: 192.72205 | H114: 64.639694 | I114: 89.777352 | J114: 102.9447 | K114: 38.305004 | L114: 64.639694
... A141: 6 | B141: 4 | C141: 3 | D141: 374052 | E141: Wipperfürth, Stadt | F141: 243.56931 | G141: 307.30708 | H141: 122.92283 | I141: 186.6606 | J141: 120.64648 | K141: 40.974277 | L141: 79.672206
E142: Jugendamtstyp 6 | F142: 357.05367 | G142: 447.75845 | H142: 206.12386 | I142: 296.82864 | J142: 150.92982 | K142: 65.990482 | L142: 84.939334
A143: 7 | B143: 1 | C143: 4 | D143: 358008 | E143: Düren, Stadt | F143: 334.27306 | G143: 470.19734 | H143: 152.03383 | I143: 287.95812 | J143: 182.23923 | K143: 85.581957 | L143: 96.657269
A144: 7 | B144: 1 | C144: 4 | D144: 562014 | E144: Gladbeck, Stadt | F144: 767.74622 | G144: 822.62831 | H144: 502.98534 | I144: 557.86744 | J144: 264.76087 | K144: 143.53778 | L144: 121.22309
A145: 7 | B145: 1 | C145: 4 | D145: 978024 | E145: Lünen, Stadt | F145: 415.75994 | G145: 451.26561 | H145: 119.68847 | I145: 155.19414 | J145: 296.07147 | K145: 189.55446 | L145: 106.51701
A146: 7 | B146: 1 | C146: 4 | D146: 562024 | E146: Marl, Stadt | F146: 302.70022 | G146: 429.97191 | H146: 138.16431 | I146: 265.43599 | J146: 164.53592 | K146: 64.782434 | L146: 99.753483
A147: 7 | B147: 1 | C147: 4 | D147: 770024 | E147: Minden, Stadt | F147: 404.74606 | G147: 582.72344 | H147: 248.3921 | I147: 426.36948 | J147: 156.35396 | K147: 63.761366 | L147: 92.592593
A148: 7 | B148: 1 | C148: 4 | D148: 562032 | E148: Recklinghausen, Stadt | F148: 376.21902 | G148: 434.82151 | H148: 222.77892 | I148: 281.38141 | J148: 153.4401 | K148: 71.575557 | L148: 81.864543
E149: Jugendamtstyp 7 | F149: 426.16789 | G149: 524.34222 | H149: 226.59746 | I149: 324.77179 | J149: 199.57043 | K149: 100.85914 | L149: 98.711294
A150: 8 | B150: 2 | C150: 4 | D150: 570004 | E150: Ahlen, Stadt | F150: 298.23769 | G150: 396.7465 | H150: 146.40759 | I150: 244.9164 | J150: 151.83009 | K150: 65.070041 | L150: 86.760054
A151: 8 | B151: 2 | C151: 4 | D151: 766008 | E151: Bad Salzuflen, Stadt | F151: 369.75869 | G151: 505.55097 | H151: 236.71897 | I151: 372.51124 | J151: 133.03973 | K151: 63.30856 | L151: 69.731168
A152: 8 | B152: 2 | C152: 4 | D152: 362008 | E152: Bergheim, Stadt | F152: 318.67145 | G152: 384.5003 | H152: 131.65769 | I152: 197.48654 | J152: 187.01376 | K152: 64.332735 | L152: 122.68103
A153: 8 | B153: 2 | C153: 4 | D153: 562004 | E153: Castrop-Rauxel, Stadt | F153: 618.43311 | G153: 863.12672 | H153: 336.36556 | I153: 581.05916 | J153: 282.06756 | K153: 111.41668 | L153: 170.65087
A154: 8 | B154: 2 | C154: 4 | D154: 766020 | E154: Detmold, Stadt | F154: 433.72137 | G154: 623.35712 | H154: 224.68394 | I154: 414.31969 | J154: 209.03743 | K154: 85.117036 | L154: 123.92039
A155: 8 | B155: 2 | C155: 4 | D155: 334012 | E155: Eschweiler, Stadt | F155: 453.13844 | G155: 590.71367 | H155: 238.17713 | I155: 375.75236 | J155: 214.96131 | K155: 128.11694 | L155: 86.844368
A156: 8 | B156: 2 | C156: 4 | D156: 758012 | E156: Herford, Stadt | F156: 554.57932 | G156: 771.06909 | H156: 325.43755 | I156: 541.92732 | J156: 229.14177 | K156: 89.969776 | L156: 139.172
A157: 8 | B157: 2 | C157: 4 | D157: 562020 | E157: Herten, Stadt | F157: 552.16746 | G157: 803.52728 | H157: 338.71765 | I157: 590.07747 | J157: 213.44981 | K157: 82.413054 | L157: 131.03676
A158: 8 | B158: 2 | C158: 4 | D158: 962024 | E158: Iserlohn, Stadt | F158: 234.56041 | G158: 322.8655 | H158: 91.616535 | I158: 179.92163 | J158: 142.94387 | K158: 69.540262 | L158: 73.403609
A159: 8 | B159: 2 | C159: 4 | D159: 962032 | E159: Lüdenscheid, Stadt | F159: 408.98781 | G159: 597.53331 | H159: 208.3924 | I159: 396.93791 | J159: 200.59541 | K159: 67.337681 | L159: 133.25773
A160: 8 | B160: 2 | C160: 4 | D160: 170024 | E160: Moers, Stadt | F160: 509.00031 | G160: 511.54276 | H160: 311.19699 | I160: 313.73945 | J160: 197.80332 | K160: 71.697346 | L160: 126.10597
A161: 8 | B161: 2 | C161: 4 | D161: 970040 | E161: Siegen, Stadt | F161: 417.42825 | G161: 597.24349 | H161: 232.67302 | I161: 412.48827 | J161: 184.75522 | K161: 79.039668 | L161: 105.71556
... A164: 8 | B164: 2 | C164: 4 | D164: 954036 | E164: Witten, Stadt | F164: 574.63085 | G164: 815.39465 | H164: 342.76226 | I164: 583.52606 | J164: 231.86859 | K164: 104.37052 | L164: 127.49807
...

Sheet Tab.5 Alter Inanspruchnahme
A1: Tabelle 5: Inanspruchnahme von Leistungen der Hilfen zur Erziehung (ohne Erziehungsberatung) nach Altersgruppen und Leistungssegmenten in den Jugendamtsbezirken Nordrhein-Westfalens; 2024 (andauernde Hilfen am 31.12.; Angaben pro 10.000 der altersgleichen Bevölkerung) (Jugendamtsbezirke sind innerhalb der Jugendamtstypen alphabetisch sortiert))
A3: Jugend-amtstyp [JAT] (2024) (1-10) | B3: Belastungs-klasse (2024) (1-4) | C3: Strukturtyp (2024) (1-4) | D3: KKZ | E3: Jugendamt | F3: HzE insg. (ohne Beratung) Zahl der Kinder | L3: Ambulante Hilfen gem. §§ 27,2; 29-32, 35 SGB VIII (Anzahl der Kinder) | R3: Vollzeitpflege | X3: Heimerziehung und stationäre Hilfen gem. § 27,2
F4: 0 bis unter 6 J. | G4: 6 bis unter 10 J. | H4: 10 bis unter 14 Jahren | I4: 14 bis unter 18 Jahren | J4: 18 Jahre und älter1 | K4: insgesamt2 | L4: 0 bis unter 6 J. | M4: 6 bis unter 10 J. | N4: 10 bis unter 14 Jahren | O4: 14 bis unter 18 Jahren | P4: 18 Jahre und älter1 | Q4: insgesamt2 | R4: 0 bis unter 6 J. | S4: 6 bis unter 10 J. | T4: 10 bis unter 14 Jahren | U4: 14 bis unter 18 Jahren | V4: 18 Jahre und älter1 | W4: insgesamt2 | X4: 0 bis unter 6 J. | Y4: 6 bis unter 10 J. | Z4: 10 bis unter 14 Jahren | AA4: 14 bis unter 18 Jahren | AB4: 18 Jahre und älter1 | AC4: insgesamt2
A5: 1 | B5: 1 | C5: 1 | D5: 913000 | E5: Dortmund, krfr. Stadt | F5: 228.68477 | G5: 353.96019 | H5: 372.29092 | I5: 453.41371 | J5: 261.80281 | K5: 326.91773 | L5: 165.0964 | M5: 226.95095 | N5: 218.05611 | O5: 183.89901 | P5: 123.58393 | Q5: 184.28504 | R5: 54.545985 | S5: 69.95919 | T5: 74.458184 | U5: 76.442581 | V5: 18.429183 | W5: 59.90082 | X5: 9.0423825 | Y5: 57.050054 | Z5: 79.776625 | AA5: 193.07212 | AB5: 119.78969 | AC5: 82.73187
A6: 1 | B6: 1 | C6: 1 | D6: 112000 | E6: Duisburg, krfr. Stadt | F6: 418.31733 | G6: 662.51416 | H6: 727.71747 | I6: 782.25887 | J6: 438.89736 | K6: 595.79823 | L6: 320.62043 | M6: 503.49188 | N6: 520.81741 | O6: 475.31539 | P6: 179.75102 | Q6: 402.33285 | R6: 84.603505 | S6: 83.99396 | T6: 81.536972 | U6: 101.81782 | V6: 53.353659 | W6: 82.551489 | X6: 13.0934 | Y6: 75.028313 | Z6: 125.36309 | AA6: 205.12566 | AB6: 205.79268 | AC6: 110.91389
A7: 1 | B7: 1 | C7: 1 | D7: 113000 | E7: Essen, krfr. Stadt | F7: / | G7: / | H7: / | I7: / | J7: / | K7: / | L7: / | M7: / | N7: / | O7: / | P7: / | Q7: / | R7: / | S7: / | T7: / | U7: / | V7: / | W7: / | X7: / | Y7: / | Z7: / | AA7: / | AB7: / | AC7: /
A8: 1 | B8: 1 | C8: 1 | D8: 513000 | E8: Gelsenkirchen, krfr. Stadt | F8: 187.88542 | G8: 302.85284 | H8: 337.70253 | I8: 396.30354 | J8: 172.59115 | K8: 274.65875 | L8: 124.4885 | M8: 181.54438 | N8: 187.51138 | O8: 187.48889 | P8: 105.15487 | Q8: 156.23704 | R8: 54.175552 | S8: 92.027106 | T8: 84.653195 | U8: 77.305847 | V8: 12.572865 | W8: 65.51341 | X8: 9.2213705 | Y8: 29.281352 | Z8: 65.537957 | AA8: 131.5088 | AB8: 54.863413 | AC8: 52.908298
A9: 1 | B9: 1 | C9: 1 | D9: 914000 | E9: Hagen, krfr. Stadt | F9: 167.3749 | G9: 268.34542 | H9: 275.88964 | I9: 334.35819 | J9: 119.38793 | K9: 231.98032 | L9: 89.32443 | M9: 143.71105 | N9: 106.62402 | O9: 119.13912 | P9: 38.674962 | Q9: 101.35301 | R9: 68.51097 | S9: 81.39387 | T9: 69.305611 | U9: 66.615424 | V9: 18.496721 | W9: 63.468635 | X9: 9.5395022 | Y9: 43.240493 | Z9: 99.960016 | AA9: 148.60364 | AB9: 62.216243 | AC9: 67.158672
A10: 1 | B10: 1 | C10: 1 | D10: 916000 | E10: Herne, krfr. Stadt | F10: 267.20107 | G10: 508.55746 | H10: 450.17704 | I10: 594.00998 | J10: 335.25518 | K10: 419.96156 | L10: 161.43398 | M10: 353.70823 | N10: 268.08295 | O10: 229.6173 | P10: 166.5599 | Q10: 232.1918 | R10: 101.31374 | S10: 110.83945 | T10: 101.16338 | U10: 176.37271 | V10: 83.279949 | W10: 114.67818 | X10: 4.4533511 | Y10: 44.00978 | Z10: 80.930703 | AA10: 188.01997 | AB10: 85.415332 | AC10: 73.091585
A11: 1 | B11: 1 | C11: 1 | D11: 116000 | E11: Mönchengladbach, krfr. Stadt | F11: 340.53266 | G11: 544.41529 | H11: 564.49134 | I11: 618.32435 | J11: 414.34756 | K11: 485.3485 | L11: 243.14297 | M11: 396.36432 | N11: 360.61879 | O11: 326.31063 | P11: 230.05566 | Q11: 308.63853 | R11: 88.114483 | S11: 71.214393 | T11: 93.228153 | U11: 91.131798 | V11: 24.737168 | W11: 76.74155 | X11: 9.2752087 | Y11: 76.836582 | Z11: 110.6444 | AA11: 200.88192 | AB11: 159.55473 | AC11: 99.968411
A12: 1 | B12: 1 | C12: 1 | D12: 117000 | E12: Mülheim an der Ruhr, krfr. Stadt | F12: 194.78446 | G12: 338.57143 | H12: 390.00609 | I12: 443.12685 | J12: 199.78518 | K12: 309.49652 | L12: 159.65939 | M12: 250 | N12: 283.3638 | O12: 230.92526 | P12: 83.780881 | Q12: 205.15534 | R12: 29.803087 | S12: 55.714286 | T12: 28.945765 | U12: 54.610704 | V12: 23.630505 | W12: 38.797284 | X12: 5.3219798 | Y12: 32.857143 | Z12: 77.696527 | AA12: 157.59089 | AB12: 92.373792 | AC12: 65.543897
A13: 1 | B13: 1 | C13: 1 | D13: 119000 | E13: Oberhausen, krfr. Stadt | F13: 456.42084 | G13: 729.27536 | H13: 757.48245 | I13: 795.31289 | J13: 649.69416 | K13: 661.02853 | L13: 344.67939 | M13: 612.17391 | N13: 618.30275 | O13: 549.73822 | P13: 371.96231 | Q13: 494.00457 | R13: 104.0055 | S13: 80 | T13: 59.120581 | U13: 79.780603 | V13: 94.230451 | W13: 84.572075 | X13: 7.7359464 | Y13: 37.101449 | Z13: 80.059121 | AA13: 165.79407 | AB13: 183.50141 | AC13: 82.451883
A14: 1 | B14: 1 | C14: 1 | D14: 124000 | E14: Wuppertal, krfr. Stadt | F14: 190.64211 | G14: 357.31366 | H14: 404.31655 | I14: 421.21685 | J14: 205.84956 | K14: 309.45851 | L14: 132.40418 | M14: 235.70404 | N14: 233.09353 | O14: 191.4622 | P14: 69.474226 | Q14: 172.87735 | R14: 50.771528 | S14: 50.556808 | T14: 65.467626 | U14: 49.638349 | V14: 17.15413 | W14: 47.991612 | X14: 7.4664012 | Y14: 71.052811 | Z14: 105.7554 | AA14: 180.1163 | AB14: 119.2212 | AC14: 88.589557
E15: Jugendamtstyp 1 | F15: 230.64665 | G15: 378.3996 | H15: 404.25431 | I15: 454.82589 | J15: 259.3537 | K15: 338.53088 | L15: 166.11801 | M15: 268.85702 | N15: 263.55446 | O15: 235.22245 | P15: 122.53321 | Q15: 211.08966 | R15: 56.980206 | S15: 62.65924 | T15: 62.022144 | U15: 69.270357 | V15: 28.47533 | W15: 57.13186 | X15: 7.5484358 | Y15: 46.883332 | Z15: 78.677707 | AA15: 150.33308 | AB15: 108.34516 | AC15: 70.309355
A16: 2 | B16: 2 | C16: 1 | D16: 334002 | E16: Aachen, Stadt | F16: 258.55448 | G16: 466.3992 | H16: 521.81795 | I16: 498.94239 | J16: 184.73896 | K16: 361.33733 | L16: 207.35558 | M16: 376.12839 | N16: 398.80875 | O16: 328.48078 | P16: 96.385542 | Q16: 262.10887 | R16: 40.959126 | S16: 47.642929 | T16: 29.781173 | U16: 39.815852 | V16: 12.494422 | W16: 33.219031 | X16: 10.239782 | Y16: 42.627884 | Z16: 93.22802 | AA16: 130.64576 | AB16: 75.858992 | AC16: 66.00943
A17: 2 | B17: 2 | C17: 1 | D17: 711000 | E17: Bielefeld, krfr. Stadt | F17: 236.69267 | G17: 385.32819 | H17: 410.91493 | I17: 495.26641 | J17: 304.0693 | K17: 356.29872 | L17: 170.88574 | M17: 272.58687 | N17: 256.01926 | O17: 242.54753 | P17: 120.90589 | Q17: 211.10736 | R17: 59.438518 | S17: 64.092664 | T17: 60.192616 | U17: 64.157734 | V17: 22.557069 | W17: 55.345949 | X17: 6.3684127 | Y17: 48.648649 | Z17: 94.70305 | AA17: 188.56115 | AB17: 160.60633 | AC17: 89.845413
A18: 2 | B18: 2 | C18: 1 | D18: 911000 | E18: Bochum, krfr. Stadt | F18: 227.80406 | G18: 449.64029 | H18: 489.21577 | I18: 505.7413 | J18: 349.3744 | K18: 388.91263 | L18: 163.64921 | M18: 336.25274 | N18: 334.68308 | O18: 283.68794 | P18: 182.86814 | Q18: 253.67849 | R18: 53.824825 | S18: 63.340632 | T18: 76.026775 | U18: 73.454914 | V18: 29.836381 | W18: 59.527444 | X18: 10.330017 | Y18: 50.046919 | Z18: 78.505909 | AA18: 148.59845 | AB18: 136.66987 | AC18: 75.706698
A19: 2 | B19: 2 | C19: 1 | D19: 314000 | E19: Bonn, krfr. Stadt | F19: 102.2106 | G19: 214.13634 | H19: 259.29915 | I19: 305.92581 | J19: 159.53273 | K19: 201.45417 | L19: 73.092465 | M19: 160.60226 | N19: 181.42656 | O19: 155.77325 | P19: 56.664633 | Q19: 122.41622 | R19: 18.421678 | S19: 30.112923 | T19: 34.794135 | U19: 38.541834 | V19: 16.563508 | W19: 27.169299 | X19: 10.696458 | Y19: 23.421163 | Z19: 43.078452 | AA19: 111.61073 | AB19: 86.304594 | AC19: 51.868661
A20: 2 | B20: 2 | C20: 1 | D20: 512000 | E20: Bottrop, krfr. Stadt | F20: 161.83206 | G20: 285.90279 | H20: 413.53383 | I20: 432.52186 | J20: 0 | K20: 262.14918 | L20: 100.76336 | M20: 180.33868 | N20: 239.66165 | O20: 186.71709 | P20: 0 | Q20: 144.95308 | R20: 58.015267 | S20: 70.376072 | T20: 91.635338 | U20: 122.90239 | V20: 0 | W20: 70.934485 | X20: 3.0534351 | Y20: 35.188036 | Z20: 82.236842 | AA20: 122.90239 | AB20: 0 | AC20: 46.26162
A21: 2 | B21: 3 | C21: 1 | D21: 111000 | E21: Düsseldorf, krfr. Stadt | F21: 189.3786 | G21: 372.70436 | H21: 393.55827 | I21: 462.45718 | J21: 449.61522 | K21: 353.15382 | L21: 149.8209 | M21: 296.63306 | N21: 295.6328 | O21: 290.2509 | P21: 194.51009 | Q21: 239.09171 | R21: 30.836318 | S21: 29.258192 | T21: 37.128138 | U21: 31.478567 | V21: 16.360662 | W21: 29.743887 | X21: 8.721383 | Y21: 46.813108 | Z21: 60.797327 | AA21: 140.72771 | AB21: 238.74447 | AC21: 84.318216
A22: 2 | B22: 3 | C22: 1 | D22: 915000 | E22: Hamm, krfr. Stadt | F22: 309.70337 | G22: 579.89153 | H22: 653.78469 | I22: 732.10412 | J22: 440.18643 | K22: 529.74078 | L22: 220.21116 | M22: 442.21944 | N22: 473.63068 | O22: 439.26247 | P22: 288.27896 | Q22: 364.09594 | R22: 84.464555 | S22: 76.484495 | T22: 84.265582 | U22: 109.81562 | V22: 50.060418 | W22: 82.553512 | X22: 5.0276521 | Y22: 61.187596 | Z22: 95.888421 | AA22: 183.02603 | AB22: 101.84706 | AC22: 83.09132
A23: 2 | B23: 2 | C23: 1 | D23: 315000 | E23: Köln, krfr. Stadt | F23: 152.82146 | G23: 407.1157 | H23: 452.66454 | I23: 500.96286 | J23: 314.43995 | K23: 347.66854 | L23: 112.48844 | M23: 309.34275 | N23: 328.5243 | O23: 321.5956 | P23: 191.97031 | Q23: 241.91957 | R23: 31.082331 | S23: 45.898968 | T23: 43.057653 | U23: 49.243466 | V23: 28.340081 | W23: 39.14321 | X23: 9.2506938 | Y23: 51.873982 | Z23: 81.082592 | AA23: 130.1238 | AB23: 94.129555 | AC23: 66.605754
A24: 2 | B24: 2 | C24: 1 | D24: 114000 | E24: Krefeld, krfr. Stadt | F24: 274.27362 | G24: 418.8771 | H24: 457.89043 | I24: 541.75565 | J24: 266.91675 | K24: 388.19876 | L24: 148.9379 | M24: 278.51459 | N24: 279.17299 | O24: 265.25795 | P24: 105.32391 | Q24: 214.98557 | R24: 113.1277 | S24: 89.522546 | T24: 73.589534 | U24: 92.165899 | V24: 28.855865 | W24: 84.200857 | X24: 12.208025 | Y24: 50.839965 | Z24: 105.12791 | AA24: 184.3318 | AB24: 132.73698 | AC24: 89.012335
A25: 2 | B25: 2 | C25: 1 | D25: 316000 | E25: Leverkusen, krfr. Stadt | F25: 114.41648 | G25: 199.31065 | H25: 249.77155 | I25: 354.39602 | J25: 287.49497 | K25: 229.27016 | L25: 90.4435 | M25: 148.35906 | N25: 158.39171 | O25: 191.52466 | P25: 110.57499 | Q25: 137.56209 | R25: 15.25553 | S25: 23.977222 | T25: 33.50594 | U25: 51.274318 | V25: 64.33454 | W25: 34.68446 | X25: 8.7174458 | Y25: 26.974374 | Z25: 57.873896 | AA25: 111.59704 | AB25: 112.58544 | AC25: 57.023603
A26: 2 | B26: 3 | C26: 1 | D26: 515000 | E26: Münster, krfr. Stadt | F26: 235.00228 | G26: 444.23878 | H26: 417.58462 | I26: 499.50836 | J26: 204.87489 | K26: 344.19826 | L26: 161.89046 | M26: 317.44563 | N26: 300.42059 | O26: 257.62045 | P26: 97.983642 | Q26: 217.29861 | R26: 60.708924 | S26: 69.412309 | T26: 48.067294 | U26: 85.545723 | V26: 21.864119 | W26: 56.286138 | X26: 12.402898 | Y26: 57.380842 | Z26: 69.096735 | AA26: 156.34218 | AB26: 85.027128 | AC26: 70.613519
A27: 2 | B27: 2 | C27: 1 | D27: 120000 | E27: Remscheid, krfr. Stadt | F27: 362.16653 | G27: 540.17857 | H27: 601.029 | I27: 565.86691 | J27: 309.82591 | K27: 473.88781 | L27: 282.9426 | M27: 424.10714 | N27: 423.2928 | O27: 328.20281 | P27: 106.22603 | Q27: 319.58854 | R27: 74.373484 | S27: 71.428571 | T27: 72.497661 | U27: 65.640561 | V27: 29.507229 | W27: 65.060665 | X27: 4.8504446 | Y27: 44.642857 | Z27: 105.23854 | AA27: 172.02354 | AB27: 174.09265 | AC27: 89.238614
A28: 2 | B28: 2 | C28: 1 | D28: 122000 | E28: Solingen, krfr. Stadt | F28: 222.04952 | G28: 416.02937 | H28: 419.13215 | I28: 478.41671 | J28: 360.95987 | K28: 367.52007 | L28: 185.41135 | M28: 327.31722 | N28: 277.77778 | O28: 210.37868 | P28: 199.63702 | Q28: 237.53977 | R28: 28.866437 | S28: 58.12175 | T28: 64.102564 | U28: 102.8518 | V28: 58.479532 | W28: 59.99091 | X28: 7.7717331 | Y28: 30.590395 | Z28: 77.251808 | AA28: 165.18622 | AB28: 102.84332 | AC28: 69.989396
E29: Jugendamtstyp 2 | F29: 200.26496 | G29: 394.96841 | H29: 431.48098 | I29: 485.35792 | J29: 294.68892 | K29: 348.98341 | L29: 146.04733 | M29: 296.84324 | N29: 302.40086 | O29: 278.29215 | P29: 147.04097 | Q29: 228.6259 | R29: 45.234293 | S29: 52.017378 | T29: 51.659023 | U29: 61.30628 | V29: 26.327769 | W29: 47.636601 | X29: 8.98334 | Y29: 46.107788 | Z29: 77.421095 | AA29: 145.75948 | AB29: 121.32018 | AC29: 72.720909
A30: 3 | B30: 3 | C30: 2 | D30: 334000 | E30: Aachen, Kreis | F30: 312.90743 | G30: 548.14815 | H30: 667.96875 | I30: 714.85944 | J30: 387.7551 | K30: 511.62791 | L30: 252.93351 | M30: 374.07407 | N30: 437.5 | O30: 385.54217 | P30: 173.46939 | Q30: 324.84312 | R30: 52.151239 | S30: 122.22222 | T30: 164.0625 | U30: 184.73896 | V30: 117.34694 | W30: 121.07789 | X30: 7.8226858 | Y30: 51.851852 | Z30: 66.40625 | AA30: 144.57831 | AB30: 96.938776 | AC30: 65.706903
A31: 3 | B31: 4 | C31: 2 | D31: 554000 | E31: Borken, Kreis | F31: 160.3931 | G31: 314.55841 | H31: 431.64429 | I31: 388.29566 | J31: 322.03069 | K31: 307.10377 | L31: 116.8181 | M31: 198.95147 | N31: 242.52923 | O31: 174.73305 | P31: 96.609206 | Q31: 164.44397 | R31: 43.575005 | S31: 87.377336 | T31: 124.15187 | U31: 104.00777 | V31: 87.137715 | W31: 84.745763 | X31: 0 | Y31: 28.229601 | Z31: 64.963188 | AA31: 109.55485 | AB31: 138.28377 | AC31: 57.914032
A32: 3 | B32: 4 | C32: 2 | D32: 558000 | E32: Coesfeld, Kreis | F32: 85.459798 | G32: 187.77002 | H32: 192.52129 | I32: 241.20421 | J32: 179.01542 | K32: 168.46638 | L32: 43.331728 | M32: 104.68594 | N32: 88.855979 | O32: 76.16975 | P32: 39.781203 | Q32: 70.051941 | R32: 40.92441 | S32: 64.805583 | T32: 77.748982 | U32: 74.356184 | V32: 44.753854 | W32: 59.458721 | X32: 1.2036591 | Y32: 18.278498 | Z32: 25.916327 | AA32: 90.678273 | AB32: 94.480358 | AC32: 38.955714
A33: 3 | B33: 4 | C33: 2 | D33: 358000 | E33: Düren, Kreis | F33: 172.7719 | G33: 360.5185 | H33: 466.56535 | I33: 559.70149 | J33: 281.86028 | K33: 350.94496 | L33: 131.23112 | M33: 244.39644 | N33: 275.07599 | O33: 302.98507 | P33: 146.97 | Q33: 214.3744 | R33: 36.820242 | S33: 79.665136 | T33: 113.98176 | U33: 131.34328 | V33: 58.385343 | W33: 80.011036 | X33: 4.7205438 | Y33: 36.456927 | Z33: 77.507599 | AA33: 125.37313 | AB33: 76.504933 | AC33: 56.559525
A34: 3 | B34: 4 | C34: 2 | D34: 366000 | E34: Euskirchen, Kreis | F34: 169.29205 | G34: 303.4789 | H34: 369.38965 | I34: 370.41868 | J34: 213.20143 | K34: 278.61315 | L34: 124.9321 | M34: 181.34715 | N34: 193.30068 | O34: 146.08061 | P34: 57.99079 | Q34: 143.40748 | R34: 40.738729 | S34: 94.991364 | T34: 96.650338 | U34: 91.300378 | V34: 44.345898 | W34: 72.32509 | X34: 3.6212204 | Y34: 27.14039 | Z34: 79.438634 | AA34: 133.03769 | AB34: 110.86475 | AC34: 62.880577
A35: 3 | B35: 4 | C35: 2 | D35: 754000 | E35: Gütersloh, Kreis | F35: 169.8571 | G35: 385.79068 | H35: 499.80061 | I35: 547.7707 | J35: 365.26648 | K35: 375.95661 | L35: 138.40209 | M35: 306.85001 | N35: 354.9116 | O35: 322.29299 | P35: 205.87747 | Q35: 257.32471 | R35: 26.961445 | S35: 53.475936 | T35: 81.084674 | U35: 82.802548 | V35: 53.12967 | W35: 56.963123 | X35: 4.4935742 | Y35: 25.464731 | Z35: 63.804333 | AA35: 142.67516 | AB35: 106.25934 | AC35: 61.668772
A36: 3 | B36: 4 | C36: 2 | D36: 370000 | E36: Heinsberg, Kreis | F36: 125.94893 | G36: 303.0303 | H36: 351.30062 | I36: 259.54198 | J36: 303.97237 | K36: 253.79725 | L36: 89.717046 | M36: 194.97299 | N36: 252.07831 | O36: 203.56234 | P36: 158.89465 | Q36: 172.27156 | R36: 31.055901 | S36: 70.472163 | T36: 42.906946 | U36: 2.5445293 | V36: 41.450777 | W36: 37.365944 | X36: 5.1759834 | Y36: 37.585154 | Z36: 56.315366 | AA36: 53.435115 | AB36: 103.62694 | AC36: 44.159752
A37: 3 | B37: 4 | C37: 2 | D37: 758000 | E37: Herford, Kreis | F37: 174.95899 | G37: 297.58977 | H37: 379.47622 | I37: 414.97976 | J37: 313.14522 | K37: 304.66928 | L37: 138.5092 | M37: 189.37531 | N37: 229.82362 | O37: 227.73279 | P37: 96.352374 | Q37: 177.14484 | R37: 34.627301 | S37: 71.323168 | T37: 61.464458 | U37: 73.380567 | V37: 65.381968 | W37: 59.048281 | X37: 1.8224895 | Y37: 36.891294 | Z37: 88.188135 | AA37: 113.8664 | AB37: 151.41087 | AC37: 68.476157
A38: 3 | B38: 4 | C38: 2 | D38: 958000 | E38: Hochsauerlandkreis | F38: 225.00352 | G38: 309.93432 | H38: 326.54792 | I38: 357.86494 | J38: 173.14931 | K38: 277.40929 | L38: 175.784 | M38: 203.20197 | N38: 175.99661 | O38: 147.59402 | P38: 45.169385 | Q38: 155.28677 | R38: 40.781887 | S38: 53.366174 | T38: 78.456319 | U38: 70.764254 | V38: 35.131744 | W38: 55.013656 | X38: 8.4376318 | Y38: 53.366174 | Z38: 72.094996 | AA38: 139.50667 | AB38: 92.848181 | AC38: 67.108857
A39: 3 | B39: 4 | C39: 2 | D39: 762000 | E39: Höxter, Kreis | F39: 198.38057 | G39: 395.23449 | H39: 434.69709 | I39: 470.00732 | J39: 253.81962 | K39: 343.12289 | L39: 147.09852 | M39: 260.96823 | N39: 259.63808 | O39: 208.48574 | P39: 105.96353 | Q39: 196.27948 | R39: 49.932524 | S39: 86.98941 | T39: 80.645161 | U39: 96.927579 | V39: 44.356826 | W39: 71.407646 | X39: 1.3495277 | Y39: 47.276853 | Z39: 94.413847 | AA39: 164.594 | AB39: 103.49926 | AC39: 75.43577
A40: 3 | B40: 4 | C40: 2 | D40: 154000 | E40: Kleve, Kreis | F40: 127.09117 | G40: 248.83937 | H40: 278.334 | I40: 344.62387 | J40: 208.63309 | K40: 231.54583 | L40: 66.139282 | M40: 77.994429 | N40: 78.093712 | O40: 94.525404 | P40: 14.388489 | Q40: 68.037164 | R40: 59.655038 | S40: 161.55989 | T40: 190.22827 | U40: 147.69594 | V40: 91.127098 | W40: 124.7348 | X40: 1.2968487 | Y40: 9.2850511 | Z40: 10.012014 | AA40: 102.40252 | AB40: 103.11751 | AC40: 38.773868
A41: 3 | B41: 4 | C41: 2 | D41: 766000 | E41: Lippe, Kreis | F41: 140.74341 | G41: 300.80105 | H41: 308.79274 | I41: 270.45301 | J41: 137.96384 | K41: 229.83951 | L41: 86.611332 | M41: 189.63544 | N41: 144.80112 | O41: 92.968222 | P41: 49.952426 | Q41: 114.58953 | R41: 49.320342 | S41: 75.200262 | T41: 69.783671 | U41: 87.897228 | V41: 30.922931 | W41: 63.404002 | X41: 4.8117406 | Y41: 35.965342 | Z41: 94.207955 | AA41: 89.587559 | AB41: 57.088487 | AC41: 51.845981
... A56: 3 | B56: 4 | C56: 2 | D56: 170000 | E56: Wesel, Kreis | F56: 145.75023 | G56: 287.09137 | H56: 398.06719 | I56: 448.9235 | J56: 250.62657 | K56: 293.61042 | L56: 72.108009 | M56: 136.21123 | N56: 195.58214 | O56: 171.78195 | P56: 53.258145 | Q56: 124.60119 | R56: 73.642222 | S56: 129.92456 | T56: 151.86378 | U56: 162.62025 | V56: 87.719298 | W56: 118.56515 | X56: 0 | Y56: 20.955574 | Z56: 50.621261 | AA56: 114.5213 | AB56: 109.64912 | AC56: 50.44408
E57: Jugendamtstyp 3 | F57: 164.93155 | G57: 359.37707 | H57: 396.05432 | I57: 436.39836 | J57: 273.40138 | K57: 314.6185 | L57: 121.41059 | M57: 229.88734 | N57: 234.7172 | O57: 214.53139 | P57: 113.5397 | Q57: 181.02192 | R57: 39.612173 | S57: 80.583168 | T57: 95.457794 | U57: 96.746735 | V57: 56.769851 | W57: 71.66141 | X57: 3.9087824 | Y57: 48.906561 | Z57: 65.879323 | AA57: 125.12024 | AB57: 103.09183 | AC57: 61.935176
A58: 4 | B58: 2 | C58: 3 | D58: 334004 | E58: Alsdorf, Stadt | F58: 340.40996 | G58: 415.22491 | H58: 738.00738 | I58: 708.09985 | J58: 384.07821 | K58: 508.60954 | L58: 201.31772 | M58: 252.10084 | N58: 448.07591 | O58: 361.69129 | P58: 174.58101 | Q58: 285.65741 | R58: 124.45095 | S58: 113.69254 | T58: 189.77333 | U58: 152.82731 | V58: 76.815642 | W58: 133.37315 | X58: 14.641288 | Y58: 49.431537 | Z58: 100.15814 | AA58: 193.58125 | AB58: 132.68156 | AC58: 89.578979
A59: 4 | B59: 2 | C59: 3 | D59: 962004 | E59: Altena, Stadt | F59: 489.84468 | G59: 762.8524 | H59: 588.23529 | I59: 900 | J59: 411.25541 | K59: 630.10121 | L59: 382.3178 | M59: 630.18242 | N59: 463.45811 | O59: 566.66667 | P59: 194.80519 | Q59: 453.80346 | R59: 95.57945 | S59: 82.91874 | T59: 71.301248 | U59: 100 | V59: 21.645022 | W59: 78.354554 | X59: 11.947431 | Y59: 49.751244 | Z59: 53.475936 | AA59: 233.33333 | AB59: 194.80519 | AC59: 97.943193
A60: 4 | B60: 2 | C60: 3 | D60: 978004 | E60: Bergkamen, Stadt | F60: 375.85833 | G60: 875.94937 | H60: 829.76445 | I60: 970.11012 | J60: 361.03542 | K60: 671.00651 | L60: 299.96386 | M60: 713.92405 | N60: 706.63812 | O60: 744.62507 | P60: 204.35967 | Q60: 528.79319 | R60: 50.596314 | S60: 81.012658 | T60: 48.179872 | U60: 99.632931 | V60: 0 | W60: 58.087131 | X60: 25.298157 | Y60: 81.012658 | Z60: 74.946467 | AA60: 125.85212 | AB60: 156.67575 | AC60: 84.126189
A61: 4 | B61: 2 | C61: 3 | D61: 562008 | E61: Datteln, Stadt | F61: 211.66753 | G61: 449.27536 | H61: 539.32584 | I61: 521.47239 | J61: 218.68787 | K61: 380.63775 | L61: 154.87868 | M61: 304.34783 | N61: 269.66292 | O61: 176.38037 | P61: 89.463221 | Q61: 201.09164 | R61: 56.788849 | S61: 86.956522 | T61: 112.35955 | U61: 122.69939 | V61: 39.761431 | W61: 83.309394 | X61: 0 | Y61: 57.971014 | Z61: 157.30337 | AA61: 222.39264 | AB61: 89.463221 | AC61: 96.236714
A62: 4 | B62: 2 | C62: 3 | D62: 158004 | E62: Erkrath, Stadt | F62: 145.32243 | G62: 324.29245 | H62: 372.78107 | I62: 495.86777 | J62: 238.68313 | K62: 309.52101 | L62: 108.99183 | M62: 241.74528 | N62: 254.43787 | O62: 283.35301 | P62: 156.3786 | Q62: 205.95504 | R62: 31.789282 | S62: 35.377358 | T62: 71.005917 | U62: 53.128689 | V62: 16.460905 | W62: 42.367895 | X62: 4.5413261 | Y62: 47.169811 | Z62: 47.337278 | AA62: 159.38607 | AB62: 65.843621 | AC62: 61.19807
A63: 4 | B63: 2 | C63: 3 | D63: 954012 | E63: Gevelsberg, Stadt | F63: 84.848485 | G63: 297.72329 | H63: 217.3913 | I63: 350.35035 | J63: 130.5483 | K63: 206.50027 | L63: 42.424242 | M63: 218.91419 | N63: 138.33992 | O63: 150.15015 | P63: 78.328982 | Q63: 120.30885 | R63: 42.424242 | S63: 26.269702 | T63: 59.288538 | U63: 50.05005 | V63: 26.109661 | W63: 41.300054 | X63: 0 | Y63: 52.539405 | Z63: 19.762846 | AA63: 150.15015 | AB63: 26.109661 | AC63: 44.891363
A64: 4 | B64: 2 | C64: 3 | D64: 158012 | E64: Heiligenhaus, Stadt | F64: 247.81341 | G64: 350.37879 | H64: 542.56314 | I64: 637.06564 | J64: 375.33512 | K64: 422.42849 | L64: 211.37026 | M64: 303.0303 | N64: 392.89055 | O64: 328.18533 | P64: 147.45308 | Q64: 280.35613 | R64: 29.154519 | S64: 28.409091 | T64: 84.190833 | U64: 193.05019 | V64: 187.66756 | W64: 94.714908 | X64: 7.2886297 | Y64: 18.939394 | Z64: 65.481759 | AA64: 115.83012 | AB64: 40.214477 | AC64: 47.357454
A65: 4 | B65: 2 | C65: 3 | D65: 158026 | E65: Monheim am Rhein, Stadt | F65: 183.81167 | G65: 301.29125 | H65: 393.10716 | I65: 472.39613 | J65: 374.20382 | K65: 321.00974 | L65: 132.21541 | M65: 210.42563 | N65: 285.40657 | O65: 261.8099 | P65: 199.04459 | Q65: 207.71218 | R65: 45.146727 | S65: 28.694405 | T65: 48.465267 | U65: 73.989755 | V65: 55.732484 | W65: 48.698072 | X65: 6.4495324 | Y65: 62.17121 | Z65: 59.235326 | AA65: 136.59647 | AB65: 119.42675 | AC65: 64.599483
A66: 4 | B66: 2 | C66: 3 | D66: 954024 | E66: Schwelm, Stadt | F66: 364.21725 | G66: 534.48276 | H66: 457.94393 | I66: 680 | J66: 404.1721 | K66: 480.04315 | L66: 300.31949 | M66: 413.7931 | N66: 327.1028 | O66: 440 | P66: 221.64276 | Q66: 343.40165 | R66: 63.897764 | S66: 94.827586 | T66: 74.766355 | U66: 50 | V66: 52.151239 | W66: 68.320748 | X66: 0 | Y66: 25.862069 | Z66: 56.074766 | AA66: 190 | AB66: 130.3781 | AC66: 68.320748
A67: 4 | B67: 2 | C67: 3 | D67: 962060 | E67: Werdohl, Stadt | F67: 208.72865 | G67: 391.13429 | H67: 261.70799 | I67: 422.72127 | J67: 180.83183 | K67: 292.97381 | L67: 161.29032 | M67: 325.94524 | N67: 123.96694 | O67: 237.78071 | P67: 18.083183 | Q67: 181.4882 | R67: 47.43833 | S67: 26.075619 | T67: 55.096419 | U67: 92.470277 | V67: 72.332731 | W67: 57.03915 | X67: 0 | Y67: 39.113429 | Z67: 82.644628 | AA67: 92.470277 | AB67: 90.415913 | AC67: 54.446461
E68: Jugendamtstyp 4 | F68: 257.58443 | G68: 464.98237 | H68: 522.73596 | I68: 625.3361 | J68: 314.34185 | K68: 427.2462 | L68: 189.93599 | M68: 350.53624 | N68: 363.01108 | O68: 364.90743 | P68: 157.17092 | Q68: 283.66941 | R68: 59.322475 | S68: 62.621464 | T68: 85.594192 | U68: 99.869402 | V68: 50.666942 | W68: 71.425461 | X68: 8.3259614 | Y68: 51.82466 | Z68: 74.130684 | AA68: 160.55927 | AB68: 106.50398 | AC68: 72.151329
A69: 5 | B69: 3 | C69: 3 | D69: 570008 | E69: Beckum, Stadt | F69: 453.89393 | G69: 634.35495 | H69: 580.02937 | I69: 714.77663 | J69: 324.23208 | K69: 541.08216 | L69: 396.55996 | M69: 484.67569 | N69: 447.87078 | O69: 446.7354 | P69: 179.18089 | Q69: 398.12959 | R69: 57.33397 | S69: 99.786172 | T69: 36.71072 | U69: 75.601375 | V69: 25.59727 | W69: 60.12024 | X69: 0 | Y69: 49.893086 | Z69: 95.447871 | AA69: 192.43986 | AB69: 119.45392 | AC69: 82.832331
A70: 5 | B70: 3 | C70: 3 | D70: 758004 | E70: Bünde, Stadt | F70: 142.08107 | G70: 221.38229 | H70: 250.42686 | I70: 277.17391 | J70: 147.57554 | K70: 206.15219 | L70: 96.113665 | M70: 156.58747 | N70: 125.21343 | O70: 146.73913 | P70: 63.246662 | Q70: 118.72639 | R70: 45.967405 | S70: 43.196544 | T70: 62.606716 | U70: 16.304348 | V70: 21.082221 | W70: 38.855909 | X70: 0 | Y70: 21.598272 | Z70: 62.606716 | AA70: 114.13043 | AB70: 63.246662 | AC70: 48.569887
A71: 5 | B71: 3 | C71: 3 | D71: 362016 | E71: Elsdorf, Stadt | F71: 113.98176 | G71: 216.89498 | H71: 296.20853 | I71: 336.13445 | J71: 323.6246 | K71: 238.46668 | L71: 53.191489 | M71: 136.9863 | N71: 177.72512 | O71: 156.06242 | P71: 113.26861 | Q71: 120.34767 | R71: 60.790274 | S71: 68.493151 | T71: 71.090047 | U71: 48.019208 | V71: 97.087379 | W71: 66.859817 | X71: 0 | Y71: 11.415525 | Z71: 47.393365 | AA71: 132.05282 | AB71: 113.26861 | AC71: 51.259193
A72: 5 | B72: 3 | C72: 3 | D72: 154008 | E72: Emmerich am Rhein, Stadt | F72: 142.85714 | G72: 256.61588 | H72: 361.34454 | I72: 382.69551 | J72: 21.413276 | K72: 232.09036 | L72: 79.365079 | M72: 104.2502 | N72: 58.823529 | O72: 149.75042 | P72: 0 | Q72: 82.005261 | R72: 63.492063 | S72: 112.26945 | T72: 218.48739 | U72: 116.47255 | V72: 10.706638 | W72: 103.66703 | X72: 0 | Y72: 40.096231 | Z72: 84.033613 | AA72: 116.47255 | AB72: 10.706638 | AC72: 46.418072
A73: 5 | B73: 3 | C73: 3 | D73: 954008 | E73: Ennepetal, Stadt (incl. Stadt Breckerfeld) | F73: 174.8095 | G73: 299.55386 | H73: 339.33518 | I73: 316.09195 | J73: 198.6755 | K73: 259.9766 | L73: 129.98655 | M73: 165.71064 | N73: 173.13019 | O73: 86.206897 | P73: 28.382214 | Q73: 123.48889 | R73: 26.89377 | S73: 108.34927 | T73: 103.87812 | U73: 122.12644 | V73: 37.842952 | W73: 76.693098 | X73: 17.92918 | Y73: 25.493945 | Z73: 62.32687 | AA73: 107.75862 | AB73: 132.45033 | AC73: 59.794618
A74: 5 | B74: 3 | C74: 3 | D74: 370012 | E74: Geilenkirchen, Stadt | F74: 224.01991 | G74: 455.35714 | H74: 527.28955 | I74: 471.38047 | J74: 293.25513 | K74: 382.12328 | L74: 155.56938 | M74: 303.57143 | N74: 351.52636 | O74: 294.61279 | P74: 136.85239 | Q74: 242.56521 | R74: 68.450529 | S74: 89.285714 | T74: 111.00833 | U74: 92.592593 | V74: 68.426197 | W74: 84.731683 | X74: 0 | Y74: 62.5 | Z74: 64.754857 | AA74: 84.175084 | AB74: 87.97654 | AC74: 54.826383
A75: 5 | B75: 3 | C75: 3 | D75: 154012 | E75: Geldern, Stadt | F75: 147.21919 | G75: 286.14458 | H75: 471.04247 | I75: 521.40078 | J75: 282.92683 | K75: 328.06266 | L75: 87.241003 | M75: 112.95181 | N75: 285.71429 | O75: 249.02724 | P75: 58.536585 | Q75: 156.64253 | R75: 59.97819 | S75: 150.60241 | T75: 138.99614 | U75: 124.51362 | V75: 68.292683 | W75: 106.3987 | X75: 0 | Y75: 22.590361 | Z75: 46.332046 | AA75: 147.85992 | AB75: 156.09756 | AC75: 65.021428
A76: 5 | B76: 3 | C76: 3 | D76: 154016 | E76: Goch, Stadt | F76: 222.69353 | G76: 440.20543 | H76: 332.12996 | I76: 288.31563 | J76: 131.57895 | K76: 285.06271 | L76: 95.440085 | M76: 198.09244 | N76: 101.08303 | O76: 60.698027 | P76: 46.992481 | Q76: 102.62258 | R76: 116.64899 | S76: 168.74541 | T76: 122.74368 | U76: 75.872534 | V76: 46.992481 | W76: 109.74914 | X76: 10.604454 | Y76: 73.367572 | Z76: 108.30325 | AA76: 151.74507 | AB76: 37.593985 | AC76: 72.690992
A77: 5 | B77: 3 | C77: 3 | D77: 158008 | E77: Haan, Stadt | F77: 132.40418 | G77: 165.79407 | H77: 291.43898 | I77: 318.69078 | J77: 328.51511 | K77: 235.6722 | L77: 118.4669 | M77: 95.986038 | N77: 145.71949 | O77: 120.5857 | P77: 157.68725 | Q77: 124.97768 | R77: 13.937282 | S77: 52.356021 | T77: 54.644809 | U77: 60.292851 | V77: 105.12484 | W77: 51.776468 | X77: 0 | Y77: 17.452007 | Z77: 91.074681 | AA77: 137.81223 | AB77: 65.703022 | AC77: 58.91805
A78: 5 | B78: 3 | C78: 3 | D78: 370016 | E78: Heinsberg (Rhld.), Stadt | F78: 150.60241 | G78: 324.82599 | H78: 373.13433 | I78: 396.47577 | J78: 157.02479 | K78: 275.57658 | L78: 81.755594 | M78: 197.21578 | N78: 136.81592 | O78: 138.45186 | P78: 49.586777 | Q78: 121.82141 | R78: 47.332186 | S78: 92.807425 | T78: 143.03483 | U78: 125.86532 | V78: 57.85124 | W78: 91.070373 | X78: 21.51463 | Y78: 34.802784 | Z78: 93.283582 | AA78: 132.15859 | AB78: 49.586777 | AC78: 62.684802
A79: 5 | B79: 3 | C79: 3 | D79: 962016 | E79: Hemer, Stadt | F79: 160.22099 | G79: 220.91311 | H79: 175.95308 | I79: 225.82922 | J79: 134.48607 | K79: 184.54936 | L79: 121.54696 | M79: 117.82032 | N79: 102.6393 | O79: 56.457304 | P79: 9.6061479 | Q79: 87.267525 | R79: 38.674033 | S79: 81.001473 | T79: 65.982405 | U79: 105.85745 | V79: 38.424592 | W79: 65.808298 | X79: 0 | Y79: 22.091311 | Z79: 7.3313783 | AA79: 63.514467 | AB79: 86.455331 | AC79: 31.473534
A80: 5 | B80: 3 | C80: 3 | D80: 954020 | E80: Herdecke, Stadt | F80: 139.13043 | G80: 188.67925 | H80: 189.18919 | I80: 506.32911 | J80: 232.97491 | K80: 242.29075 | L80: 113.04348 | M80: 106.13208 | N80: 121.62162 | O80: 189.87342 | P80: 53.763441 | Q80: 119.92168 | R80: 8.6956522 | S80: 58.962264 | T80: 54.054054 | U80: 139.24051 | V80: 17.921147 | W80: 53.842389 | X80: 17.391304 | Y80: 23.584906 | Z80: 13.513514 | AA80: 177.21519 | AB80: 161.29032 | AC80: 68.526676
... A102: 5 | B102: 3 | C102: 3 | D102: 334036 | E102: Würselen, Stadt | F102: 184.01937 | G102: 472.70306 | H102: 303.0303 | I102: 414.23948 | J102: 220.71307 | K102: 313.78074 | L102: 125.90799 | M102: 366.17843 | N102: 210.80369 | O102: 200.64725 | P102: 118.8455 | Q102: 202.35656 | R102: 58.11138 | S102: 93.209055 | T102: 79.051383 | U102: 103.55987 | V102: 59.42275 | W102: 78.125 | X102: 0 | Y102: 13.315579 | Z102: 13.175231 | AA102: 110.03236 | AB102: 42.444822 | AC102: 33.29918
E103: Jugendamtstyp 5 | F103: 189.24951 | G103: 341.15597 | H103: 397.9638 | I103: 464.80154 | J103: 237.34596 | K103: 318.76251 | L103: 128.49127 | M103: 220.05206 | N103: 229.18552 | O103: 231.40239 | P103: 108.52622 | Q103: 182.55855 | R103: 54.868409 | S103: 89.268429 | T103: 105.42986 | U103: 102.72225 | V103: 45.881003 | W103: 79.135739 | X103: 5.8898292 | Y103: 31.835488 | Z103: 63.348416 | AA103: 130.6769 | AB103: 82.938737 | AC103: 57.068221
A104: 6 | B104: 4 | C104: 3 | D104: 554004 | E104: Ahaus, Stadt | F104: 176.40141 | G104: 297.61905 | H104: 373.04452 | I104: 353.13901 | J104: 68.23351 | K104: 254.55758 | L104: 121.52097 | M104: 184.52381 | N104: 192.53911 | O104: 173.76682 | P104: 45.489007 | Q104: 145.62028 | R104: 47.040376 | S104: 71.428571 | T104: 66.185319 | U104: 61.659193 | V104: 0 | W104: 51.133837 | X104: 7.8400627 | Y104: 41.666667 | Z104: 114.3201 | AA104: 117.713 | AB104: 22.744503 | AC104: 57.803468
A105: 6 | B105: 4 | C105: 3 | D105: 382008 | E105: Bad Honnef, Stadt | F105: 159.0106 | G105: 314.38936 | H105: 267.3147 | I105: 297.4359 | J105: 142.34875 | K105: 232.6087 | L105: 114.84099 | M105: 193.47037 | N105: 157.95869 | O105: 164.10256 | P105: 59.311981 | Q105: 136.95652 | R105: 35.335689 | S105: 48.367594 | T105: 12.150668 | U105: 30.769231 | V105: 23.724792 | W105: 30.434783 | X105: 8.8339223 | Y105: 72.551391 | Z105: 97.205346 | AA105: 102.5641 | AB105: 59.311981 | AC105: 65.217391
A106: 6 | B106: 4 | C106: 3 | D106: 362004 | E106: Bedburg, Stadt | F106: 136.9863 | G106: 358.15269 | H106: 470.58824 | I106: 312.16362 | J106: 119.58146 | K106: 275.02968 | L106: 109.58904 | M106: 245.05184 | N106: 256.68449 | O106: 139.93541 | P106: 74.738416 | Q106: 166.20499 | R106: 20.547945 | S106: 84.825636 | T106: 149.73262 | U106: 96.878364 | V106: 14.947683 | W106: 71.230708 | X106: 6.8493151 | Y106: 28.275212 | Z106: 64.171123 | AA106: 75.349839 | AB106: 29.895366 | AC106: 37.593985
A107: 6 | B107: 4 | C107: 3 | D107: 554012 | E107: Borken, Stadt | F107: 146.01421 | G107: 378.53107 | H107: 525.37313 | I107: 477.59434 | J107: 352.66458 | K107: 355.26757 | L107: 94.711918 | M107: 293.78531 | N107: 352.23881 | O107: 259.43396 | P107: 211.59875 | Q107: 230.14188 | R107: 51.302289 | S107: 62.146893 | T107: 125.37313 | U107: 76.650943 | V107: 39.184953 | W107: 70.383197 | X107: 0 | Y107: 22.59887 | Z107: 47.761194 | AA107: 141.50943 | AB107: 101.88088 | AC107: 54.742487
A108: 6 | B108: 4 | C108: 3 | D108: 382012 | E108: Bornheim, Stadt | F108: 119.55264 | G108: 265.53372 | H108: 240.32825 | I108: 425.29379 | J108: 275.9135 | K108: 252.41676 | L108: 104.12649 | M108: 185.87361 | N108: 169.98828 | O108: 195.85898 | P108: 149.14243 | Q108: 156.82062 | R108: 7.7130737 | S108: 58.417419 | T108: 35.169988 | U108: 117.51539 | V108: 29.828486 | W108: 47.26101 | X108: 7.7130737 | Y108: 21.242698 | Z108: 35.169988 | AA108: 111.91942 | AB108: 96.94258 | AC108: 48.335124
A109: 6 | B109: 4 | C109: 3 | D109: 362012 | E109: Brühl, Stadt | F109: 83.36807 | G109: 250.58275 | H109: 315.42056 | I109: 323.14924 | J109: 247.52475 | K109: 231.09484 | L109: 62.526053 | M109: 198.1352 | N109: 192.75701 | O109: 199.76498 | P109: 189.76898 | Q109: 159.02071 | R109: 16.673614 | S109: 34.965035 | T109: 52.570093 | U109: 58.754407 | V109: 33.0033 | W109: 37.753117 | X109: 4.1684035 | Y109: 17.482517 | Z109: 70.093458 | AA109: 64.629847 | AB109: 24.752475 | AC109: 34.321016
A110: 6 | B110: 4 | C110: 3 | D110: 558012 | E110: Coesfeld, Stadt | F110: 213.42819 | G110: 447.18082 | H110: 501.05857 | I110: 513.91863 | J110: 439.15828 | K110: 399.84422 | L110: 164.51756 | M110: 337.00583 | N110: 402.25829 | O110: 292.64811 | P110: 292.77219 | Q110: 284.30482 | R110: 44.464206 | S110: 64.808814 | T110: 14.114326 | U110: 64.239829 | V110: 27.447392 | W110: 44.138647 | X110: 4.4464206 | Y110: 45.36617 | Z110: 84.685956 | AA110: 157.03069 | AB110: 118.9387 | AC110: 71.400753
A111: 6 | B111: 4 | C111: 3 | D111: 558016 | E111: Dülmen, Stadt | F111: 239.70037 | G111: 379.41788 | H111: 500.28425 | I111: 587.91802 | J111: 614.7248 | K111: 437.22673 | L111: 183.5206 | M111: 301.4553 | N111: 346.78795 | O111: 323.6246 | P111: 307.3624 | Q111: 282.11534 | R111: 56.179775 | S111: 51.975052 | T111: 96.645821 | U111: 118.66235 | V111: 78.627591 | W111: 78.076202 | X111: 0 | Y111: 25.987526 | Z111: 56.850483 | AA111: 145.63107 | AB111: 228.73481 | AC111: 77.035186
A112: 6 | B112: 4 | C112: 3 | D112: 566008 | E112: Emsdetten, Stadt | F112: 128.71287 | G112: 213.35169 | H112: 273.09237 | I112: 395.34884 | J112: 214.28571 | K112: 232.8844 | L112: 103.9604 | M112: 130.76394 | N112: 160.64257 | O112: 209.30233 | P112: 89.285714 | Q112: 136.08305 | R112: 19.80198 | S112: 75.705437 | T112: 72.289157 | U112: 69.767442 | V112: 17.857143 | W112: 49.102132 | X112: 4.950495 | Y112: 6.8823125 | Z112: 40.160643 | AA112: 116.27907 | AB112: 107.14286 | AC112: 47.699214
A113: 6 | B113: 4 | C113: 3 | D113: 362020 | E113: Erftstadt, Stadt | F113: 111.46497 | G113: 158.06112 | H113: 193.6912 | I113: 227.79043 | J113: 136.15734 | K113: 162.45293 | L113: 91.56051 | M113: 105.37408 | N113: 99.612618 | O113: 108.20046 | P113: 68.078669 | Q113: 95.750403 | R113: 11.942675 | S113: 42.149631 | T113: 38.73824 | U113: 28.473804 | V113: 22.69289 | W113: 27.972028 | X113: 7.9617834 | Y113: 10.537408 | Z113: 55.340343 | AA113: 91.116173 | AB113: 45.385779 | AC113: 38.7305
A114: 6 | B114: 4 | C114: 3 | D114: 370004 | E114: Erkelenz, Stadt | F114: 151.57559 | G114: 263.30532 | H114: 304.87805 | I114: 333.52501 | J114: 193.08126 | K114: 243.43729 | L114: 103.70961 | M114: 201.68067 | N114: 201.21951 | O114: 109.25819 | P114: 104.58568 | Q114: 142.47252 | R114: 47.865975 | S114: 22.408964 | T114: 54.878049 | U114: 132.25992 | V114: 40.225261 | W114: 59.457034 | X114: 0 | Y114: 39.215686 | Z114: 48.780488 | AA114: 92.006901 | AB114: 48.270314 | AC114: 41.507741
A115: 6 | B115: 4 | C115: 3 | D115: 566012 | E115: Greven, Stadt | F115: 34.379029 | G115: 130.16412 | H115: 105.06799 | I115: 209.97375 | J115: 169.94633 | K115: 118.5061 | L115: 30.08165 | M115: 56.593096 | N115: 37.082818 | O115: 78.740157 | P115: 17.889088 | Q115: 44.29016 | R115: 0 | S115: 56.593096 | T115: 43.263288 | U115: 45.931759 | V115: 17.889088 | W115: 31.122815 | X115: 4.2973786 | Y115: 16.977929 | Z115: 24.721879 | AA115: 85.301837 | AB115: 134.16816 | AC115: 43.093129
... A142: 6 | B142: 4 | C142: 3 | D142: 374052 | E142: Wipperfürth, Stadt | F142: 128.61736 | G142: 152.47776 | H142: 266.02177 | I142: 303.0303 | J142: 212.76596 | K142: 207.14774 | L142: 88.424437 | M142: 114.35832 | N142: 108.82709 | O142: 129.87013 | P142: 130.9329 | Q142: 111.54109 | R142: 40.192926 | S142: 38.119441 | T142: 72.551391 | U142: 21.645022 | V142: 0 | W142: 36.42158 | X142: 0 | Y142: 0 | Z142: 84.643289 | AA142: 151.51515 | AB142: 81.833061 | AC142: 59.185067
E143: Jugendamtstyp 6 | F143: 154.4563 | G143: 304.9588 | H143: 380.18679 | I143: 398.03254 | J143: 249.41701 | K143: 288.23555 | L143: 117.22491 | M143: 214.28046 | N143: 252.22811 | O143: 206.96179 | P143: 112.03488 | Q143: 178.80226 | R143: 32.644912 | S143: 64.743967 | T143: 74.367488 | U143: 73.212259 | V143: 31.177127 | W143: 54.606481 | X143: 4.5864753 | Y143: 25.934373 | Z143: 53.591192 | AA143: 117.85849 | AB143: 106.20501 | AC143: 54.826816
A144: 7 | B144: 1 | C144: 4 | D144: 358008 | E144: Düren, Stadt | F144: 219.31376 | G144: 294.5818 | H144: 320.22472 | I144: 355.36974 | J144: 95.994704 | K144: 259.26299 | L144: 145.03007 | M144: 165.70226 | N144: 179.77528 | O144: 125.42461 | P144: 19.860973 | Q144: 132.40032 | R144: 68.977715 | S144: 89.426618 | T144: 78.651685 | U144: 78.390384 | V144: 9.9304866 | W144: 67.458719 | X144: 5.3059781 | Y144: 39.45292 | Z144: 61.797753 | AA144: 151.55474 | AB144: 66.203244 | AC144: 59.403947
A145: 7 | B145: 1 | C145: 4 | D145: 562014 | E145: Gladbeck, Stadt | F145: 323.39886 | G145: 633.0304 | H145: 699.54868 | I145: 708.83662 | J145: 298.63127 | K145: 522.88764 | L145: 217.71296 | M145: 435.60013 | N145: 477.11154 | O145: 371.90083 | P145: 120.28204 | Q145: 323.26156 | R145: 97.231029 | S145: 128.48637 | T145: 116.05416 | U145: 165.28926 | V145: 74.657818 | W145: 116.39829 | X145: 8.4548721 | Y145: 68.943905 | Z145: 106.38298 | AA145: 171.64654 | AB145: 103.69141 | AC145: 83.227791
A146: 7 | B146: 1 | C146: 4 | D146: 978024 | E146: Lünen, Stadt | F146: 161.32326 | G146: 381.54897 | H146: 385.57214 | I146: 498.64824 | J146: 263.15789 | K146: 325.85042 | L146: 42.883398 | M146: 119.58998 | N146: 108.83085 | O146: 123.16011 | P146: 27.910686 | Q146: 83.610125 | R146: 116.39779 | S146: 205.01139 | T146: 195.89552 | U146: 210.27336 | V146: 111.64274 | W146: 166.07491 | X146: 2.0420666 | Y146: 56.947608 | Z146: 80.845771 | AA146: 165.21478 | AB146: 123.60447 | AC146: 76.165388
A147: 7 | B147: 1 | C147: 4 | D147: 562024 | E147: Marl, Stadt | F147: 231.52809 | G147: 498.30125 | H147: 465.89525 | I147: 472.29791 | J147: 169.70725 | K147: 366.90936 | L147: 146.97 | M147: 339.75085 | N147: 286.2363 | O147: 230.09385 | P147: 84.853627 | Q147: 219.57232 | R147: 74.491645 | S147: 82.106455 | T147: 70.036541 | U147: 42.38571 | V147: 12.728044 | W147: 60.769363 | X147: 10.066438 | Y147: 76.443941 | Z147: 109.62241 | AA147: 199.81835 | AB147: 72.125583 | AC147: 86.567678
A148: 7 | B148: 1 | C148: 4 | D148: 770024 | E148: Minden, Stadt | F148: 285.28529 | G148: 451.63089 | H148: 441.84721 | I148: 441.01124 | J148: 297.90364 | K148: 381.4593 | L148: 225.22523 | M148: 345.69278 | N148: 302.16648 | O148: 252.80899 | P148: 154.46855 | Q148: 258.92659 | R148: 49.335049 | S148: 47.393365 | T148: 54.161916 | U148: 70.224719 | V148: 36.778227 | W148: 52.117986 | X148: 10.725011 | Y148: 58.544745 | Z148: 85.518814 | AA148: 117.97753 | AB148: 106.65686 | AC148: 70.414726
A149: 7 | B149: 1 | C149: 4 | D149: 562032 | E149: Recklinghausen, Stadt | F149: 174.61601 | G149: 294.24978 | H149: 381.84438 | I149: 508.59266 | J149: 271.0194 | K149: 315.3798 | L149: 130.962 | M149: 199.91015 | N149: 252.16138 | O149: 264.74686 | P149: 107.79181 | Q149: 189.67523 | R149: 38.803557 | S149: 74.123989 | T149: 64.841499 | U149: 106.82768 | V149: 30.797659 | W149: 62.628612 | X149: 4.8504446 | Y149: 20.215633 | Z149: 64.841499 | AA149: 137.01811 | AB149: 132.42994 | AC149: 63.07596
E150: Jugendamtstyp 7 | F150: 228.96836 | G150: 415.38322 | H150: 442.54584 | I150: 492.29193 | J150: 231.19966 | K150: 356.54197 | L150: 149.53692 | M150: 261.36981 | N150: 264.95152 | O150: 226.35182 | P150: 85.470085 | Q150: 198.586 | R150: 72.678158 | S150: 102.37362 | T150: 94.07699 | U150: 110.38144 | V150: 44.272274 | W150: 85.645248 | X150: 6.7532802 | Y150: 51.63979 | Z150: 83.517327 | AA150: 155.55866 | AB150: 101.4573 | AC150: 72.310721
A151: 8 | B151: 2 | C151: 4 | D151: 570004 | E151: Ahlen, Stadt | F151: 237.46702 | G151: 433.34903 | H151: 423.56378 | I151: 418.58326 | J151: 297.26516 | K151: 354.27022 | L151: 168.2058 | M151: 296.74988 | N151: 277.5073 | O151: 234.59062 | P151: 160.52319 | Q151: 225.03389 | R151: 39.577836 | S151: 75.365049 | T151: 73.028238 | U151: 68.99724 | V151: 41.617122 | W151: 58.743787 | X151: 29.683377 | Y151: 61.234103 | Z151: 73.028238 | AA151: 114.9954 | AB151: 95.124851 | AC151: 70.492544
A152: 8 | B152: 2 | C152: 4 | D152: 766008 | E152: Bad Salzuflen, Stadt | F152: 222.29707 | G152: 429.36288 | H152: 398.60488 | I152: 482.20974 | J152: 345.46576 | K152: 365.17112 | L152: 161.6706 | M152: 350.87719 | N152: 293.9711 | O152: 327.71536 | P152: 271.43738 | Q152: 272.50206 | R152: 33.681374 | S152: 55.401662 | T152: 54.808171 | U152: 84.269663 | V152: 18.507094 | W152: 49.54583 | X152: 26.945099 | Y152: 23.084026 | Z152: 49.82561 | AA152: 70.224719 | AB152: 55.521283 | AC152: 43.123222
A153: 8 | B153: 2 | C153: 4 | D153: 362008 | E153: Bergheim, Stadt | F153: 122.41567 | G153: 248.55908 | H153: 264.21137 | I153: 331.30236 | J153: 178.57143 | K153: 223.66846 | L153: 81.610446 | M153: 129.683 | N153: 120.09608 | O153: 110.43412 | P153: 50.223214 | Q153: 100.23938 | R153: 29.92383 | S153: 61.239193 | T153: 60.048038 | U153: 53.313024 | V153: 27.901786 | W153: 46.379414 | X153: 10.881393 | Y153: 57.636888 | Z153: 84.067254 | AA153: 167.55522 | AB153: 100.44643 | AC153: 77.049671
A154: 8 | B154: 2 | C154: 4 | D154: 562004 | E154: Castrop-Rauxel, Stadt | F154: 367.97613 | G154: 652.01984 | H154: 723.53389 | I154: 708.42655 | J154: 482.99655 | K154: 571.1868 | L154: 285.9274 | M154: 492.55847 | N154: 514.08987 | O154: 387.77032 | P154: 211.92706 | Q154: 377.97052 | R154: 77.076082 | S154: 88.589653 | T154: 102.81797 | U154: 111.85682 | V154: 68.999507 | W154: 89.556449 | X154: 4.9726504 | Y154: 70.871722 | Z154: 106.62605 | AA154: 208.7994 | AB154: 202.06999 | AC154: 103.65983
A155: 8 | B155: 2 | C155: 4 | D155: 766020 | E155: Detmold, Stadt | F155: 292.55932 | G155: 548.12398 | H155: 511.19278 | I155: 547.12207 | J155: 359.95035 | K155: 443.10928 | L155: 225.75443 | M155: 368.67863 | N155: 374.20648 | O155: 290.95509 | P155: 186.18122 | Q155: 287.89586 | R155: 57.590417 | S155: 114.1925 | T155: 63.481457 | U155: 98.039216 | V155: 28.961523 | W155: 73.225685 | X155: 9.2144667 | Y155: 65.252855 | Z155: 73.504845 | AA155: 158.12777 | AB155: 144.80761 | AC155: 81.987733
A156: 8 | B156: 2 | C156: 4 | D156: 334012 | E156: Eschweiler, Stadt | F156: 339.82082 | G156: 378.40136 | H156: 492.86043 | I156: 559.81941 | J156: 392.74924 | K156: 425.62339 | L156: 213.16033 | M156: 263.60544 | N156: 271.76416 | O156: 284.42438 | P156: 205.43807 | Q156: 246.77558 | R156: 123.57121 | S156: 76.530612 | T156: 128.97282 | U156: 135.44018 | V156: 66.465257 | W156: 109.20034 | X156: 3.0892802 | Y156: 38.265306 | Z156: 92.123445 | AA156: 139.95485 | AB156: 120.84592 | AC156: 69.647463
A157: 8 | B157: 2 | C157: 4 | D157: 758012 | E157: Herford, Stadt | F157: 343.90829 | G157: 557.21765 | H157: 620.66448 | I157: 683.61388 | J157: 469.33086 | K157: 525.76088 | L157: 250.59984 | M157: 418.84817 | N157: 452.71997 | O157: 384.74751 | P157: 274.16357 | Q157: 352.14733 | R157: 79.978672 | S157: 74.794316 | T157: 47.462578 | U157: 85.881141 | V157: 32.527881 | W157: 66.774443 | X157: 13.329779 | Y157: 63.575168 | Z157: 120.48193 | AA157: 212.98523 | AB157: 162.63941 | AC157: 106.83911
A158: 8 | B158: 2 | C158: 4 | D158: 562020 | E158: Herten, Stadt | F158: 307.23781 | G158: 670.43619 | H158: 659.92081 | I158: 724.57442 | J158: 415.44763 | K158: 541.45377 | L158: 230.42836 | M158: 549.27302 | N158: 492.74087 | O158: 449.58533 | P158: 222.35225 | Q158: 384.86896 | R158: 67.946824 | S158: 76.736672 | T158: 39.595249 | U158: 104.75775 | V158: 70.216501 | W158: 71.699357 | X158: 8.8626292 | Y158: 44.426494 | Z158: 127.58469 | AA158: 170.23134 | AB158: 122.87888 | AC158: 84.885446
A159: 8 | B159: 2 | C159: 4 | D159: 962024 | E159: Iserlohn, Stadt | F159: 142.56198 | G159: 221.58273 | H159: 253.27771 | I159: 320.42352 | J159: 209.86359 | K159: 224.07418 | L159: 90.909091 | M159: 120.86331 | N159: 119.18951 | O159: 114.23795 | P159: 76.949983 | Q159: 104.31039 | R159: 41.322314 | S159: 69.064748 | T159: 80.45292 | U159: 80.802452 | V159: 41.972718 | W159: 61.813566 | X159: 10.330579 | Y159: 31.654676 | Z159: 53.63528 | AA159: 125.38312 | AB159: 90.940888 | AC159: 57.950218
A160: 8 | B160: 2 | C160: 4 | D160: 962032 | E160: Lüdenscheid, Stadt | F160: 334.70649 | G160: 425.0797 | H160: 522.87582 | I160: 600.28756 | J160: 262.63627 | K160: 429.54352 | L160: 242.01854 | M160: 308.18278 | N160: 346.02076 | O160: 316.31919 | P160: 104.06343 | Q160: 269.35072 | R160: 77.239959 | S160: 60.219625 | T160: 65.359477 | U160: 39.539899 | V160: 24.777007 | W160: 56.705415 | X160: 15.447992 | Y160: 56.677294 | Z160: 111.49558 | AA160: 244.42847 | AB160: 133.79584 | AC160: 103.48738
A161: 8 | B161: 2 | C161: 4 | D161: 170024 | E161: Moers, Stadt | F161: 138.70908 | G161: 284.93558 | H161: 435.71238 | I161: 525.89852 | J161: 270.57079 | K161: 317.80738 | L161: 88.773812 | M161: 193.26065 | N161: 299.38519 | O161: 258.9852 | P161: 66.716086 | Q161: 180.0061 | R161: 48.085815 | S161: 64.420218 | T161: 61.480887 | U161: 63.424947 | V161: 33.358043 | W161: 54.917116 | X161: 1.8494544 | Y161: 27.254708 | Z161: 74.846298 | AA161: 203.48837 | AB161: 170.49666 | AC161: 82.884166
A162: 8 | B162: 2 | C162: 4 | D162: 970040 | E162: Siegen, Stadt | F162: 277.58501 | G162: 438.25728 | H162: 537.42802 | I162: 529.14316 | J162: 393.18885 | K162: 419.89824 | L162: 199.51423 | M162: 332.55994 | N162: 383.87716 | O162: 325.00672 | P162: 207.43034 | Q162: 282.56681 | R162: 78.070784 | S162: 74.761536 | T162: 74.033452 | U162: 56.406124 | V162: 30.959752 | W162: 65.207726 | X162: 0 | Y162: 30.935808 | Z162: 79.517412 | AA162: 147.73033 | AB162: 154.79876 | AC162: 72.123697
...

Sheet Tab.6 Geschlecht Inanspr.
A1: Tabelle 6: Inanspruchnahme von Leistungen der Hilfen zur Erziehung (ohne Erziehungsberatung) nach Geschlecht und Leistungssegmenten in den Jugendamtsbezirken Nordrhein-Westfalens; 2024 (Aufsummierung der am 31.12. eines Jahres andauernden und der innerhalb eines Jahres beendeten Leistungen; Angaben pro 10.000 der unter 21-jährigen Bevölkerung) (Jugendamtsbezirke sind innerhalb der Jugendamtstypen alphabetisch sortiert))
A3: Jugend-amtstyp [JAT] (2024) (1-10) | B3: Belastungs-klasse (2024) (1-4) | C3: Strukturtyp (2024) (1-4) | D3: KKZ | E3: Jugendamt | F3: HzE insg (ohne Beratung) Zahl der Kinder | I3: Ambulante Hilfen gem. §§ 27,2, 29-32, 35 SGB VIII (Zahl der Kinder) | L3: Stationäre Hilfen | O3: Vollzeitpflege | R3: Heimerziehung und stationäre Hilfen gem. § 27,2
F4: männlich | G4: weiblich | H4: insgesamt | I4: männlich | J4: weiblich | K4: insgesamt | L4: männlich | M4: weiblich | N4: insgesamt | O4: männlich | P4: weiblich | Q4: insgesamt | R4: männlich | S4: weiblich | T4: insgesamt
A5: 1 | B5: 1 | C5: 1 | D5: 913000 | E5: Dortmund, krfr. Stadt | F5: 558.42365 | G5: 482.70099 | H5: 521.3499 | I5: 356.40993 | J5: 306.36804 | K5: 331.90946 | L5: 202.01372 | M5: 176.33294 | N5: 189.44043 | O5: 68.13955 | P5: 70.533177 | Q5: 69.311468 | R5: 133.87417 | S5: 105.79977 | T5: 120.12897
A6: 1 | B6: 1 | C6: 1 | D6: 112000 | E6: Duisburg, krfr. Stadt | F6: 935.55131 | G6: 837.5102 | H6: 888.15635 | I6: 657.03118 | J6: 569.21941 | K6: 614.58128 | L6: 278.52013 | M6: 268.29079 | N6: 273.57507 | O6: 103.26334 | P6: 103.74169 | Q6: 103.49459 | R6: 175.25679 | S6: 164.54909 | T6: 170.08049
A7: 1 | B7: 1 | C7: 1 | D7: 113000 | E7: Essen, krfr. Stadt | F7: / | G7: / | H7: / | I7: / | J7: / | K7: / | L7: / | M7: / | N7: / | O7: / | P7: / | Q7: / | R7: / | S7: / | T7: /
A8: 1 | B8: 1 | C8: 1 | D8: 513000 | E8: Gelsenkirchen, krfr. Stadt | F8: 448.42905 | G8: 394.12912 | H8: 422.10539 | I8: 300.9915 | J8: 243.59369 | K8: 273.16604 | L8: 147.43755 | M8: 150.53543 | N8: 148.93935 | O8: 65.670873 | P8: 81.083855 | Q8: 73.142819 | R8: 81.766675 | S8: 69.451572 | T8: 75.796527
A9: 1 | B9: 1 | C9: 1 | D9: 914000 | E9: Hagen, krfr. Stadt | F9: 441.2186 | G9: 355.69312 | H9: 399.754 | I9: 217.26674 | J9: 188.75584 | K9: 203.44403 | L9: 223.95187 | M9: 166.93728 | N9: 196.30996 | O9: 80.699074 | P9: 82.70753 | Q9: 81.672817 | R9: 143.25279 | S9: 84.229754 | T9: 114.63715
A10: 1 | B10: 1 | C10: 1 | D10: 916000 | E10: Herne, krfr. Stadt | F10: 770.48882 | G10: 702.46849 | H10: 737.84695 | I10: 483.37271 | J10: 468.09349 | K10: 476.04045 | L10: 287.11612 | M10: 234.375 | N10: 261.8065 | O10: 139.31795 | P10: 137.21113 | Q10: 138.30692 | R10: 147.79817 | S10: 97.163866 | T10: 123.49957
A11: 1 | B11: 1 | C11: 1 | D11: 116000 | E11: Mönchengladbach, krfr. Stadt | F11: 859.60194 | G11: 773.56162 | H11: 818.14297 | I11: 590.28151 | J11: 541.80164 | K11: 566.92123 | L11: 269.32042 | M11: 231.75999 | N11: 251.22173 | O11: 93.598709 | P11: 95.634737 | Q11: 94.57978 | R11: 175.72171 | S11: 136.12525 | T11: 156.64195
A12: 1 | B12: 1 | C12: 1 | D12: 117000 | E12: Mülheim an der Ruhr, krfr. Stadt | F12: 601.873 | G12: 486.9481 | H12: 546.10117 | I12: 429.41983 | J12: 372.47895 | K12: 401.78703 | L12: 172.45317 | M12: 114.46914 | N12: 144.31414 | O12: 44.540886 | P12: 41.790322 | Q12: 43.206066 | R12: 127.91229 | S12: 72.67882 | T12: 101.10807
A13: 1 | B13: 1 | C13: 1 | D13: 119000 | E13: Oberhausen, krfr. Stadt | F13: 1019.0167 | G13: 959.3566 | H13: 989.65818 | I13: 776.90167 | J13: 745.36838 | K13: 761.38425 | L13: 242.11503 | M13: 213.98822 | N13: 228.27393 | O13: 120.59369 | P13: 101.96754 | Q13: 111.42783 | R13: 121.52134 | S13: 112.02068 | T13: 116.8461
A14: 1 | B14: 1 | C14: 1 | D14: 124000 | E14: Wuppertal, krfr. Stadt | F14: 500.3885 | G14: 495.83543 | H14: 498.19863 | I14: 299.4043 | J14: 287.60691 | K14: 293.73017 | L14: 200.9842 | M14: 208.22852 | N14: 204.46846 | O14: 55.944056 | P14: 67.35983 | Q14: 61.43464 | R14: 145.04015 | S14: 140.86869 | T14: 143.03382
E15: Jugendamtstyp 1 | F15: 564.57799 | G15: 506.30687 | H15: 536.32552 | I15: 377.96326 | J15: 338.3257 | K15: 358.74519 | L15: 186.61473 | M15: 167.98117 | N15: 177.58034 | O15: 68.754295 | P15: 70.779943 | Q15: 69.736421 | R15: 117.86043 | S15: 97.201223 | T15: 107.84391
A16: 2 | B16: 2 | C16: 1 | D16: 334002 | E16: Aachen, Stadt | F16: 682.22916 | G16: 655.2311 | H16: 669.3099 | I16: 511.67187 | J16: 495.34217 | K16: 503.85769 | L16: 170.55729 | M16: 159.88893 | N16: 165.45221 | O16: 52.194641 | P16: 43.44321 | Q16: 48.006858 | R16: 118.36265 | S16: 116.44572 | T16: 117.44535
A17: 2 | B17: 2 | C17: 1 | D17: 711000 | E17: Bielefeld, krfr. Stadt | F17: 599.4346 | G17: 522.55538 | H17: 561.68064 | I17: 394.62297 | J17: 335.71493 | K17: 365.69432 | L17: 204.81163 | M17: 186.84045 | N17: 195.98632 | O17: 69.520568 | P17: 70.550955 | Q17: 70.026572 | R17: 135.29106 | S17: 116.2895 | T17: 125.95975
A18: 2 | B18: 2 | C18: 1 | D18: 911000 | E18: Bochum, krfr. Stadt | F18: 620.53146 | G18: 568.7367 | H18: 595.27444 | I18: 441.19399 | J18: 395.64292 | K18: 418.98162 | L18: 179.33746 | M18: 173.09378 | N18: 176.29281 | O18: 66.432316 | P18: 69.800927 | Q18: 68.074974 | R18: 112.90515 | S18: 103.29285 | T18: 108.21784
A19: 2 | B19: 2 | C19: 1 | D19: 314000 | E19: Bonn, krfr. Stadt | F19: 331.21789 | G19: 276.43662 | H19: 304.41964 | I19: 224.23693 | J19: 183.34438 | K19: 204.23285 | L19: 106.98096 | M19: 93.09224 | N19: 100.18679 | O19: 28.105168 | P19: 34.081227 | Q19: 31.028574 | R19: 78.875793 | S19: 59.011013 | T19: 69.158215
A20: 2 | B20: 2 | C20: 1 | D20: 512000 | E20: Bottrop, krfr. Stadt | F20: 421.62996 | G20: 424.37432 | H20: 422.96339 | I20: 254.52052 | J20: 251.17882 | K20: 252.89686 | L20: 167.10944 | M20: 173.1955 | N20: 170.06653 | O20: 93.409889 | P20: 86.14436 | Q20: 89.87972 | R20: 73.699546 | S20: 87.051143 | T20: 80.186809
A21: 2 | B21: 3 | C21: 1 | D21: 111000 | E21: Düsseldorf, krfr. Stadt | F21: 519.09942 | G21: 492.70273 | H21: 506.43573 | I21: 349.94519 | J21: 359.37671 | K21: 354.46992 | L21: 169.15423 | M21: 133.32602 | N21: 151.96582 | O21: 36.259381 | P21: 32.737115 | Q21: 34.569591 | R21: 132.89485 | S21: 100.5889 | T21: 117.39623
A22: 2 | B22: 3 | C22: 1 | D22: 915000 | E22: Hamm, krfr. Stadt | F22: 1012.6516 | G22: 840.72992 | H22: 928.79423 | I22: 709.74854 | J22: 625.72358 | K22: 668.76412 | L22: 302.90304 | M22: 215.00634 | N22: 260.03012 | O22: 123.89102 | P22: 90.412922 | Q22: 107.56158 | R22: 179.01202 | S22: 124.59342 | T22: 152.46854
A23: 2 | B23: 2 | C23: 1 | D23: 315000 | E23: Köln, krfr. Stadt | F23: 563.17361 | G23: 498.34241 | H23: 531.6001 | I23: 417.14315 | J23: 372.0246 | K23: 395.16991 | L23: 146.03046 | M23: 126.31781 | N23: 136.43018 | O23: 46.450438 | P23: 45.410453 | Q23: 45.943954 | R23: 99.580023 | S23: 80.907356 | T23: 90.486227
A24: 2 | B24: 2 | C24: 1 | D24: 114000 | E24: Krefeld, krfr. Stadt | F24: 585.58937 | G24: 557.98687 | H24: 572.34713 | I24: 342.18934 | J24: 325.03647 | K24: 333.96028 | L24: 243.40003 | M24: 232.9504 | N24: 238.38684 | O24: 109.71919 | P24: 108.95332 | Q24: 109.35176 | R24: 133.68085 | S24: 123.99708 | T24: 129.03508
A25: 2 | B25: 2 | C25: 1 | D25: 316000 | E25: Leverkusen, krfr. Stadt | F25: 413.93584 | G25: 324.77296 | H25: 370.35948 | I25: 263.8841 | J25: 220.12389 | K25: 242.49728 | L25: 150.05174 | M25: 104.64906 | N25: 127.8622 | O25: 55.766356 | P25: 35.484453 | Q25: 45.854031 | R25: 94.285386 | S25: 69.164612 | T25: 82.008171
A26: 2 | B26: 3 | C26: 1 | D26: 515000 | E26: Münster, krfr. Stadt | F26: 604.96293 | G26: 542.45445 | H26: 573.94805 | I26: 418.76841 | J26: 385.01203 | K26: 402.01948 | L26: 186.19452 | M26: 157.44242 | N26: 171.92857 | O26: 69.399777 | P26: 66.345823 | Q26: 67.884494 | R26: 116.79475 | S26: 91.096597 | T26: 104.04407
A27: 2 | B27: 2 | C27: 1 | D27: 120000 | E27: Remscheid, krfr. Stadt | F27: 695.71865 | G27: 653.24344 | H27: 675.2242 | I27: 472.30717 | J27: 451.89504 | K27: 462.45824 | L27: 223.41148 | M27: 201.3484 | N27: 212.76596 | O27: 60.312606 | P27: 95.663265 | Q27: 77.369439 | R27: 163.09888 | S27: 105.68513 | T27: 135.39652
A28: 2 | B28: 2 | C28: 1 | D28: 122000 | E28: Solingen, krfr. Stadt | F28: 698.08028 | G28: 600.69554 | H28: 651.41645 | I28: 479.34846 | J28: 426.80999 | K28: 454.17361 | L28: 218.73182 | M28: 173.88555 | N28: 197.24284 | O28: 83.1879 | P28: 70.818843 | Q28: 77.261021 | R28: 135.54392 | S28: 103.06671 | T28: 119.98182
E29: Jugendamtstyp 2 | F29: 577.06191 | G29: 517.85878 | H29: 548.29257 | I29: 400.12845 | J29: 365.52785 | K29: 383.31453 | L29: 176.93346 | M29: 152.33094 | N29: 164.97804 | O29: 59.879227 | P29: 57.111331 | Q29: 58.534188 | R29: 117.05423 | S29: 95.219608 | T29: 106.44385
A30: 3 | B30: 3 | C30: 2 | D30: 334000 | E30: Aachen, Kreis | F30: 767.56912 | G30: 692.31935 | H30: 730.89701 | I30: 522.75346 | J30: 492.34964 | K30: 507.93651 | L30: 244.81567 | M30: 199.9697 | N30: 222.9605 | O30: 154.08986 | P30: 125.73852 | Q30: 140.27316 | R30: 90.725806 | S30: 74.231177 | T30: 82.687339
A31: 3 | B31: 4 | C31: 2 | D31: 554000 | E31: Borken, Kreis | F31: 469.054 | G31: 409.66443 | H31: 439.66846 | I31: 251.35405 | J31: 248.05369 | K31: 249.72106 | L31: 217.69995 | M31: 161.61074 | N31: 189.9474 | O31: 97.28138 | P31: 100.40268 | Q31: 98.82578 | R31: 120.41857 | S31: 61.208054 | T31: 91.121619
A32: 3 | B32: 4 | C32: 2 | D32: 558000 | E32: Coesfeld, Kreis | F32: 302.62809 | G32: 222.59791 | H32: 263.80536 | I32: 157.95062 | J32: 128.20513 | K32: 143.52105 | L32: 144.67746 | M32: 94.392787 | N32: 120.28431 | O32: 75.657022 | P32: 64.102564 | Q32: 70.051941 | R32: 69.020441 | S32: 30.290223 | T32: 50.232367
A33: 3 | B33: 4 | C33: 2 | D33: 358000 | E33: Düren, Kreis | F33: 560.31537 | G33: 508.13008 | H33: 535.52214 | I33: 381.07753 | J33: 333.33333 | K33: 358.39426 | L33: 179.23784 | M33: 174.79675 | N33: 177.12788 | O33: 90.407359 | P33: 96.980256 | Q33: 93.530142 | R33: 88.830486 | S33: 77.816492 | T33: 83.597738
A34: 3 | B34: 4 | C34: 2 | D34: 366000 | E34: Euskirchen, Kreis | F34: 416.98401 | G34: 359.39044 | H34: 389.46191 | I34: 250.85682 | J34: 209.60108 | K34: 231.14204 | L34: 166.12719 | M34: 149.78936 | N34: 158.31987 | O34: 70.449353 | P34: 87.377126 | Q34: 78.538586 | R34: 95.677837 | S34: 62.412233 | T34: 79.781285
A35: 3 | B35: 4 | C35: 2 | D35: 754000 | E35: Gütersloh, Kreis | F35: 647.81417 | G35: 521.34395 | H35: 586.4725 | I35: 456.4036 | J35: 385.00817 | K35: 421.77477 | L35: 191.41057 | M35: 136.33578 | N35: 164.69772 | O35: 68.773145 | P35: 63.827614 | Q35: 66.374421 | R35: 122.63743 | S35: 72.50817 | T35: 98.323303
A36: 3 | B36: 4 | C36: 2 | D36: 370000 | E36: Heinsberg, Kreis | F36: 295.06641 | G36: 281.11652 | H36: 288.25157 | I36: 210.62619 | J36: 192.70885 | K36: 201.87315 | L36: 84.440228 | M36: 88.407669 | N36: 86.378415 | O36: 39.848197 | P36: 40.727128 | Q36: 40.277576 | R36: 44.59203 | S36: 47.68054 | T36: 46.10084
A37: 3 | B37: 4 | C37: 2 | D37: 758000 | E37: Herford, Kreis | F37: 427.13808 | G37: 391.20562 | H37: 409.86454 | I37: 264.69183 | J37: 253.92238 | K37: 259.51471 | L37: 162.44625 | M37: 137.28324 | N37: 150.34982 | O37: 56.378404 | P37: 74.318745 | Q37: 65.002729 | R37: 106.06785 | S37: 62.964492 | T37: 85.347095
A38: 3 | B38: 4 | C38: 2 | D38: 958000 | E38: Hochsauerlandkreis | F38: 417.65228 | G38: 376.79722 | H38: 398.3613 | I38: 252.06978 | J38: 249.54553 | K38: 250.87788 | L38: 165.5825 | M38: 127.25169 | N38: 147.48342 | O38: 61.354228 | P38: 59.494298 | Q38: 60.476005 | R38: 104.22827 | S38: 67.757395 | T38: 87.007413
A39: 3 | B39: 4 | C39: 2 | D39: 762000 | E39: Höxter, Kreis | F39: 513.47337 | G39: 473.84008 | H39: 494.36063 | I39: 307.65966 | J39: 311.33723 | K39: 309.43313 | L39: 205.81371 | M39: 162.50285 | N39: 184.92749 | O39: 86.993422 | P39: 70.620396 | Q39: 79.0977 | R39: 118.82028 | S39: 91.882451 | T39: 105.82979
A40: 3 | B40: 4 | C40: 2 | D40: 154000 | E40: Kleve, Kreis | F40: 373.26142 | G40: 290.65378 | H40: 333.23579 | I40: 124.18393 | J40: 116.26151 | K40: 120.34531 | L40: 249.07749 | M40: 174.39227 | N40: 212.89048 | O40: 161.79393 | P40: 148.72414 | Q40: 155.46126 | R40: 87.283565 | S40: 25.668126 | T40: 57.429219
A41: 3 | B41: 4 | C41: 2 | D41: 766000 | E41: Lippe, Kreis | F41: 376.85403 | G41: 336.92445 | H41: 357.6382 | I41: 242.53613 | J41: 182.52934 | K41: 213.65828 | L41: 134.31791 | M41: 154.39511 | N41: 143.97992 | O41: 61.748043 | P41: 83.030261 | Q41: 71.989961 | R41: 72.569864 | S41: 71.364853 | T41: 71.989961
... A56: 3 | B56: 4 | C56: 2 | D56: 170000 | E56: Wesel, Kreis | F56: 549.02962 | G56: 408.87646 | H56: 479.86548 | I56: 281.75009 | J56: 200.94356 | K56: 241.8729 | L56: 267.27954 | M56: 207.9329 | N56: 237.99258 | O56: 155.7712 | P56: 145.02883 | Q56: 150.46995 | R56: 111.50834 | S56: 62.904071 | T56: 87.522635
E57: Jugendamtstyp 3 | F57: 498.75888 | G57: 419.56433 | H57: 460.44576 | I57: 310.31889 | J57: 272.09506 | K57: 291.82678 | L57: 188.43999 | M57: 147.46927 | N57: 168.61898 | O57: 82.347837 | P57: 83.074723 | Q57: 82.699494 | R57: 106.09215 | S57: 64.394552 | T57: 85.919487
A58: 4 | B58: 2 | C58: 3 | D58: 334004 | E58: Alsdorf, Stadt | F58: 911.70825 | G58: 715.31941 | H58: 817.15935 | I58: 602.68714 | J58: 461.02956 | K58: 534.48791 | L58: 309.02111 | M58: 254.28985 | N58: 282.67144 | O58: 170.82534 | P58: 148.85259 | Q58: 160.24684 | R58: 138.19578 | S58: 105.43725 | T58: 122.4246
A59: 4 | B59: 2 | C59: 3 | D59: 962004 | E59: Altena, Stadt | F59: 822.59055 | G59: 871.68759 | H59: 845.57623 | I59: 613.87354 | J59: 606.69456 | K59: 610.51257 | L59: 208.717 | M59: 264.99303 | N59: 235.06366 | O59: 122.77471 | P59: 125.52301 | Q59: 124.06138 | R59: 85.942296 | S59: 139.47001 | T59: 111.00229
A60: 4 | B60: 2 | C60: 3 | D60: 978004 | E60: Bergkamen, Stadt | F60: 1089.0332 | G60: 953.48348 | H60: 1024.5368 | I60: 873.13718 | J60: 785.09787 | K60: 831.24687 | L60: 215.89606 | M60: 168.3856 | N60: 193.28993 | O60: 82.155139 | P60: 79.983161 | Q60: 81.121683 | R60: 133.74092 | S60: 88.402442 | T60: 112.16825
A61: 4 | B61: 2 | C61: 3 | D61: 562008 | E61: Datteln, Stadt | F61: 497.75028 | G61: 543.15913 | H61: 519.96553 | I61: 250.28121 | J61: 302.40752 | K61: 275.78282 | L61: 247.46907 | M61: 240.75161 | N61: 244.18271 | O61: 84.364454 | P61: 126.2478 | Q61: 104.85493 | R61: 163.10461 | S61: 114.50382 | T61: 139.32778
A62: 4 | B62: 2 | C62: 3 | D62: 158004 | E62: Erkrath, Stadt | F62: 496.48712 | G62: 447.12562 | H62: 471.93127 | I62: 370.02342 | J62: 307.54672 | K62: 338.94316 | L62: 126.4637 | M62: 139.5789 | N62: 132.98811 | O62: 56.206089 | P62: 61.509345 | Q62: 58.844298 | R62: 70.257611 | S62: 78.069553 | T62: 74.143815
A63: 4 | B63: 2 | C63: 3 | D63: 954012 | E63: Gevelsberg, Stadt | F63: 339.87386 | G63: 346.22468 | H63: 342.97001 | I63: 217.23896 | J63: 232.0442 | K63: 224.45681 | L63: 122.6349 | M63: 114.18048 | N63: 118.5132 | O63: 42.046251 | P63: 66.298343 | Q63: 53.869635 | R63: 80.588648 | S63: 47.882136 | T63: 64.643563
A64: 4 | B64: 2 | C64: 3 | D64: 158012 | E64: Heiligenhaus, Stadt | F64: 728.27207 | G64: 747.46622 | H64: 736.88199 | I64: 504.98111 | J64: 527.87162 | K64: 515.2491 | L64: 223.29097 | M64: 219.59459 | N64: 221.63289 | O64: 130.53933 | P64: 130.91216 | Q64: 130.70657 | R64: 92.751632 | S64: 88.682432 | T64: 90.926312
A65: 4 | B65: 2 | C65: 3 | D65: 158026 | E65: Monheim am Rhein, Stadt | F65: 752.81565 | G65: 555.88882 | H65: 654.93938 | I65: 531.51551 | J65: 419.91602 | K65: 476.0485 | L65: 221.30014 | M65: 135.97281 | N65: 178.89088 | O65: 69.156293 | P65: 51.989602 | Q65: 60.62413 | R65: 152.14385 | S65: 83.983203 | T65: 118.26675
A66: 4 | B66: 2 | C66: 3 | D66: 954024 | E66: Schwelm, Stadt | F66: 632.51977 | G66: 652.09197 | H66: 641.85545 | I66: 446.88897 | J66: 437.24086 | K66: 442.28695 | L66: 185.6308 | M66: 214.85111 | N66: 199.5685 | O66: 58.439326 | P66: 120.61817 | Q66: 88.097807 | R66: 127.19147 | S66: 94.232944 | T66: 111.47069
A67: 4 | B67: 2 | C67: 3 | D67: 962060 | E67: Werdohl, Stadt | F67: 515.25763 | G67: 339.07427 | H67: 430.38631 | I67: 360.18009 | J67: 242.19591 | K67: 303.34457 | L67: 155.07754 | M67: 96.878364 | N67: 127.04174 | O67: 75.037519 | P67: 48.439182 | Q67: 62.224527 | R67: 80.04002 | S67: 48.439182 | T67: 64.817215
E68: Jugendamtstyp 4 | F68: 714.22558 | G68: 626.46617 | H68: 671.86389 | I68: 504.58844 | J68: 443.60902 | K68: 475.15352 | L68: 209.63713 | M68: 182.85714 | N68: 196.71036 | O68: 90.646311 | P68: 94.135338 | Q68: 92.330473 | R68: 118.99082 | S68: 88.721805 | T68: 104.37989
A69: 5 | B69: 3 | C69: 3 | D69: 570008 | E69: Beckum, Stadt | F69: 843.91534 | G69: 701.75439 | H69: 773.54709 | I69: 600.5291 | J69: 556.0054 | K69: 578.49031 | L69: 243.38624 | M69: 145.74899 | N69: 195.05678 | O69: 71.428571 | P69: 62.078273 | Q69: 66.800267 | R69: 171.95767 | S69: 83.670715 | T69: 128.25651
A70: 5 | B70: 3 | C70: 3 | D70: 758004 | E70: Bünde, Stadt | F70: 404.35785 | G70: 331.7008 | H70: 369.13114 | I70: 255.60444 | J70: 251.55833 | K70: 253.64274 | L70: 148.7534 | M70: 80.142476 | N70: 115.4884 | O70: 52.377959 | P70: 35.618878 | Q70: 44.252563 | R70: 96.375445 | S70: 44.523598 | T70: 71.235834
A71: 5 | B71: 3 | C71: 3 | D71: 362016 | E71: Elsdorf, Stadt | F71: 346.5765 | G71: 254.59689 | H71: 303.09784 | I71: 169.06171 | J71: 160.30174 | K71: 164.92088 | L71: 177.51479 | M71: 94.295144 | N71: 138.17696 | O71: 88.757396 | P71: 56.577086 | Q71: 73.545799 | R71: 88.757396 | S71: 37.718058 | T71: 64.631157
A72: 5 | B72: 3 | C72: 3 | D72: 154008 | E72: Emmerich am Rhein, Stadt | F72: 321.65422 | G72: 328.74874 | H72: 324.9265 | I72: 143.59563 | J72: 134.18316 | K72: 139.25422 | L72: 178.05859 | M72: 194.56558 | N72: 185.67229 | O72: 112.0046 | P72: 127.474 | Q72: 119.13972 | R72: 66.053992 | S72: 67.09158 | T72: 66.53257
A73: 5 | B73: 3 | C73: 3 | D73: 954008 | E73: Ennepetal, Stadt (incl. Stadt Breckerfeld) | F73: 526.85162 | G73: 422.42295 | H73: 475.75718 | I73: 269.78875 | J73: 260.36132 | K73: 265.17613 | L73: 257.06287 | M73: 162.06164 | N73: 210.58105 | O73: 99.261899 | P73: 92.986185 | Q73: 96.191343 | R73: 157.80097 | S73: 69.075452 | T73: 114.3897
A74: 5 | B74: 3 | C74: 3 | D74: 370012 | E74: Geilenkirchen, Stadt | F74: 530.47048 | G74: 413.74474 | H74: 475.16199 | I74: 359.96211 | J74: 259.46704 | K74: 312.34424 | L74: 170.50837 | M74: 154.2777 | N74: 162.81774 | O74: 85.254184 | P74: 105.18934 | Q74: 94.700116 | R74: 85.254184 | S74: 49.088359 | T74: 68.117628
A75: 5 | B75: 3 | C75: 3 | D75: 154012 | E75: Geldern, Stadt | F75: 502.84091 | G75: 498.92208 | H75: 500.96054 | I75: 269.88636 | J75: 301.81706 | K75: 285.20763 | L75: 232.95455 | M75: 197.10502 | N75: 215.75292 | O75: 113.63636 | P75: 120.11087 | Q75: 116.74302 | R75: 119.31818 | S75: 76.994148 | T75: 99.009901
A76: 5 | B76: 3 | C76: 3 | D76: 154016 | E76: Goch, Stadt | F76: 488.55388 | G76: 390.21549 | H76: 440.42189 | I76: 212.17197 | J76: 203.84391 | K76: 208.09578 | L76: 276.38191 | M76: 186.37158 | N76: 232.32611 | O76: 164.71245 | P76: 101.92196 | Q76: 133.97948 | R76: 111.66946 | S76: 84.449621 | T76: 98.346636
A77: 5 | B77: 3 | C77: 3 | D77: 158008 | E77: Haan, Stadt | F77: 359.68661 | G77: 282.84998 | H77: 321.37118 | I77: 192.30769 | J77: 168.27784 | K77: 180.32494 | L77: 167.37892 | M77: 114.57214 | N77: 141.04624 | O77: 56.980057 | P77: 57.286072 | Q77: 57.132655 | R77: 110.39886 | S77: 57.286072 | T77: 83.913587
A78: 5 | B78: 3 | C78: 3 | D78: 370016 | E78: Heinsberg (Rhld.), Stadt | F78: 423.99639 | G78: 343.19821 | H78: 385.57067 | I78: 216.5088 | J78: 169.11216 | K78: 193.96807 | L78: 207.4876 | M78: 174.08605 | N78: 191.6026 | O78: 92.467298 | P78: 109.42552 | Q78: 100.53223 | R78: 115.0203 | S78: 64.660532 | T78: 91.070373
A79: 5 | B79: 3 | C79: 3 | D79: 962016 | E79: Hemer, Stadt | F79: 264.57883 | G79: 255.62995 | H79: 260.37196 | I79: 145.78834 | J79: 118.68533 | K79: 133.04721 | L79: 118.7905 | M79: 136.94461 | N79: 127.32475 | O79: 67.4946 | P79: 76.080341 | Q79: 71.530758 | R79: 51.295896 | S79: 60.864273 | T79: 55.793991
A80: 5 | B80: 3 | C80: 3 | D80: 954020 | E80: Herdecke, Stadt | F80: 345.8498 | G80: 368.5742 | H80: 357.31767 | I80: 197.62846 | J80: 232.78371 | K80: 215.36955 | L80: 148.22134 | M80: 135.79049 | N80: 141.94812 | O80: 49.407115 | P80: 72.744908 | Q80: 61.184533 | R80: 98.814229 | S80: 63.045587 | T80: 80.763583
... A102: 5 | B102: 3 | C102: 3 | D102: 334036 | E102: Würselen, Stadt | F102: 582.9372 | G102: 404.09341 | H102: 495.64549 | I102: 422.81711 | J102: 286.01417 | K102: 356.04508 | L102: 160.12009 | M102: 118.07924 | N102: 139.60041 | O102: 102.57693 | P102: 73.47153 | Q102: 88.370902 | R102: 57.543157 | S102: 44.607715 | T102: 51.229508
E103: Jugendamtstyp 5 | F103: 509.04669 | G103: 446.7057 | H103: 478.86939 | I103: 313.63497 | J103: 279.08084 | K103: 296.90841 | L103: 195.41171 | M103: 167.62486 | N103: 181.96098 | O103: 95.05845 | P103: 95.584086 | Q103: 95.312893 | R103: 100.35326 | S103: 72.040773 | T103: 86.648085
A104: 6 | B104: 4 | C104: 3 | D104: 554004 | E104: Ahaus, Stadt | F104: 361.4714 | G104: 277.19543 | H104: 321.25389 | I104: 212.63024 | J104: 146.75052 | K104: 181.19164 | L104: 148.84117 | M104: 130.44491 | N104: 140.06225 | O104: 57.410164 | P104: 74.539949 | Q104: 65.584704 | R104: 91.431001 | S104: 55.904962 | T104: 74.477546
A105: 6 | B105: 4 | C105: 3 | D105: 382008 | E105: Bad Honnef, Stadt | F105: 435.14644 | G105: 380.0905 | H105: 408.69565 | I105: 280.33473 | J105: 271.49321 | K105: 276.08696 | L105: 154.81172 | M105: 108.59729 | N105: 132.6087 | O105: 41.841004 | P105: 18.099548 | Q105: 30.434783 | R105: 112.97071 | S105: 90.497738 | T105: 102.17391
A106: 6 | B106: 4 | C106: 3 | D106: 362004 | E106: Bedburg, Stadt | F106: 509.06286 | G106: 390.08533 | H106: 451.12782 | I106: 343.23178 | J106: 239.73994 | K106: 292.83736 | L106: 165.83108 | M106: 150.34539 | N106: 158.29046 | O106: 88.700347 | P106: 101.58472 | Q106: 94.974278 | R106: 77.130737 | S106: 48.760666 | T106: 63.316185
A107: 6 | B107: 4 | C107: 3 | D107: 554012 | E107: Borken, Stadt | F107: 595.31349 | G107: 446.13194 | H107: 525.081 | I107: 405.31982 | J107: 315.61462 | K107: 363.08792 | L107: 189.99367 | M107: 130.51732 | N107: 161.99307 | O107: 71.775385 | P107: 75.937352 | Q107: 73.734778 | R107: 118.21828 | S107: 54.579972 | T107: 88.258295
A108: 6 | B108: 4 | C108: 3 | D108: 382012 | E108: Bornheim, Stadt | F108: 378.9515 | G108: 355.70311 | H108: 368.42105 | I108: 247.39839 | J108: 222.90728 | K108: 236.30505 | L108: 131.55311 | M108: 132.79583 | N108: 132.116 | O108: 53.013941 | P108: 66.397913 | Q108: 59.076262 | R108: 78.539171 | S108: 66.397913 | T108: 73.039742
A109: 6 | B109: 4 | C109: 3 | D109: 362012 | E109: Brühl, Stadt | F109: 673.7898 | G109: 283.99519 | H109: 488.50246 | I109: 571.30397 | J109: 197.35259 | K109: 393.54765 | L109: 102.48583 | M109: 86.642599 | N109: 94.954811 | O109: 45.791539 | P109: 45.728039 | Q109: 45.761355 | R109: 56.694287 | S109: 40.914561 | T109: 49.193456
A110: 6 | B110: 4 | C110: 3 | D110: 558012 | E110: Coesfeld, Stadt | F110: 657.56196 | G110: 576.15364 | H110: 617.94106 | I110: 460.29337 | J110: 442.78474 | K110: 451.77204 | L110: 197.26859 | M110: 133.3689 | N110: 166.16903 | O110: 55.639858 | P110: 58.682315 | Q110: 57.120602 | R110: 141.62873 | S110: 74.686583 | T110: 109.04842
A111: 6 | B111: 4 | C111: 3 | D111: 558016 | E111: Dülmen, Stadt | F111: 790.51383 | G111: 625.13024 | H111: 707.8909 | I111: 542.95819 | J111: 406.33465 | K111: 474.70331 | L111: 247.55565 | M111: 218.79558 | N111: 233.18759 | O111: 114.41648 | P111: 81.266931 | Q111: 97.855507 | R111: 133.13917 | S111: 137.52865 | T111: 135.33208
A112: 6 | B112: 4 | C112: 3 | D112: 566008 | E112: Emsdetten, Stadt | F112: 408.94082 | G112: 357.25478 | H112: 385.80247 | I112: 198.1204 | J112: 228.76841 | K112: 211.84063 | L112: 210.82042 | M112: 128.48637 | N112: 173.96184 | O112: 76.200152 | P112: 75.211532 | Q112: 75.757576 | R112: 134.62027 | S112: 53.274835 | T112: 98.204265
A113: 6 | B113: 4 | C113: 3 | D113: 362020 | E113: Erftstadt, Stadt | F113: 267.63485 | G113: 198.88268 | H113: 234.5347 | I113: 172.19917 | J113: 140.78212 | K113: 157.0737 | L113: 95.435685 | M113: 58.100559 | N113: 77.461001 | O113: 31.120332 | P113: 31.284916 | Q113: 31.19957 | R113: 64.315353 | S113: 26.815642 | T113: 46.261431
A114: 6 | B114: 4 | C114: 3 | D114: 370004 | E114: Erkelenz, Stadt | F114: 444.738 | G114: 329.36871 | H114: 388.15347 | I114: 264.20079 | J114: 226.44099 | K114: 245.68095 | L114: 180.53721 | M114: 102.92772 | N114: 142.47252 | O114: 96.873624 | P114: 50.32022 | Q114: 74.040835 | R114: 83.663584 | S114: 52.607502 | T114: 68.431681
A115: 6 | B115: 4 | C115: 3 | D115: 566012 | E115: Greven, Stadt | F115: 224.85493 | G115: 161.21385 | H115: 192.72205 | I115: 89.458414 | J115: 90.09009 | K115: 89.777352 | L115: 135.39652 | M115: 71.123755 | N115: 102.9447 | O115: 29.01354 | P115: 47.415837 | Q115: 38.305004 | R115: 106.38298 | S115: 23.707918 | T115: 64.639694
... A142: 6 | B142: 4 | C142: 3 | D142: 374052 | E142: Wipperfürth, Stadt | F142: 366.92987 | G142: 250 | H142: 307.30708 | I142: 222.94473 | J142: 151.78571 | K142: 186.6606 | L142: 143.98514 | M142: 98.214286 | N142: 120.64648 | O142: 55.736182 | P142: 26.785714 | Q142: 40.974277 | R142: 88.248955 | S142: 71.428571 | T142: 79.672206
E143: Jugendamtstyp 6 | F143: 502.4054 | G143: 388.95793 | H143: 447.75845 | I143: 331.1582 | J143: 259.88976 | K143: 296.82864 | L143: 171.24719 | M143: 129.06816 | N143: 150.92982 | O143: 65.962406 | P143: 66.020691 | Q143: 65.990482 | R143: 105.28479 | S143: 63.047472 | T143: 84.939334
