Workbook
Name Jugendaemter_liste: 'Tab. 1 Zuordnungstabelle'!$B$6:$B$191

Sheet Bericht
A1: Rückfragen/Anregungen zum Excel-Tool an: thomas.fink@lwl.org | D1: Basisjugendamt | F1: 2 Vergleichsjugendämter / Jugendamtstyp / Landesjugendamtsbezirk / NRW
J3: =IF(D7=1,"Jugendamtstyp 1",IF(D7=2,"Jugendamtstyp 2",IF(D7=3,"Jugendamtstyp 3",IF(D7=4,"Jugendamtstyp 4",IF(D7=5,"Jugendamtstyp 5",IF(D7=6,"Jugendamtstyp 6",IF(D7=7,"Jugendamtstyp 7",IF(D7=8,"Jugendamtstyp 8",IF(D7=9,"Jugendamtstyp 9",IF(D7=10,"Jugendamtstyp 10","")))))))))) -> #N/A | L3: =IF(D10=1,"Rheinland",IF(D10=2,"Westfalen-Lippe","")) -> #N/A | N3: Nordrhein-Westfalen
A5: 1. Zuordnung der Jugendämter in Nordrhein-Westfalen nach Jugendamtstyp, Belastungsklasse, Strukturtyp und Landesjugendamtsbezirk
B7: Jugendamtstyp | D7: =VLOOKUP($D$3,'Tab. 1 Zuordnungstabelle'!$B$6:$G$191,2,FALSE) -> #N/A | F7: =VLOOKUP($F$3,'Tab. 1 Zuordnungstabelle'!$B$6:$G$191,2,FALSE) -> #N/A | H7: =VLOOKUP($H$3,'Tab. 1 Zuordnungstabelle'!$B$6:$G$191,2,FALSE) -> #N/A | J7: - | L7: - | N7: -
B8: Belastungsklasse | D8: =VLOOKUP($D$3,'Tab. 1 Zuordnungstabelle'!$B$6:$G$191,3,FALSE) -> #N/A | F8: =VLOOKUP($F$3,'Tab. 1 Zuordnungstabelle'!$B$6:$G$191,3,FALSE) -> #N/A | H8: =VLOOKUP($H$3,'Tab. 1 Zuordnungstabelle'!$B$6:$G$191,3,FALSE) -> #N/A | J8: - | L8: - | N8: -
B9: Strukturtyp | D9: =VLOOKUP($D$3,'Tab. 1 Zuordnungstabelle'!$B$6:$G$191,4,FALSE) -> #N/A | F9: =VLOOKUP($F$3,'Tab. 1 Zuordnungstabelle'!$B$6:$G$191,4,FALSE) -> #N/A | H9: =VLOOKUP($H$3,'Tab. 1 Zuordnungstabelle'!$B$6:$G$191,4,FALSE) -> #N/A | J9: - | L9: - | N9: -
B10: LVR (1) oder LWL (2) | D10: =VLOOKUP($D$3,'Tab. 1 Zuordnungstabelle'!$B$6:$G$191,5,FALSE) -> #N/A | F10: =VLOOKUP($F$3,'Tab. 1 Zuordnungstabelle'!$B$6:$G$191,5,FALSE) -> #N/A | H10: =VLOOKUP($H$3,'Tab. 1 Zuordnungstabelle'!$B$6:$G$191,5,FALSE) -> #N/A | J10: - | L10: - | N10: -
A13: 2. Bevölkerung in den Jugendamtsbezirken in Nordrhein-Westfalen 2024
B15: insg. (unter 21 Jahren) | D15: =VLOOKUP(D$3,'Tab 2. Bevölkerung'!$E$197:$Z$395,2,FALSE) -> #N/A | F15: =VLOOKUP(F$3,'Tab 2. Bevölkerung'!$E$197:$Z$395,2,FALSE) -> #N/A | H15: =VLOOKUP(H$3,'Tab 2. Bevölkerung'!$E$197:$Z$395,2,FALSE) -> #N/A | J15: =VLOOKUP(J$3,'Tab 2. Bevölkerung'!$E$197:$Z$395,2,FALSE) -> #N/A | L15: =VLOOKUP(L$3,'Tab 2. Bevölkerung'!$E$197:$Z$395,2,FALSE) -> #N/A | N15: =VLOOKUP(N$3,'Tab 2. Bevölkerung'!$E$197:$Z$395,2,FALSE) -> 3602911
A17: Alter von … bis unter … Jahren | B17: 0-3 | D17: =VLOOKUP(D$3,'Tab 2. Bevölkerung'!$E$197:$Z$395,3,FALSE) -> #N/A | F17: =VLOOKUP(F$3,'Tab 2. Bevölkerung'!$E$197:$Z$395,3,FALSE) -> #N/A | H17: =VLOOKUP(H$3,'Tab 2. Bevölkerung'!$E$197:$Z$395,3,FALSE) -> #N/A | J17: =VLOOKUP(J$3,'Tab 2. Bevölkerung'!$E$197:$Z$395,3,FALSE) -> #N/A | L17: =VLOOKUP(L$3,'Tab 2. Bevölkerung'!$E$197:$Z$395,3,FALSE) -> #N/A | N17: =VLOOKUP(N$3,'Tab 2. Bevölkerung'!$E$197:$Z$395,3,FALSE) -> 474056
B18: 3-6 | D18: =VLOOKUP(D$3,'Tab 2. Bevölkerung'!$E$197:$Z$395,4,FALSE) -> #N/A | F18: =VLOOKUP(F$3,'Tab 2. Bevölkerung'!$E$197:$Z$395,4,FALSE) -> #N/A | H18: =VLOOKUP(H$3,'Tab 2. Bevölkerung'!$E$197:$Z$395,4,FALSE) -> #N/A | J18: =VLOOKUP(J$3,'Tab 2. Bevölkerung'!$E$197:$Z$395,4,FALSE) -> #N/A | L18: =VLOOKUP(L$3,'Tab 2. Bevölkerung'!$E$197:$Z$395,4,FALSE) -> #N/A | N18: =VLOOKUP(N$3,'Tab 2. Bevölkerung'!$E$197:$Z$395,4,FALSE) -> 520177
B19: 6-10 | D19: =VLOOKUP(D$3,'Tab 2. Bevölkerung'!$E$197:$Z$395,5,FALSE) -> #N/A | F19: =VLOOKUP(F$3,'Tab 2. Bevölkerung'!$E$197:$Z$395,5,FALSE) -> #N/A | H19: =VLOOKUP(H$3,'Tab 2. Bevölkerung'!$E$197:$Z$395,5,FALSE) -> #N/A | J19: =VLOOKUP(J$3,'Tab 2. Bevölkerung'!$E$197:$Z$395,5,FALSE) -> #N/A | L19: =VLOOKUP(L$3,'Tab 2. Bevölkerung'!$E$197:$Z$395,5,FALSE) -> #N/A | N19: =VLOOKUP(N$3,'Tab 2. Bevölkerung'!$E$197:$Z$395,5,FALSE) -> 709988
B20: 10-14 | D20: =VLOOKUP(D$3,'Tab 2. Bevölkerung'!$E$197:$Z$395,6,FALSE) -> #N/A | F20: =VLOOKUP(F$3,'Tab 2. Bevölkerung'!$E$197:$Z$395,6,FALSE) -> #N/A | H20: =VLOOKUP(H$3,'Tab 2. Bevölkerung'!$E$197:$Z$395,6,FALSE) -> #N/A | J20: =VLOOKUP(J$3,'Tab 2. Bevölkerung'!$E$197:$Z$395,6,FALSE) -> #N/A | L20: =VLOOKUP(L$3,'Tab 2. Bevölkerung'!$E$197:$Z$395,6,FALSE) -> #N/A | N20: =VLOOKUP(N$3,'Tab 2. Bevölkerung'!$E$197:$Z$395,6,FALSE) -> 672396
B21: 14-18 | D21: =VLOOKUP(D$3,'Tab 2. Bevölkerung'!$E$197:$Z$395,7,FALSE) -> #N/A | F21: =VLOOKUP(F$3,'Tab 2. Bevölkerung'!$E$197:$Z$395,7,FALSE) -> #N/A | H21: =VLOOKUP(H$3,'Tab 2. Bevölkerung'!$E$197:$Z$395,7,FALSE) -> #N/A | J21: =VLOOKUP(J$3,'Tab 2. Bevölkerung'!$E$197:$Z$395,7,FALSE) -> #N/A | L21: =VLOOKUP(L$3,'Tab 2. Bevölkerung'!$E$197:$Z$395,7,FALSE) -> #N/A | N21: =VLOOKUP(N$3,'Tab 2. Bevölkerung'!$E$197:$Z$395,7,FALSE) -> 686889
B22: 18 bis unter 21 | D22: =VLOOKUP(D$3,'Tab 2. Bevölkerung'!$E$197:$Z$395,8,FALSE) -> #N/A | F22: =VLOOKUP(F$3,'Tab 2. Bevölkerung'!$E$197:$Z$395,8,FALSE) -> #N/A | H22: =VLOOKUP(H$3,'Tab 2. Bevölkerung'!$E$197:$Z$395,8,FALSE) -> #N/A | J22: =VLOOKUP(J$3,'Tab 2. Bevölkerung'!$E$197:$Z$395,8,FALSE) -> #N/A | L22: =VLOOKUP(L$3,'Tab 2. Bevölkerung'!$E$197:$Z$395,8,FALSE) -> #N/A | N22: =VLOOKUP(N$3,'Tab 2. Bevölkerung'!$E$197:$Z$395,8,FALSE) -> 539405
A24: weitere Altersgruppen | B24: 0 bis unter 6 Jahre | D24: =VLOOKUP(D$3,'Tab 2. Bevölkerung'!$E$197:$Z$395,9,FALSE) -> #N/A | F24: =VLOOKUP(F$3,'Tab 2. Bevölkerung'!$E$197:$Z$395,9,FALSE) -> #N/A | H24: =VLOOKUP(H$3,'Tab 2. Bevölkerung'!$E$197:$Z$395,9,FALSE) -> #N/A | J24: =VLOOKUP(J$3,'Tab 2. Bevölkerung'!$E$197:$Z$395,9,FALSE) -> #N/A | L24: =VLOOKUP(L$3,'Tab 2. Bevölkerung'!$E$197:$Z$395,9,FALSE) -> #N/A | N24: =VLOOKUP(N$3,'Tab 2. Bevölkerung'!$E$197:$Z$395,9,FALSE) -> 994233
B25: unter 10 Jahre | D25: =VLOOKUP(D$3,'Tab 2. Bevölkerung'!$E$197:$Z$395,10,FALSE) -> #N/A | F25: =VLOOKUP(F$3,'Tab 2. Bevölkerung'!$E$197:$Z$395,10,FALSE) -> #N/A | H25: =VLOOKUP(H$3,'Tab 2. Bevölkerung'!$E$197:$Z$395,10,FALSE) -> #N/A | J25: =VLOOKUP(J$3,'Tab 2. Bevölkerung'!$E$197:$Z$395,10,FALSE) -> #N/A | L25: =VLOOKUP(L$3,'Tab 2. Bevölkerung'!$E$197:$Z$395,10,FALSE) -> #N/A | N25: =VLOOKUP(N$3,'Tab 2. Bevölkerung'!$E$197:$Z$395,10,FALSE) -> 1704221
B26: 10 bis unter 21 Jahre | D26: =VLOOKUP(D$3,'Tab 2. Bevölkerung'!$E$197:$Z$395,11,FALSE) -> #N/A | F26: =VLOOKUP(F$3,'Tab 2. Bevölkerung'!$E$197:$Z$395,11,FALSE) -> #N/A | H26: =VLOOKUP(H$3,'Tab 2. Bevölkerung'!$E$197:$Z$395,11,FALSE) -> #N/A | J26: =VLOOKUP(J$3,'Tab 2. Bevölkerung'!$E$197:$Z$395,11,FALSE) -> #N/A | L26: =VLOOKUP(L$3,'Tab 2. Bevölkerung'!$E$197:$Z$395,11,FALSE) -> #N/A | N26: =VLOOKUP(N$3,'Tab 2. Bevölkerung'!$E$197:$Z$395,11,FALSE) -> 1898690
A28: Geschlecht | B28: männlich (unter 21 J.) | D28: =VLOOKUP(D$3,'Tab 2. Bevölkerung'!$E$197:$Z$395,12,FALSE) -> #N/A | F28: =VLOOKUP(F$3,'Tab 2. Bevölkerung'!$E$197:$Z$395,12,FALSE) -> #N/A | H28: =VLOOKUP(H$3,'Tab 2. Bevölkerung'!$E$197:$Z$395,12,FALSE) -> #N/A | J28: =VLOOKUP(J$3,'Tab 2. Bevölkerung'!$E$197:$Z$395,12,FALSE) -> #N/A | L28: =VLOOKUP(L$3,'Tab 2. Bevölkerung'!$E$197:$Z$395,12,FALSE) -> #N/A | N28: =VLOOKUP(N$3,'Tab 2. Bevölkerung'!$E$197:$Z$395,12,FALSE) -> 1858393
B29: weiblich (unter 21 J.) | D29: =VLOOKUP(D$3,'Tab 2. Bevölkerung'!$E$197:$Z$395,13,FALSE) -> #N/A | F29: =VLOOKUP(F$3,'Tab 2. Bevölkerung'!$E$197:$Z$395,13,FALSE) -> #N/A | H29: =VLOOKUP(H$3,'Tab 2. Bevölkerung'!$E$197:$Z$395,13,FALSE) -> #N/A | J29: =VLOOKUP(J$3,'Tab 2. Bevölkerung'!$E$197:$Z$395,13,FALSE) -> #N/A | L29: =VLOOKUP(L$3,'Tab 2. Bevölkerung'!$E$197:$Z$395,13,FALSE) -> #N/A | N29: =VLOOKUP(N$3,'Tab 2. Bevölkerung'!$E$197:$Z$395,13,FALSE) -> 1744518
B30: männlich (6 bis u. 10) | D30: =VLOOKUP(D$3,'Tab 2. Bevölkerung'!$E$197:$Z$395,14,FALSE) -> #N/A | F30: =VLOOKUP(F$3,'Tab 2. Bevölkerung'!$E$197:$Z$395,14,FALSE) -> #N/A | H30: =VLOOKUP(H$3,'Tab 2. Bevölkerung'!$E$197:$Z$395,14,FALSE) -> #N/A | J30: =VLOOKUP(J$3,'Tab 2. Bevölkerung'!$E$197:$Z$395,14,FALSE) -> #N/A | L30: =VLOOKUP(L$3,'Tab 2. Bevölkerung'!$E$197:$Z$395,14,FALSE) -> #N/A | N30: =VLOOKUP(N$3,'Tab 2. Bevölkerung'!$E$197:$Z$395,14,FALSE) -> 364346
B31: weiblich (6 bis u. 10) | D31: =VLOOKUP(D$3,'Tab 2. Bevölkerung'!$E$197:$Z$395,15,FALSE) -> #N/A | F31: =VLOOKUP(F$3,'Tab 2. Bevölkerung'!$E$197:$Z$395,15,FALSE) -> #N/A | H31: =VLOOKUP(H$3,'Tab 2. Bevölkerung'!$E$197:$Z$395,15,FALSE) -> #N/A | J31: =VLOOKUP(J$3,'Tab 2. Bevölkerung'!$E$197:$Z$395,15,FALSE) -> #N/A | L31: =VLOOKUP(L$3,'Tab 2. Bevölkerung'!$E$197:$Z$395,15,FALSE) -> #N/A | N31: =VLOOKUP(N$3,'Tab 2. Bevölkerung'!$E$197:$Z$395,15,FALSE) -> 345642
B32: männlich (10 bis u. 21 J.) | D32: =VLOOKUP(D$3,'Tab 2. Bevölkerung'!$E$197:$Z$395,16,FALSE) -> #N/A | F32: =VLOOKUP(F$3,'Tab 2. Bevölkerung'!$E$197:$Z$395,16,FALSE) -> #N/A | H32: =VLOOKUP(H$3,'Tab 2. Bevölkerung'!$E$197:$Z$395,16,FALSE) -> #N/A | J32: =VLOOKUP(J$3,'Tab 2. Bevölkerung'!$E$197:$Z$395,16,FALSE) -> #N/A | L32: =VLOOKUP(L$3,'Tab 2. Bevölkerung'!$E$197:$Z$395,16,FALSE) -> #N/A | N32: =VLOOKUP(N$3,'Tab 2. Bevölkerung'!$E$197:$Z$395,16,FALSE) -> 983329
B33: weiblich (10 bis u. 21 J.) | D33: =VLOOKUP(D$3,'Tab 2. Bevölkerung'!$E$197:$Z$395,17,FALSE) -> #N/A | F33: =VLOOKUP(F$3,'Tab 2. Bevölkerung'!$E$197:$Z$395,17,FALSE) -> #N/A | H33: =VLOOKUP(H$3,'Tab 2. Bevölkerung'!$E$197:$Z$395,17,FALSE) -> #N/A | J33: =VLOOKUP(J$3,'Tab 2. Bevölkerung'!$E$197:$Z$395,17,FALSE) -> #N/A | L33: =VLOOKUP(L$3,'Tab 2. Bevölkerung'!$E$197:$Z$395,17,FALSE) -> #N/A | N33: =VLOOKUP(N$3,'Tab 2. Bevölkerung'!$E$197:$Z$395,17,FALSE) -> 915361
B34: männlich (6 bis u. 21 J.) | D34: =VLOOKUP(D$3,'Tab 2. Bevölkerung'!$E$197:$Z$395,18,FALSE) -> #N/A | F34: =VLOOKUP(F$3,'Tab 2. Bevölkerung'!$E$197:$Z$395,18,FALSE) -> #N/A | H34: =VLOOKUP(H$3,'Tab 2. Bevölkerung'!$E$197:$Z$395,18,FALSE) -> #N/A | J34: =VLOOKUP(J$3,'Tab 2. Bevölkerung'!$E$197:$Z$395,18,FALSE) -> #N/A | L34: =VLOOKUP(L$3,'Tab 2. Bevölkerung'!$E$197:$Z$395,18,FALSE) -> #N/A | N34: =VLOOKUP(N$3,'Tab 2. Bevölkerung'!$E$197:$Z$395,18,FALSE) -> 1347675
B35: weiblich (6 bis u. 21 J.) | D35: =VLOOKUP(D$3,'Tab 2. Bevölkerung'!$E$197:$Z$395,19,FALSE) -> #N/A | F35: =VLOOKUP(F$3,'Tab 2. Bevölkerung'!$E$197:$Z$395,19,FALSE) -> #N/A | H35: =VLOOKUP(H$3,'Tab 2. Bevölkerung'!$E$197:$Z$395,19,FALSE) -> #N/A | J35: =VLOOKUP(J$3,'Tab 2. Bevölkerung'!$E$197:$Z$395,19,FALSE) -> #N/A | L35: =VLOOKUP(L$3,'Tab 2. Bevölkerung'!$E$197:$Z$395,19,FALSE) -> #N/A | N35: =VLOOKUP(N$3,'Tab 2. Bevölkerung'!$E$197:$Z$395,19,FALSE) -> 1261003
A37: Insgesamt | B37: 6 bis unter 21 Jahre | D37: =VLOOKUP(D$3,'Tab 2. Bevölkerung'!$E$197:$Z$395,20,FALSE) -> #N/A | F37: =VLOOKUP(F$3,'Tab 2. Bevölkerung'!$E$197:$Z$395,20,FALSE) -> #N/A | H37: =VLOOKUP(H$3,'Tab 2. Bevölkerung'!$E$197:$Z$395,20,FALSE) -> #N/A | J37: =VLOOKUP(J$3,'Tab 2. Bevölkerung'!$E$197:$Z$395,20,FALSE) -> #N/A | L37: =VLOOKUP(L$3,'Tab 2. Bevölkerung'!$E$197:$Z$395,20,FALSE) -> #N/A | N37: =VLOOKUP(N$3,'Tab 2. Bevölkerung'!$E$197:$Z$395,20,FALSE) -> 2608678
B38: 6 bis unter 10 Jahre | D38: =VLOOKUP(D$3,'Tab 2. Bevölkerung'!$E$197:$Z$395,21,FALSE) -> #N/A | F38: =VLOOKUP(F$3,'Tab 2. Bevölkerung'!$E$197:$Z$395,21,FALSE) -> #N/A | H38: =VLOOKUP(H$3,'Tab 2. Bevölkerung'!$E$197:$Z$395,21,FALSE) -> #N/A | J38: =VLOOKUP(J$3,'Tab 2. Bevölkerung'!$E$197:$Z$395,21,FALSE) -> #N/A | L38: =VLOOKUP(L$3,'Tab 2. Bevölkerung'!$E$197:$Z$395,21,FALSE) -> #N/A | N38: =VLOOKUP(N$3,'Tab 2. Bevölkerung'!$E$197:$Z$395,21,FALSE) -> 709988
B39: 10 bis unter 21 Jahre | D39: =VLOOKUP(D$3,'Tab 2. Bevölkerung'!$E$197:$Z$395,22,FALSE) -> #N/A | F39: =VLOOKUP(F$3,'Tab 2. Bevölkerung'!$E$197:$Z$395,22,FALSE) -> #N/A | H39: =VLOOKUP(H$3,'Tab 2. Bevölkerung'!$E$197:$Z$395,22,FALSE) -> #N/A | J39: =VLOOKUP(J$3,'Tab 2. Bevölkerung'!$E$197:$Z$395,22,FALSE) -> #N/A | L39: =VLOOKUP(L$3,'Tab 2. Bevölkerung'!$E$197:$Z$395,22,FALSE) -> #N/A | N39: =VLOOKUP(N$3,'Tab 2. Bevölkerung'!$E$197:$Z$395,22,FALSE) -> 1898690
A42: 3a. Leistungen der Hilfen zur Erziehung (einschl. Erziehungsberatung) und der Erziehungsberatung in den Jugendamtsbezirken der Kreise und kreisfreien Städte Nordrhein-Westfalens; 2024 (Aufsummierung der zum 31.12. eines Jahres andauernden und der innerhalb eines Jahres beendeten Hilfen; Angaben absolut, Inanspruchnahme pro 10.000 der unter 21-jährigen Bevölkerung)
B45: HzE insg. (einschl. EB) Zahl der Hilfen | D45: =VLOOKUP(D$3,'Tab. 3a Leistungen_mEB'!$B$5:$H$61,2,FALSE) -> #N/A | F45: =VLOOKUP(F$3,'Tab. 3a Leistungen_mEB'!$B$5:$H$61,2,FALSE) -> #N/A | H45: =VLOOKUP(H$3,'Tab. 3a Leistungen_mEB'!$B$5:$H$61,2,FALSE) -> #N/A | J45: =VLOOKUP(J$3,'Tab. 3a Leistungen_mEB'!$B$5:$H$61,2,FALSE) -> #N/A | L45: =VLOOKUP(L$3,'Tab. 3a Leistungen_mEB'!$B$5:$H$61,2,FALSE) -> #N/A | N45: =VLOOKUP(N$3,'Tab. 3a Leistungen_mEB'!$B$5:$H$61,2,FALSE) -> 267238
A46: Anzahl absolut | B46: HzE insg. (einschl. EB) Zahl der Kinder | D46: =VLOOKUP(D$3,'Tab. 3a Leistungen_mEB'!$B$5:$H$61,3,FALSE) -> #N/A | F46: =VLOOKUP(F$3,'Tab. 3a Leistungen_mEB'!$B$5:$H$61,3,FALSE) -> #N/A | H46: =VLOOKUP(H$3,'Tab. 3a Leistungen_mEB'!$B$5:$H$61,3,FALSE) -> #N/A | J46: =VLOOKUP(J$3,'Tab. 3a Leistungen_mEB'!$B$5:$H$61,3,FALSE) -> #N/A | L46: =VLOOKUP(L$3,'Tab. 3a Leistungen_mEB'!$B$5:$H$61,3,FALSE) -> #N/A | N46: =VLOOKUP(N$3,'Tab. 3a Leistungen_mEB'!$B$5:$H$61,3,FALSE) -> 311492
B47: Erziehungsberatung | D47: =VLOOKUP(D$3,'Tab. 3a Leistungen_mEB'!$B$5:$H$61,4,FALSE) -> #N/A | F47: =VLOOKUP(F$3,'Tab. 3a Leistungen_mEB'!$B$5:$H$61,4,FALSE) -> #N/A | H47: =VLOOKUP(H$3,'Tab. 3a Leistungen_mEB'!$B$5:$H$61,4,FALSE) -> #N/A | J47: =VLOOKUP(J$3,'Tab. 3a Leistungen_mEB'!$B$5:$H$61,4,FALSE) -> #N/A | L47: =VLOOKUP(L$3,'Tab. 3a Leistungen_mEB'!$B$5:$H$61,4,FALSE) -> #N/A | N47: =VLOOKUP(N$3,'Tab. 3a Leistungen_mEB'!$B$5:$H$61,4,FALSE) -> 127691
A49: Inanspruchnahme pro 10.000 der unter 21-Jährigen | B49: HzE insg. (einschl. EB) Zahl der Hilfen | D49: =VLOOKUP(D$3,'Tab. 3a Leistungen_mEB'!$B$5:$H$61,5,FALSE) -> #N/A | F49: =VLOOKUP(F$3,'Tab. 3a Leistungen_mEB'!$B$5:$H$61,5,FALSE) -> #N/A | H49: =VLOOKUP(H$3,'Tab. 3a Leistungen_mEB'!$B$5:$H$61,5,FALSE) -> #N/A | J49: =VLOOKUP(J$3,'Tab. 3a Leistungen_mEB'!$B$5:$H$61,5,FALSE) -> #N/A | L49: =VLOOKUP(L$3,'Tab. 3a Leistungen_mEB'!$B$5:$H$61,5,FALSE) -> #N/A | N49: =VLOOKUP(N$3,'Tab. 3a Leistungen_mEB'!$B$5:$H$61,5,FALSE) -> 741.72801
B50: HzE insg. (einschl. EB) Zahl der Kinder | D50: =VLOOKUP(D$3,'Tab. 3a Leistungen_mEB'!$B$5:$H$61,6,FALSE) -> #N/A | F50: =VLOOKUP(F$3,'Tab. 3a Leistungen_mEB'!$B$5:$H$61,6,FALSE) -> #N/A | H50: =VLOOKUP(H$3,'Tab. 3a Leistungen_mEB'!$B$5:$H$61,6,FALSE) -> #N/A | J50: =VLOOKUP(J$3,'Tab. 3a Leistungen_mEB'!$B$5:$H$61,6,FALSE) -> #N/A | L50: =VLOOKUP(L$3,'Tab. 3a Leistungen_mEB'!$B$5:$H$61,6,FALSE) -> #N/A | N50: =VLOOKUP(N$3,'Tab. 3a Leistungen_mEB'!$B$5:$H$61,6,FALSE) -> 864.55647
B51: Erziehungsberatung | D51: =VLOOKUP(D$3,'Tab. 3a Leistungen_mEB'!$B$5:$H$61,7,FALSE) -> #N/A | F51: =VLOOKUP(F$3,'Tab. 3a Leistungen_mEB'!$B$5:$H$61,7,FALSE) -> #N/A | H51: =VLOOKUP(H$3,'Tab. 3a Leistungen_mEB'!$B$5:$H$61,7,FALSE) -> #N/A | J51: =VLOOKUP(J$3,'Tab. 3a Leistungen_mEB'!$B$5:$H$61,7,FALSE) -> #N/A | L51: =VLOOKUP(L$3,'Tab. 3a Leistungen_mEB'!$B$5:$H$61,7,FALSE) -> #N/A | N51: =VLOOKUP(N$3,'Tab. 3a Leistungen_mEB'!$B$5:$H$61,7,FALSE) -> 354.41064
A54: 3b. Leistungen der Hilfen zur Erziehung (ohne Erziehungsberatung) nach Leistungssegmenten in den Jugendamtsbezirken Nordrhein-Westfalens; 2024 (Aufsummierung der zum 31.12. eines Jahres andauernden und der innerhalb eines Jahres beendeten Hilfen; Angaben absolut)
A57: HzE insg (ohne Beratung) Zahl der Hilfen | D57: =VLOOKUP(D$3,'Tab. 3b Leistungen absolut_oEB'!$E$4:$L$202,2,FALSE) -> #N/A | F57: =VLOOKUP(F$3,'Tab. 3b Leistungen absolut_oEB'!$E$4:$L$202,2,FALSE) -> #N/A | H57: =VLOOKUP(H$3,'Tab. 3b Leistungen absolut_oEB'!$E$4:$L$202,2,FALSE) -> #N/A | J57: =VLOOKUP(J$3,'Tab. 3b Leistungen absolut_oEB'!$E$4:$L$202,2,FALSE) -> #N/A | L57: =VLOOKUP(L$3,'Tab. 3b Leistungen absolut_oEB'!$E$4:$L$202,2,FALSE) -> #N/A | N57: =VLOOKUP(N$3,'Tab. 3b Leistungen absolut_oEB'!$E$4:$L$202,2,FALSE) -> 139547
A58: HzE insg (ohne Beratung) Zahl der Kinder | D58: =VLOOKUP(D$3,'Tab. 3b Leistungen absolut_oEB'!$E$4:$L$202,3,FALSE) -> #N/A | F58: =VLOOKUP(F$3,'Tab. 3b Leistungen absolut_oEB'!$E$4:$L$202,3,FALSE) -> #N/A | H58: =VLOOKUP(H$3,'Tab. 3b Leistungen absolut_oEB'!$E$4:$L$202,3,FALSE) -> #N/A | J58: =VLOOKUP(J$3,'Tab. 3b Leistungen absolut_oEB'!$E$4:$L$202,3,FALSE) -> #N/A | L58: =VLOOKUP(L$3,'Tab. 3b Leistungen absolut_oEB'!$E$4:$L$202,3,FALSE) -> #N/A | N58: =VLOOKUP(N$3,'Tab. 3b Leistungen absolut_oEB'!$E$4:$L$202,3,FALSE) -> 183801
A59: Ambulante Hilfen gem. §§ 27,2, 29-35 SGB VIII (Zahl der Hilfen) | D59: =VLOOKUP(D$3,'Tab. 3b Leistungen absolut_oEB'!$E$4:$L$202,4,FALSE) -> #N/A | F59: =VLOOKUP(F$3,'Tab. 3b Leistungen absolut_oEB'!$E$4:$L$202,4,FALSE) -> #N/A | H59: =VLOOKUP(H$3,'Tab. 3b Leistungen absolut_oEB'!$E$4:$L$202,4,FALSE) -> #N/A | J59: =VLOOKUP(J$3,'Tab. 3b Leistungen absolut_oEB'!$E$4:$L$202,4,FALSE) -> #N/A | L59: =VLOOKUP(L$3,'Tab. 3b Leistungen absolut_oEB'!$E$4:$L$202,4,FALSE) -> #N/A | N59: =VLOOKUP(N$3,'Tab. 3b Leistungen absolut_oEB'!$E$4:$L$202,4,FALSE) -> 77671
...

Sheet Inhalt u. methodische Hinweise
A1: Eckwerte des Leistungsspektrums der Hilfen zur Erziehung in den Jugendämtern Nordrhein-Westfalens
A2: Jugendamtstabellen 2024, Datengrundlage für das HzE-Berichtswesen NRW 2026
A4: Inhaltsverzeichnis
A7: Tabelle 1 | B7: Zuordnungstabelle für die Jugendämter in Nordrhein-Westfalen nach Jugendamtstyp, Belastungsklasse, Strukturtyp und Landesjugendamtsbezirk (alphabetisch sortiert)
A9: Tabelle 2 | B9: Bevölkerung in den Jugendamtsbezirken in Nordrhein-Westfalen 2024
A10: Tabelle 3a | B10: Leistungen der Hilfen zur Erziehung (einschl. Erziehungsberatung) und der Erziehungsberatung in den Jugendamtsbezirken der Kreise und kreisfreien Städte Nordrhein-Westfalens; 2024 (Aufsummierung der am 31.12. eines Jahres andauernden und der innerhalb eines Jahres beendeten Hilfen; Angaben absolut, Inanspruchnahme pro 10.000 der unter 21-jährigen Bevölkerung) (Jugendamtsbezirke sind alphabetisch sortiert))
A13: Tabelle 3b | B13: Leistungen der Hilfen zur Erziehung (ohne Erziehungsberatung) nach Leistungssegmenten in den Jugendamtsbezirken Nordrhein-Westfalens; 2024 (Aufsummierung der am 31.12. eines Jahres andauernden und der innerhalb eines Jahres beendeten Hilfen; Angaben absolut) (Jugendamtsbezirke sind innerhalb der Jugendamtstypen alphabetisch sortiert))
A16: Tabelle 4 | B16: Inanspruchnahme von Leistungen der Hilfen zur Erziehung (ohne Erziehungsberatung) nach Leistungssegmenten in den Jugendamtsbezirken Nordrhein-Westfalens; 2024 (Aufsummierung der am 31.12. eines Jahres andauernden und der innerhalb eines Jahres beendeten Hilfen; Angaben pro 10.000 der unter 21-jährigen Bevölkerung) (Jugendamtsbezirke sind innerhalb der Jugendamtstypen alphabetisch sortiert))
A19: Tabell 5 | B19: Inanspruchnahme von Leistungen der Hilfen zur Erziehung (ohne Erziehungsberatung) nach Altersgruppen und Leistungssegmenten in den Jugendamtsbezirken Nordrhein-Westfalens; 2024 (andauernde Hilfen am 31.12.; Angaben pro 10.000 der altersgleichen Bevölkerung) (Jugendamtsbezirke sind innerhalb der Jugendamtstypen alphabetisch sortiert))
A22: Tabell 6 | B22: Inanspruchnahme von Leistungen der Hilfen zur Erziehung (ohne Erziehungsberatung) nach Geschlecht und Leistungssegmenten in den Jugendamtsbezirken Nordrhein-Westfalens; 2024 (Aufsummierung der am 31.12. eines Jahres andauernden und der innerhalb eines Jahres beendeten Leistungen; Angaben pro 10.000 der unter 21-jährigen Bevölkerung) (Jugendamtsbezirke sind innerhalb der Jugendamtstypen alphabetisch sortiert))
A25: Tabell 7 | B25: Erziehungsberatung (§ 28 SGB VIII) nach Altersgruppen und Geschlecht in den Jugendamtsbezirken der Kreise und kreisfreien Städte Nordrhein-Westfalens; 2024 (andauernde Hilfen am 31.12.; Angaben absolut, Inanspruchnahme pro 10.000 der altersgleichen Bevölkerung) (Jugendamtsbezirke sind alphabetisch sortiert))
A27: Tabelle 8 | B27: Eingliederungshilfen (§ 35a SGB VIII) nach Altersgruppen und Geschlecht in den Jugendamtsbezirken Nordrhein-Westfalens; 2024 (Aufsummierung der am 31.12. eines Jahres andauernden und der innerhalb eines Jahres beendeten Leistungen; Angaben absolut, Inanspruchnahme pro 10.000 der altersgleichen Bevölkerung) (Jugendamtsbezirke sind innerhalb der Jugendamtstypen alphabetisch sortiert))
A30: Tabelle 9 | B30: Lebenslagen von Hilfen zur Erziehung in Anspruch nehmenden jungen Menschen (ohne Erziehungsberatung) in den Jugendamtsbezirken Nordrhein-Westfalens; 2024 (begonnene Hilfen, Angaben absolut und in %) (Jugendamtsbezirke sind innerhalb der Jugendamtstypen alphabetisch sortiert))
A32: Tabelle 10 | B32: Dauer von familienersetzenden Hilfen und Intensität von ambulanten Leistungen in den Jugendamtsbezirken Nordrhein-Westfalens; 2024 (andauernde und beendete Hilfen, Anzahl der Hilfen absolut und durchschnittliche Dauer der Leistungen)
A34: Tabelle 11 | B34: Eckwerte zur Höhe der Pro-Kopf-Ausgaben der Jugendämter für die Hilfen zur Erziehung (einschl. der Hilfen für junge Volljährige) nach Jugendamtstypen in Nordrhein-Westfalen; 2024 (Angaben pro unter 21-Jährigen)
A40: Methodische Hinweise
A43: Neuberechnung der Jugendamtstypen für 2026 (Datenbasis 2024)
A45: Die in den Jugendamtstabellen verwendeten Vergleichsgruppen in Form der Jugendamtstypen wurden auf Grundlage der Datenbasis 2024 neu berechnet. Die Zuordnung der Jugendämter zu den Vergleichsgruppen wurde damit aktualisiert. Das methodische Vorgehen und die Ergebnisse werden in Erdmann. J./Mühlmann T. (2026) berichtet. Der Bericht ist verfügbar unter:
A49: https://www.akjstat.tu-dortmund.de/fileadmin/user_upload/Neuberechnung_Jugendamtstypen_HzE_NRW_2026_Datenbasis_2024.pdf
A52: Datenausfälle
A54: Jugendamt | D54: Datenjahr | E54: Grund für den Ausfall | O54: Weitere Hinweise
A55: Essen, krfr. Stadt | D55: 2024 | E55: Die Stadt Essen konnte aufgrund einer technischen Neuausrichtung, die mit einer umfangreichen Umstellung der Fachverfahren verbunden war, keine validen und qualitätsgesicherten Daten an das Statistische Landesamt übermitteln. | O55: Es liegen ausschließlich Daten zur Erziehungsberatung vor.
A56: Greven, Stadt | D56: 2021-2024 | E56: Aufgrund eines Software-Problems liegen keine Meldungen zu den Eingliederungshilfen gem. § 35a SGB VIII der Stadt Greven für den Berichtszeitraum 2021-2024 vor.

Sheet Tab. 1 Zuordnungstabelle
A1: Tabelle 1: Zuordnungstabelle für die Jugendämter in Nordrhein-Westfalen nach Jugendamtstyp, Belastungsklasse, Strukturtyp und Landesjugendamtsbezirk (alphabetisch sortiert)
A3: Kreiskennzahl | B3: Jugendamt (St. = Stadt; Kr. = Kreis) | C3: Jugendamts-typ [JAT] (2024) (1-10)¹ | D3: Belastungs-klasse 2024 (1-4)¹ | E3: Strukturtyp (2024) (1-4)³ | F3: LVR (1) oder LWL (2)
B4: (St. = Stadt;
B5: Kr. = Kreis)
A6: 334000 | B6: Aachen, Kreis | C6: 3 | D6: 3 | E6: 2 | F6: 1
A7: 334002 | B7: Aachen, Stadt | C7: 2 | D7: 2 | E7: 1 | F7: 1
A8: 554004 | B8: Ahaus, Stadt | C8: 6 | D8: 4 | E8: 3 | F8: 2
A9: 570004 | B9: Ahlen, Stadt | C9: 8 | D9: 2 | E9: 4 | F9: 2
A10: 334004 | B10: Alsdorf, Stadt | C10: 4 | D10: 2 | E10: 3 | F10: 1
A11: 962004 | B11: Altena, Stadt | C11: 4 | D11: 2 | E11: 3 | F11: 2
A12: 958004 | B12: Arnsberg, Stadt | C12: 9 | D12: 3 | E12: 4 | F12: 2
A13: 382008 | B13: Bad Honnef, Stadt | C13: 6 | D13: 4 | E13: 3 | F13: 1
A14: 770004 | B14: Bad Oeynhausen, Stadt | C14: 9 | D14: 3 | E14: 4 | F14: 2
A15: 766008 | B15: Bad Salzuflen, Stadt | C15: 8 | D15: 2 | E15: 4 | F15: 2
A16: 570008 | B16: Beckum, Stadt | C16: 5 | D16: 3 | E16: 3 | F16: 2
A17: 362004 | B17: Bedburg, Stadt | C17: 6 | D17: 4 | E17: 3 | F17: 1
... A191: 334036 | B191: Würselen, Stadt | C191: 5 | D191: 3 | E191: 3 | F191: 1
A192: 1 | B192: Datenbasis ist das Jahr 2024; siehe zur näheren Erläuterung Erdmann, J./Mühlmann, T. (2026); verfügbar unter: https://www.akjstat.tu-dortmund.de/fileadmin/user_upload/Neuberechnung_Jugendamtstypen_HzE_NRW_2026_Datenbasis_2024.pdf
A196: 3 | B196: 1: Kreisfreie Städte; 2: Landkreise; 3: kreisangehörige Jugendämter mit weniger als 50.000 Einwohner:innen; 4: kreisangehörige Jugendämter mit 50.000 und mehr Einwohner:innen.
A198: 4 | B198: Die ursprünglich kreisfreie Stadt Aachen hat mit der Gründung des Kommunalverbandes „Städteregion Aachen“ als regionsangehörige Stadt mit teilweisen Rechten einer kreisfreien Stadt einen Sonderstatus. Für die Ergebnisdarstellung nach den Jugendamtsbezirken wird die Stadt Aachen als kreisfreie Stadt behandelt.
A202: 5 | B202: Die Gemeinde Breckerfeld im Ennepe-Ruhr-Kreis ist die einzige kreisangehörige Gemeinde im Kreis ohne ein eigenes Jugendamt. Da ein Kreisjugendamt nicht mehr besteht, ist das Jugendamt Ennepetal auch für Breckerfeld zuständig.
A206: Quelle: Zusammenstellung und Berechnung Arbeitsstelle Kinder- und Jugendhilfestatistik

Sheet Tab 2. Bevölkerung
A1: Tabelle 2: Bevölkerung in den Jugendamtsbezirken in Nordrhein-Westfalen 2024
A2: (Angaben der Bevölkerungsfortschreibung zum 31.12.2024 basieren auf dem Zensus 2022)
A3: Jugend-amtstyp [JAT] (2024) (1-10) | B3: Belastungs-klasse (2024) (1-4) | C3: Strukturtyp (2024) (1-4) | D3: KKZ | E3: Jugendamtsbezirke | F3: insg. (unter 21 Jahren) | G3: Alter von … bis unter … Jahren | M3: weitere Altersgruppen | P3: Geschlecht | X3: Insgesamt
G5: 0-3 | H5: 3-6 | I5: 6-10 | J5: 10-14 | K5: 14-18 | L5: 18 und älter (18 bis unter 21 J.) | M5: 0 bis unter 6 Jahre | N5: unter 10 Jahre | O5: 10 bis unter 21 Jahre | P5: männlich (unter 21 J.) | Q5: weiblich (unter 21 J.) | R5: männlich (6 bis unter 10) | S5: weiblich (6 bis unter 10) | T5: männlich (10 bis unter 21 J.) | U5: weiblich (10 bis unter 21 J.) | V5: männlich (6 bis unter 21) | W5: weiblich (6 bis unter 21) | X5: 6 bis unter 21 Jahre | Y5: 6 bis unter 10 Jahre | Z5: 10 bis unter 21 Jahre
A6: 2 | B6: 2 | C6: 1 | D6: 111000 | E6: Düsseldorf, krfr. Stadt | F6: 113973 | G6: 16116 | H6: 15989 | I6: 22216 | J6: 21547 | K6: 21602 | L6: 16503 | M6: 32105 | N6: 54321 | O6: 59652 | P6: 59295 | Q6: 54678 | R6: 11577 | S6: 10639 | T6: 31041 | U6: 28611 | V6: 42618 | W6: 39250 | X6: 81868 | Y6: 22216 | Z6: 59652
A7: 1 | B7: 1 | C7: 1 | D7: 112000 | E7: Duisburg, krfr. Stadt | F7: 106479 | G7: 14347 | H7: 15439 | I7: 21192 | J7: 19623 | K7: 20134 | L7: 15744 | M7: 29786 | N7: 50978 | O7: 55501 | P7: 55005 | Q7: 51474 | R7: 10938 | S7: 10254 | T7: 28713 | U7: 26788 | V7: 39651 | W7: 37042 | X7: 76693 | Y7: 21192 | Z7: 55501
A8: 1 | B8: 1 | C8: 1 | D8: 113000 | E8: Essen, krfr. Stadt | F8: 114664 | G8: 15853 | H8: 16769 | I8: 22925 | J8: 21134 | K8: 21214 | L8: 16769 | M8: 32622 | N8: 55547 | O8: 59117 | P8: 59210 | Q8: 55454 | R8: 11868 | S8: 11057 | T8: 30658 | U8: 28459 | V8: 42526 | W8: 39516 | X8: 82042 | Y8: 22925 | Z8: 59117
A9: 1 | B9: 1 | C9: 1 | D9: 114000 | E9: Krefeld, krfr. Stadt | F9: 45724 | G9: 5959 | H9: 6328 | I9: 9048 | J9: 8561 | K9: 8897 | L9: 6931 | M9: 12287 | N9: 21335 | O9: 24389 | P9: 23788 | Q9: 21936 | R9: 4647 | S9: 4401 | T9: 12780 | U9: 11609 | V9: 17427 | W9: 16010 | X9: 33437 | Y9: 9048 | Z9: 24389
A10: 1 | B10: 1 | C10: 1 | D10: 116000 | E10: Mönchengladbach, krfr. Stadt | F10: 53817 | G10: 7304 | H10: 7790 | I10: 10672 | J10: 9761 | K10: 10205 | L10: 8085 | M10: 15094 | N10: 25766 | O10: 28051 | P10: 27885 | Q10: 25932 | R10: 5530 | S10: 5142 | T10: 14621 | U10: 13430 | V10: 20151 | W10: 18572 | X10: 38723 | Y10: 10672 | Z10: 28051
A11: 1 | B11: 1 | C11: 1 | D11: 117000 | E11: Mülheim an der Ruhr, krfr. Stadt | F11: 34023 | G11: 4401 | H11: 4994 | I11: 7000 | J11: 6564 | K11: 6409 | L11: 4655 | M11: 9395 | N11: 16395 | O11: 17628 | P11: 17512 | Q11: 16511 | R11: 3616 | S11: 3384 | T11: 9106 | U11: 8522 | V11: 12722 | W11: 11906 | X11: 24628 | Y11: 7000 | Z11: 17628
A12: 1 | B12: 1 | C12: 1 | D12: 119000 | E12: Oberhausen, krfr. Stadt | F12: 42449 | G12: 5416 | H12: 6218 | I12: 8625 | J12: 8119 | K12: 8022 | L12: 6049 | M12: 11634 | N12: 20259 | O12: 22190 | P12: 21560 | Q12: 20889 | R12: 4399 | S12: 4226 | T12: 11297 | U12: 10893 | V12: 15696 | W12: 15119 | X12: 30815 | Y12: 8625 | Z12: 22190
A13: 2 | B13: 2 | C13: 1 | D13: 120000 | E13: Remscheid, krfr. Stadt | F13: 22748 | G13: 2917 | H13: 3268 | I13: 4480 | J13: 4276 | K13: 4418 | L13: 3389 | M13: 6185 | N13: 10665 | O13: 12083 | P13: 11772 | Q13: 10976 | R13: 2313 | S13: 2167 | T13: 6269 | U13: 5814 | V13: 8582 | W13: 7981 | X13: 16563 | Y13: 4480 | Z13: 12083
A14: 2 | B14: 2 | C14: 1 | D14: 122000 | E14: Solingen, krfr. Stadt | F14: 33005 | G14: 4114 | H14: 4893 | I14: 6538 | J14: 6084 | K14: 6417 | L14: 4959 | M14: 9007 | N14: 15545 | O14: 17460 | P14: 17190 | Q14: 15815 | R14: 3421 | S14: 3117 | T14: 9130 | U14: 8330 | V14: 12551 | W14: 11447 | X14: 23998 | Y14: 6538 | Z14: 17460
A15: 1 | B15: 1 | C15: 1 | D15: 124000 | E15: Wuppertal, krfr. Stadt | F15: 74388 | G15: 9525 | H15: 10565 | I15: 14637 | J15: 13900 | K15: 14102 | L15: 11659 | M15: 20090 | N15: 34727 | O15: 39661 | P15: 38610 | Q15: 35778 | R15: 7561 | S15: 7076 | T15: 20631 | U15: 19030 | V15: 28192 | W15: 26106 | X15: 54298 | Y15: 14637 | Z15: 39661
A16: 3 | B16: 4 | C16: 2 | D16: 154000 | E16: Kleve, Kreis | F16: 27338 | G16: 3532 | H16: 4179 | I16: 5385 | J16: 4994 | K16: 5078 | L16: 4170 | M16: 7711 | N16: 13096 | O16: 14242 | P16: 14092 | Q16: 13246 | R16: 2729 | S16: 2656 | T16: 7402 | U16: 6840 | V16: 10131 | W16: 9496 | X16: 19627 | Y16: 5385 | Z16: 14242
A17: 5 | B17: 3 | C17: 3 | D17: 154008 | E17: Emmerich am Rhein, Stadt | F17: 6463 | G17: 881 | H17: 1009 | I17: 1247 | J17: 1190 | K17: 1202 | L17: 934 | M17: 1890 | N17: 3137 | O17: 3326 | P17: 3482 | Q17: 2981 | R17: 628 | S17: 619 | T17: 1835 | U17: 1491 | V17: 2463 | W17: 2110 | X17: 4573 | Y17: 1247 | Z17: 3326
... A191: 5 | B191: 3 | C191: 3 | D191: 978040 | E191: Werne, Stadt | F191: 5438 | G191: 695 | H191: 768 | I191: 1090 | J191: 1028 | K191: 1087 | L191: 770 | M191: 1463 | N191: 2553 | O191: 2885 | P191: 2745 | Q191: 2693 | R191: 515 | S191: 575 | T191: 1492 | U191: 1393 | V191: 2007 | W191: 1968 | X191: 3975 | Y191: 1090 | Z191: 2885
E192: Nordrhein-Westfalen | F192: 3602911 | G192: 474056 | H192: 520177 | I192: 709988 | J192: 672396 | K192: 686889 | L192: 539405 | M192: 994233 | N192: 1704221 | O192: 1898690 | P192: 1858393 | Q192: 1744518 | R192: 364346 | S192: 345642 | T192: 983329 | U192: 915361 | V192: 1347675 | W192: 1261003 | X192: 2608678 | Y192: 709988 | Z192: 1898690
E193: Rheinland | F193: 1922425 | G193: 252113 | H193: 276282 | I193: 380344 | J193: 360507 | K193: 366366 | L193: 286813 | M193: 528395 | N193: 908739 | O193: 1013686 | P193: 992226 | Q193: 930199 | R193: 195441 | S193: 184903 | T193: 525408 | U193: 488278 | V193: 720849 | W193: 673181 | X193: 1394030 | Y193: 380344 | Z193: 1013686
E194: Westfalen-Lippe | F194: 1680486 | G194: 221943 | H194: 243895 | I194: 329644 | J194: 311889 | K194: 320523 | L194: 252592 | M194: 465838 | N194: 795482 | O194: 885004 | P194: 866167 | Q194: 814319 | R194: 168905 | S194: 160739 | T194: 457921 | U194: 427083 | V194: 626826 | W194: 587822 | X194: 1214648 | Y194: 329644 | Z194: 885004
A196: Sortierung nach Jugendamtstypen und innerhalb der Jugendamtstypen alphabetisch
A197: 1 | B197: 1 | C197: 1 | D197: 913000 | E197: Dortmund, krfr. Stadt | F197: 122202 | G197: 16601 | H197: 17682 | I197: 24014 | J197: 22563 | K197: 22893 | L197: 18449 | M197: 34283 | N197: 58297 | O197: 63905 | P197: 62372 | Q197: 59830 | R197: 12183 | S197: 11831 | T197: 32550 | U197: 31355 | V197: 44733 | W197: 43186 | X197: 87919 | Y197: 24014 | Z197: 63905
A198: 1 | B198: 1 | C198: 1 | D198: 112000 | E198: Duisburg, krfr. Stadt | F198: 106479 | G198: 14347 | H198: 15439 | I198: 21192 | J198: 19623 | K198: 20134 | L198: 15744 | M198: 29786 | N198: 50978 | O198: 55501 | P198: 55005 | Q198: 51474 | R198: 10938 | S198: 10254 | T198: 28713 | U198: 26788 | V198: 39651 | W198: 37042 | X198: 76693 | Y198: 21192 | Z198: 55501
A199: 1 | B199: 1 | C199: 1 | D199: 113000 | E199: Essen, krfr. Stadt | F199: 114664 | G199: 15853 | H199: 16769 | I199: 22925 | J199: 21134 | K199: 21214 | L199: 16769 | M199: 32622 | N199: 55547 | O199: 59117 | P199: 59210 | Q199: 55454 | R199: 11868 | S199: 11057 | T199: 30658 | U199: 28459 | V199: 42526 | W199: 39516 | X199: 82042 | Y199: 22925 | Z199: 59117
A200: 1 | B200: 1 | C200: 1 | D200: 513000 | E200: Gelsenkirchen, krfr. Stadt | F200: 60293 | G200: 8354 | H200: 8997 | I200: 11953 | J200: 10986 | K200: 11254 | L200: 8749 | M200: 17351 | N200: 29304 | O200: 30989 | P200: 31064 | Q200: 29229 | R200: 6096 | S200: 5857 | T200: 16083 | U200: 14906 | V200: 22179 | W200: 20763 | X200: 42942 | Y200: 11953 | Z200: 30989
A201: 1 | B201: 1 | C201: 1 | D201: 914000 | E201: Hagen, krfr. Stadt | F201: 40650 | G201: 5558 | H201: 5973 | I201: 7863 | J201: 7503 | K201: 7806 | L201: 5947 | M201: 11531 | N201: 19394 | O201: 21256 | P201: 20942 | Q201: 19708 | R201: 4035 | S201: 3828 | T201: 11043 | U201: 10213 | V201: 15078 | W201: 14041 | X201: 29119 | Y201: 7863 | Z201: 21256
A202: 1 | B202: 1 | C202: 1 | D202: 916000 | E202: Herne, krfr. Stadt | F202: 31741 | G202: 4399 | H202: 4583 | I202: 6135 | J202: 5931 | K202: 6010 | L202: 4683 | M202: 8982 | N202: 15117 | O202: 16624 | P202: 16509 | Q202: 15232 | R202: 3204 | S202: 2931 | T202: 8677 | U202: 7947 | V202: 11881 | W202: 10878 | X202: 22759 | Y202: 6135 | Z202: 16624
A203: 1 | B203: 1 | C203: 1 | D203: 116000 | E203: Mönchengladbach, krfr. Stadt | F203: 53817 | G203: 7304 | H203: 7790 | I203: 10672 | J203: 9761 | K203: 10205 | L203: 8085 | M203: 15094 | N203: 25766 | O203: 28051 | P203: 27885 | Q203: 25932 | R203: 5530 | S203: 5142 | T203: 14621 | U203: 13430 | V203: 20151 | W203: 18572 | X203: 38723 | Y203: 10672 | Z203: 28051
A204: 1 | B204: 1 | C204: 1 | D204: 117000 | E204: Mülheim an der Ruhr, krfr. Stadt | F204: 34023 | G204: 4401 | H204: 4994 | I204: 7000 | J204: 6564 | K204: 6409 | L204: 4655 | M204: 9395 | N204: 16395 | O204: 17628 | P204: 17512 | Q204: 16511 | R204: 3616 | S204: 3384 | T204: 9106 | U204: 8522 | V204: 12722 | W204: 11906 | X204: 24628 | Y204: 7000 | Z204: 17628
A205: 1 | B205: 1 | C205: 1 | D205: 119000 | E205: Oberhausen, krfr. Stadt | F205: 42449 | G205: 5416 | H205: 6218 | I205: 8625 | J205: 8119 | K205: 8022 | L205: 6049 | M205: 11634 | N205: 20259 | O205: 22190 | P205: 21560 | Q205: 20889 | R205: 4399 | S205: 4226 | T205: 11297 | U205: 10893 | V205: 15696 | W205: 15119 | X205: 30815 | Y205: 8625 | Z205: 22190
A206: 1 | B206: 1 | C206: 1 | D206: 124000 | E206: Wuppertal, krfr. Stadt | F206: 74388 | G206: 9525 | H206: 10565 | I206: 14637 | J206: 13900 | K206: 14102 | L206: 11659 | M206: 20090 | N206: 34727 | O206: 39661 | P206: 38610 | Q206: 35778 | R206: 7561 | S206: 7076 | T206: 20631 | U206: 19030 | V206: 28192 | W206: 26106 | X206: 54298 | Y206: 14637 | Z206: 39661
E207: Jugendamtstyp 1 | F207: 680706 | G207: 91758 | H207: 99010 | I207: 135016 | J207: 126084 | K207: 128049 | L207: 100789 | M207: 190768 | N207: 325784 | O207: 354922 | P207: 350669 | Q207: 330037 | R207: 69430 | S207: 65586 | T207: 183379 | U207: 171543 | V207: 252809 | W207: 237129 | X207: 489938 | Y207: 135016 | Z207: 354922
A208: 2 | B208: 2 | C208: 1 | D208: 334002 | E208: Aachen, Stadt | F208: 46660 | G208: 5562 | H208: 6157 | I208: 7976 | J208: 7723 | K208: 8037 | L208: 11205 | M208: 11719 | N208: 19695 | O208: 26965 | P208: 24332 | Q208: 22328 | R208: 4052 | S208: 3924 | T208: 14302 | U208: 12663 | V208: 18354 | W208: 16587 | X208: 34941 | Y208: 7976 | Z208: 26965
A209: 2 | B209: 2 | C209: 1 | D209: 711000 | E209: Bielefeld, krfr. Stadt | F209: 68117 | G209: 9130 | H209: 9713 | I209: 12950 | J209: 12460 | K209: 12781 | L209: 11083 | M209: 18843 | N209: 31793 | O209: 36324 | P209: 34666 | Q209: 33451 | R209: 6589 | S209: 6361 | T209: 18459 | U209: 17865 | V209: 25048 | W209: 24226 | X209: 49274 | Y209: 12950 | Z209: 36324
A210: 2 | B210: 2 | C210: 1 | D210: 911000 | E210: Bochum, krfr. Stadt | F210: 65516 | G210: 8918 | H210: 9475 | I210: 12788 | J210: 12101 | K210: 11844 | L210: 10390 | M210: 18393 | N210: 31181 | O210: 34335 | P210: 33568 | Q210: 31948 | R210: 6523 | S210: 6265 | T210: 17655 | U210: 16680 | V210: 24178 | W210: 22945 | X210: 47123 | Y210: 12788 | Z210: 34335
A211: 2 | B211: 2 | C211: 1 | D211: 314000 | E211: Bonn, krfr. Stadt | F211: 64779 | G211: 8285 | H211: 8543 | I211: 11955 | J211: 12071 | K211: 12454 | L211: 11471 | M211: 16828 | N211: 28783 | O211: 35996 | P211: 33090 | Q211: 31689 | R211: 6170 | S211: 5785 | T211: 18259 | U211: 17737 | V211: 24429 | W211: 23522 | X211: 47951 | Y211: 11955 | Z211: 35996
A212: 2 | B212: 2 | C212: 1 | D212: 512000 | E212: Bottrop, krfr. Stadt | F212: 22697 | G212: 3095 | H212: 3455 | I212: 4547 | J212: 4256 | K212: 4231 | L212: 3113 | M212: 6550 | N212: 11097 | O212: 11600 | P212: 11669 | Q212: 11028 | R212: 2331 | S212: 2216 | T212: 6000 | U212: 5600 | V212: 8331 | W212: 7816 | X212: 16147 | Y212: 4547 | Z212: 11600
A213: 2 | B213: 3 | C213: 1 | D213: 111000 | E213: Düsseldorf, krfr. Stadt | F213: 113973 | G213: 16116 | H213: 15989 | I213: 22216 | J213: 21547 | K213: 21602 | L213: 16503 | M213: 32105 | N213: 54321 | O213: 59652 | P213: 59295 | Q213: 54678 | R213: 11577 | S213: 10639 | T213: 31041 | U213: 28611 | V213: 42618 | W213: 39250 | X213: 81868 | Y213: 22216 | Z213: 59652
A214: 2 | B214: 3 | C214: 1 | D214: 915000 | E214: Hamm, krfr. Stadt | F214: 37188 | G214: 4806 | H214: 5139 | I214: 7191 | J214: 6883 | K214: 7376 | L214: 5793 | M214: 9945 | N214: 17136 | O214: 20052 | P214: 19049 | Q214: 18139 | R214: 3619 | S214: 3572 | T214: 10325 | U214: 9727 | V214: 13944 | W214: 13299 | X214: 27243 | Y214: 7191 | Z214: 20052
A215: 2 | B215: 2 | C215: 1 | D215: 315000 | E215: Köln, krfr. Stadt | F215: 192626 | G215: 27273 | H215: 26777 | I215: 36820 | J215: 35766 | K215: 36350 | L215: 29640 | M215: 54050 | N215: 90870 | O215: 101756 | P215: 98815 | Q215: 93811 | R215: 18998 | S215: 17822 | T215: 52128 | U215: 49628 | V215: 71126 | W215: 67450 | X215: 138576 | Y215: 36820 | Z215: 101756
...

Sheet Tab. 3a Leistungen_mEB
A1: Tabelle 3a: Leistungen der Hilfen zur Erziehung (einschl. Erziehungsberatung) und der Erziehungsberatung in den Jugendamtsbezirken der Kreise und kreisfreien Städte Nordrhein-Westfalens; 2024 (Aufsummierung der am 31.12. eines Jahres andauernden und der innerhalb eines Jahres beendeten Hilfen; Angaben absolut, Inanspruchnahme pro 10.000 der unter 21-jährigen Bevölkerung) (Kreise und kreisefreie Städte sind alphabetisch sortiert))
A3: Kreiskennzahl | B3: Jugendamt | C3: Anzahl absolut | F3: Inanspruchnahme pro 10.000 der unter 21-Jährigen
C4: HzE insg. (einschl. Beratung) Zahl der Hilfen | D4: HzE insg. (einschl. Beratung) Zahl der Kinder | E4: Erziehungs-beratung | F4: HzE insg. (einschl. Beratung) Zahl der Hilfen | G4: HzE insg. (einschl. Beratung) Zahl der Kinder | H4: Erziehungs-beratung
A5: 5334000 | B5: Aachen, Kreis | C5: 5359 | D5: 6239 | E5: 2222 | F5: 836.28533 | G5: 973.61152 | H5: 346.74865
A6: 5334002 | B6: Aachen, Stadt | C6: 4603 | D6: 5628 | E6: 2505 | F6: 986.49807 | G6: 1206.1723 | H6: 536.86241
A7: 5711000 | B7: Bielefeld, krfr. Stadt | C7: 5224 | D7: 6163 | E7: 2337 | F7: 766.91575 | G7: 904.7668 | H7: 343.08616
A8: 5911000 | B8: Bochum, krfr. Stadt | C8: 5020 | D8: 6484 | E8: 2584 | F8: 766.22504 | G8: 989.68191 | H8: 394.40747
A9: 5314000 | B9: Bonn, krfr. Stadt | C9: 3901 | D9: 4230 | E9: 2258 | F9: 602.20133 | G9: 652.98939 | H9: 348.56975
A10: 5554000 | B10: Borken, Kreis | C10: 6986 | D10: 7812 | E10: 4115 | F10: 851.46319 | G10: 952.13719 | H10: 501.5418
A11: 5512000 | B11: Bottrop, krfr. Stadt | C11: 1701 | D11: 1710 | E11: 750 | F11: 749.43825 | G11: 753.40353 | H11: 330.44015
A12: 5558000 | B12: Coesfeld, Kreis | C12: 2285 | D12: 2827 | E12: 899 | F12: 490.62762 | G12: 607.00406 | H12: 193.0303
A13: 5913000 | B13: Dortmund, krfr. Stadt | C13: 9394 | D13: 11006 | E13: 4635 | F13: 768.72719 | G13: 900.63992 | H13: 379.29003
A14: 5112000 | B14: Duisburg, krfr. Stadt | C14: 9436 | D14: 11767 | E14: 2310 | F14: 886.18413 | G14: 1105.1005 | H14: 216.94419
A15: 5358000 | B15: Düren, Kreis | C15: 3932 | D15: 4708 | E15: 1833 | F15: 700.77884 | G15: 839.08107 | H15: 326.68556
A16: 5111000 | B16: Düsseldorf, krfr. Stadt | C16: 10741 | D16: 12817 | E16: 7045 | F16: 942.41619 | G16: 1124.5646 | H16: 618.12886
A17: 5954000 | B17: Ennepe-Ruhr-Kreis | C17: 5011 | D17: 5894 | E17: 2404 | F17: 854.39045 | G17: 1004.9446 | H17: 409.88917
A18: 5113000 | B18: Essen, krfr. Stadt | C18: / | D18: / | E18: 3894 | F18: / | G18: / | H18: 339.60092
A19: 5366000 | B19: Euskirchen, Kreis | C19: 2130 | D19: 2465 | E19: 898 | F19: 529.38983 | G19: 612.65068 | H19: 223.18877
A20: 5513000 | B20: Gelsenkirchen, krfr. Stadt | C20: 3567 | D20: 4229 | E20: 1684 | F20: 591.61097 | G20: 701.40812 | H20: 279.30274
A21: 5754000 | B21: Gütersloh, Kreis | C21: 5688 | D21: 6952 | E21: 2683 | F21: 741.88079 | G21: 906.74319 | H21: 349.94131
A22: 5914000 | B22: Hagen, krfr. Stadt | C22: 2626 | D22: 2661 | E22: 1036 | F22: 646.00246 | G22: 654.61255 | H22: 254.85855
A23: 5915000 | B23: Hamm, krfr. Stadt | C23: 3833 | D23: 4861 | E23: 1407 | F23: 1030.7088 | G23: 1307.1421 | H23: 378.34785
A24: 5370000 | B24: Heinsberg, Kreis | C24: 2844 | D24: 3331 | E24: 1284 | F24: 539.47418 | G24: 631.8525 | H24: 243.56007
A25: 5758000 | B25: Herford, Kreis | C25: 3127 | D25: 3845 | E25: 1265 | F25: 604.68354 | G25: 743.52677 | H25: 244.61934
A26: 5916000 | B26: Herne, krfr. Stadt | C26: 2822 | D26: 3600 | E26: 1258 | F26: 889.07092 | G26: 1134.1798 | H26: 396.33282
A27: 5958000 | B27: Hochsauerlandkreis | C27: 4024 | D27: 4485 | E27: 2327 | F27: 801.91311 | G27: 893.78238 | H27: 463.73057
A28: 5762000 | B28: Höxter, Kreis | C28: 1596 | D28: 1922 | E28: 572 | F28: 584.44412 | G28: 703.82306 | H28: 209.46243
A29: 5154000 | B29: Kleve, Kreis | C29: 4296 | D29: 4310 | E29: 1728 | F29: 679.70382 | G29: 681.91887 | H29: 273.40042
A30: 5315000 | B30: Köln, krfr. Stadt | C30: 13679 | D30: 16815 | E30: 6575 | F30: 710.13259 | G30: 872.93512 | H30: 341.33502
... A58: 5124000 | B58: Wuppertal, krfr. Stadt | C58: 5227 | D58: 5332 | E58: 1626 | F58: 702.6671 | G58: 716.78228 | H58: 218.58364
B59: Nordrhein-Westfalen | C59: 267238 | D59: 311492 | E59: 127691 | F59: 741.72801 | G59: 864.55647 | H59: 354.41064
B60: Rheinland | C60: 142644 | D60: 164550 | E60: 68377 | F60: 742.00034 | G60: 855.95017 | H60: 355.68098
B61: Westfalen-Lippe | C61: 124594 | D61: 146942 | E61: 59314 | F61: 741.41647 | G61: 874.40181 | H61: 352.95742
A63: Anmerkungen: | B63: Die Ergebnisse werden hier für die kreisfreien Städte und die Kreise dargestellt. Die Ergebnisse zu den kreisangehörigen Gemeinden mit einem eigenen Jugendamt werden dabei ihrem jeweiligen Kreis zugeordnet.
B65: Die Hilfen für junge Volljährige sind hier – wie auch in den vorherigen Veröffentlichungen der Jugendamtstabellen – mitberücksichtigt.
A66: Datenausfälle: | B66: Die Stadt Essen konnte aufgrund einer technischen Neuausrichtung, die mit einer umfangreichen Umstellung der Fachverfahren verbunden war, keine validen und qualitätsgesicherten Daten an das Statistische Landesamt übermitteln.
A69: Quelle: IT.NRW, Zusammenstellung und Berechnung Arbeitsstelle Kinder- und Jugendhilfestatistik

Sheet Tab. 3b Leistungen absolut_oEB
A1: Tabelle 3b: Leistungen der Hilfen zur Erziehung (ohne Erziehungsberatung) nach Leistungssegmenten in den Jugendamtsbezirken Nordrhein-Westfalens; 2024 (Aufsummierung der am 31.12. eines Jahres andauernden und der innerhalb eines Jahres beendeten Hilfen; Angaben absolut) (Jugendamtsbezirke sind innerhalb der Jugendamtstypen alphabetisch sortiert))
A3: Jugend-amtstyp [JAT] (2024) (1-10) | B3: Belastungs-klasse (2024) (1-4) | C3: Strukturtyp (2024) (1-4) | D3: KKZ | E3: Jugendamt | F3: HzE insg, ohne Beratung Zahl der Hilfen | G3: HzE insg, ohne Beratung Zahl der Kinder | H3: Ambulante Hilfen gem. §§ 27,2, 29-35 SGB VIII (Zahl der Hilfen) | I3: Ambulante Hilfen gem. §§ 27,2, 29-35 SGB VIII (Zahl der Kinder) | J3: Stationäre Hilfen gem. §§ 27,2, 33, 34 | K3: Vollzeitpflege | L3: Heim-erziehung und stationäre Hilfen gem. § 27,2
A4: 1 | B4: 1 | C4: 1 | D4: 913000 | E4: Dortmund, krfr. Stadt | F4: 4759 | G4: 6371 | H4: 2444 | I4: 4056 | J4: 2315 | K4: 847 | L4: 1468
A5: 1 | B5: 1 | C5: 1 | D5: 112000 | E5: Duisburg, krfr. Stadt | F5: 7126 | G5: 9457 | H5: 4213 | I5: 6544 | J5: 2913 | K5: 1102 | L5: 1811
A6: 1 | B6: 1 | C6: 1 | D6: 113000 | E6: Essen, krfr. Stadt | F6: / | G6: / | H6: / | I6: / | J6: / | K6: / | L6: /
A7: 1 | B7: 1 | C7: 1 | D7: 513000 | E7: Gelsenkirchen, krfr. Stadt | F7: 1883 | G7: 2545 | H7: 985 | I7: 1647 | J7: 898 | K7: 441 | L7: 457
A8: 1 | B8: 1 | C8: 1 | D8: 914000 | E8: Hagen, krfr. Stadt | F8: 1590 | G8: 1625 | H8: 792 | I8: 827 | J8: 798 | K8: 332 | L8: 466
A9: 1 | B9: 1 | C9: 1 | D9: 916000 | E9: Herne, krfr. Stadt | F9: 1564 | G9: 2342 | H9: 733 | I9: 1511 | J9: 831 | K9: 439 | L9: 392
A10: 1 | B10: 1 | C10: 1 | D10: 116000 | E10: Mönchengladbach, krfr. Stadt | F10: 2874 | G10: 4403 | H10: 1522 | I10: 3051 | J10: 1352 | K10: 509 | L10: 843
A11: 1 | B11: 1 | C11: 1 | D11: 117000 | E11: Mülheim an der Ruhr, krfr. Stadt | F11: 1319 | G11: 1858 | H11: 828 | I11: 1367 | J11: 491 | K11: 147 | L11: 344
A12: 1 | B12: 1 | C12: 1 | D12: 119000 | E12: Oberhausen, krfr. Stadt | F12: 2707 | G12: 4201 | H12: 1738 | I12: 3232 | J12: 969 | K12: 473 | L12: 496
A13: 1 | B13: 1 | C13: 1 | D13: 124000 | E13: Wuppertal, krfr. Stadt | F13: 3601 | G13: 3706 | H13: 2080 | I13: 2185 | J13: 1521 | K13: 457 | L13: 1064
E14: Jugendamtstyp 1 | F14: 27423 | G14: 36508 | H14: 15335 | I14: 24420 | J14: 12088 | K14: 4747 | L14: 7341
A15: 2 | B15: 2 | C15: 1 | D15: 334002 | E15: Aachen, Stadt | F15: 2098 | G15: 3123 | H15: 1326 | I15: 2351 | J15: 772 | K15: 224 | L15: 548
A16: 2 | B16: 2 | C16: 1 | D16: 711000 | E16: Bielefeld, krfr. Stadt | F16: 2887 | G16: 3826 | H16: 1552 | I16: 2491 | J16: 1335 | K16: 477 | L16: 858
A17: 2 | B17: 2 | C17: 1 | D17: 911000 | E17: Bochum, krfr. Stadt | F17: 2436 | G17: 3900 | H17: 1281 | I17: 2745 | J17: 1155 | K17: 446 | L17: 709
A18: 2 | B18: 2 | C18: 1 | D18: 314000 | E18: Bonn, krfr. Stadt | F18: 1643 | G18: 1972 | H18: 994 | I18: 1323 | J18: 649 | K18: 201 | L18: 448
A19: 2 | B19: 2 | C19: 1 | D19: 512000 | E19: Bottrop, krfr. Stadt | F19: 951 | G19: 960 | H19: 565 | I19: 574 | J19: 386 | K19: 204 | L19: 182
A20: 2 | B20: 3 | C20: 1 | D20: 111000 | E20: Düsseldorf, krfr. Stadt | F20: 3696 | G20: 5772 | H20: 1964 | I20: 4040 | J20: 1732 | K20: 394 | L20: 1338
A21: 2 | B21: 3 | C21: 1 | D21: 915000 | E21: Hamm, krfr. Stadt | F21: 2426 | G21: 3454 | H21: 1459 | I21: 2487 | J21: 967 | K21: 400 | L21: 567
A22: 2 | B22: 2 | C22: 1 | D22: 315000 | E22: Köln, krfr. Stadt | F22: 7104 | G22: 10240 | H22: 4476 | I22: 7612 | J22: 2628 | K22: 885 | L22: 1743
A23: 2 | B23: 2 | C23: 1 | D23: 114000 | E23: Krefeld, krfr. Stadt | F23: 2127 | G23: 2617 | H23: 1037 | I23: 1527 | J23: 1090 | K23: 500 | L23: 590
A24: 2 | B24: 2 | C24: 1 | D24: 316000 | E24: Leverkusen, krfr. Stadt | F24: 1207 | G24: 1260 | H24: 772 | I24: 825 | J24: 435 | K24: 156 | L24: 279
A25: 2 | B25: 3 | C25: 1 | D25: 515000 | E25: Münster, krfr. Stadt | F25: 2178 | G25: 3365 | H25: 1170 | I25: 2357 | J25: 1008 | K25: 398 | L25: 610
A26: 2 | B26: 2 | C26: 1 | D26: 120000 | E26: Remscheid, krfr. Stadt | F26: 1053 | G26: 1536 | H26: 569 | I26: 1052 | J26: 484 | K26: 176 | L26: 308
A27: 2 | B27: 2 | C27: 1 | D27: 122000 | E27: Solingen, krfr. Stadt | F27: 1529 | G27: 2150 | H27: 878 | I27: 1499 | J27: 651 | K27: 255 | L27: 396
E28: Jugendamtstyp 2 | F28: 31335 | G28: 44175 | H28: 18043 | I28: 30883 | J28: 13292 | K28: 4716 | L28: 8576
A29: 3 | B29: 3 | C29: 2 | D29: 334000 | E29: Aachen, Kreis | F29: 714 | G29: 990 | H29: 412 | I29: 688 | J29: 302 | K29: 190 | L29: 112
A30: 3 | B30: 4 | C30: 2 | D30: 554000 | E30: Borken, Kreis | F30: 1226 | G30: 1655 | H30: 511 | I30: 940 | J30: 715 | K30: 372 | L30: 343
A31: 3 | B31: 4 | C31: 2 | D31: 558000 | E31: Coesfeld, Kreis | F31: 596 | G31: 772 | H31: 244 | I31: 420 | J31: 352 | K31: 205 | L31: 147
A32: 3 | B32: 4 | C32: 2 | D32: 358000 | E32: Düren, Kreis | F32: 1435 | G32: 1941 | H32: 793 | I32: 1299 | J32: 642 | K32: 339 | L32: 303
A33: 3 | B33: 4 | C33: 2 | D33: 366000 | E33: Euskirchen, Kreis | F33: 1232 | G33: 1567 | H33: 595 | I33: 930 | J33: 637 | K33: 316 | L33: 321
A34: 3 | B34: 4 | C34: 2 | D34: 754000 | E34: Gütersloh, Kreis | F34: 1643 | G34: 2368 | H34: 978 | I34: 1703 | J34: 665 | K34: 268 | L34: 397
A35: 3 | B35: 4 | C35: 2 | D35: 370000 | E35: Heinsberg, Kreis | F35: 459 | G35: 594 | H35: 281 | I35: 416 | J35: 178 | K35: 83 | L35: 95
A36: 3 | B36: 4 | C36: 2 | D36: 758000 | E36: Herford, Kreis | F36: 606 | G36: 826 | H36: 303 | I36: 523 | J36: 303 | K36: 131 | L36: 172
A37: 3 | B37: 4 | C37: 2 | D37: 958000 | E37: Hochsauerlandkreis | F37: 718 | G37: 1021 | H37: 340 | I37: 643 | J37: 378 | K37: 155 | L37: 223
A38: 3 | B38: 4 | C38: 2 | D38: 762000 | E38: Höxter, Kreis | F38: 1024 | G38: 1350 | H38: 519 | I38: 845 | J38: 505 | K38: 216 | L38: 289
A39: 3 | B39: 4 | C39: 2 | D39: 154000 | E39: Kleve, Kreis | F39: 909 | G39: 911 | H39: 327 | I39: 329 | J39: 582 | K39: 425 | L39: 157
A40: 3 | B40: 4 | C40: 2 | D40: 766000 | E40: Lippe, Kreis | F40: 815 | G40: 1083 | H40: 379 | I40: 647 | J40: 436 | K40: 218 | L40: 218
... A55: 3 | B55: 4 | C55: 2 | D55: 170000 | E55: Wesel, Kreis | F55: 1109 | G55: 1113 | H55: 557 | I55: 561 | J55: 552 | K55: 349 | L55: 203
...

Sheet Tab. 4 Inanspruchnahme
A1: Tabelle 4: Inanspruchnahme von Leistungen der Hilfen zur Erziehung (ohne Erziehungsberatung) nach Leistungssegmenten in den Jugendamtsbezirken Nordrhein-Westfalens; 2024 (Aufsummierung der am 31.12. eines Jahres andauernden und der innerhalb eines Jahres beendeten Hilfen; Angaben pro 10.000 der unter 21-jährigen Bevölkerung) (Jugendamtsbezirke sind innerhalb der Jugendamtstypen alphabetisch sortiert))
A3: Jugend-amtstyp [JAT] (2024) (1-10) | B3: Belastungs-klasse (2024) (1-4) | C3: Strukturtyp (2024) (1-4) | D3: KKZ | E3: Jugendamt | F3: HzE insg, ohne Beratung Zahl der Hilfen | G3: HzE insg, ohne Beratung Zahl der Kinder | H3: Ambulante Hilfen gem. §§ 27,2, 29-35 SGB VIII (Zahl der Hilfen) | I3: Ambulante Hilfen gem. §§ 27,2, 29-35 SGB VIII (Zahl der Kinder) | J3: Stationäre Hilfen gem. §§ 27,2, 33, 34 | K3: Vollzeit-pflege | L3: Heim-erziehung und stationäre Hilfen gem. § 27,2
A4: 1 | B4: 1 | C4: 1 | D4: 913000 | E4: Dortmund, krfr. Stadt | F4: 389.43716 | G4: 521.3499 | H4: 199.99673 | I4: 331.90946 | J4: 189.44043 | K4: 69.311468 | L4: 120.12897
A5: 1 | B5: 1 | C5: 1 | D5: 112000 | E5: Duisburg, krfr. Stadt | F5: 669.23994 | G5: 888.15635 | H5: 395.66487 | I5: 614.58128 | J5: 273.57507 | K5: 103.49459 | L5: 170.08049
A6: 1 | B6: 1 | C6: 1 | D6: 113000 | E6: Essen, krfr. Stadt | F6: / | G6: / | H6: / | I6: / | J6: / | K6: / | L6: /
A7: 1 | B7: 1 | C7: 1 | D7: 513000 | E7: Gelsenkirchen, krfr. Stadt | F7: 312.30823 | G7: 422.10539 | H7: 163.36888 | I7: 273.16604 | J7: 148.93935 | K7: 73.142819 | L7: 75.796527
A8: 1 | B8: 1 | C8: 1 | D8: 914000 | E8: Hagen, krfr. Stadt | F8: 391.14391 | G8: 399.754 | H8: 194.83395 | I8: 203.44403 | J8: 196.30996 | K8: 81.672817 | L8: 114.63715
A9: 1 | B9: 1 | C9: 1 | D9: 916000 | E9: Herne, krfr. Stadt | F9: 492.7381 | G9: 737.84695 | H9: 230.9316 | I9: 476.04045 | J9: 261.8065 | K9: 138.30692 | L9: 123.49957
A10: 1 | B10: 1 | C10: 1 | D10: 116000 | E10: Mönchengladbach, krfr. Stadt | F10: 534.032 | G10: 818.14297 | H10: 282.81026 | I10: 566.92123 | J10: 251.22173 | K10: 94.57978 | L10: 156.64195
A11: 1 | B11: 1 | C11: 1 | D11: 117000 | E11: Mülheim an der Ruhr, krfr. Stadt | F11: 387.67892 | G11: 546.10117 | H11: 243.36478 | I11: 401.78703 | J11: 144.31414 | K11: 43.206066 | L11: 101.10807
A12: 1 | B12: 1 | C12: 1 | D12: 119000 | E12: Oberhausen, krfr. Stadt | F12: 637.70642 | G12: 989.65818 | H12: 409.4325 | I12: 761.38425 | J12: 228.27393 | K12: 111.42783 | L12: 116.8461
A13: 1 | B13: 1 | C13: 1 | D13: 124000 | E13: Wuppertal, krfr. Stadt | F13: 484.08345 | G13: 498.19863 | H13: 279.61499 | I13: 293.73017 | J13: 204.46846 | K13: 61.43464 | L13: 143.03382
E14: Jugendamtstyp 1 | F14: 402.86115 | G14: 536.32552 | H14: 225.28081 | I14: 358.74519 | J14: 177.58034 | K14: 69.736421 | L14: 107.84391
A15: 2 | B15: 2 | C15: 1 | D15: 334002 | E15: Aachen, Stadt | F15: 449.63566 | G15: 669.3099 | H15: 284.18345 | I15: 503.85769 | J15: 165.45221 | K15: 48.006858 | L15: 117.44535
A16: 2 | B16: 2 | C16: 1 | D16: 711000 | E16: Bielefeld, krfr. Stadt | F16: 423.82959 | G16: 561.68064 | H16: 227.84327 | I16: 365.69432 | J16: 195.98632 | K16: 70.026572 | L16: 125.95975
A17: 2 | B17: 2 | C17: 1 | D17: 911000 | E17: Bochum, krfr. Stadt | F17: 371.81757 | G17: 595.27444 | H17: 195.52476 | I17: 418.98162 | J17: 176.29281 | K17: 68.074974 | L17: 108.21784
A18: 2 | B18: 2 | C18: 1 | D18: 314000 | E18: Bonn, krfr. Stadt | F18: 253.63158 | G18: 304.41964 | H18: 153.44479 | I18: 204.23285 | J18: 100.18679 | K18: 31.028574 | L18: 69.158215
A19: 2 | B19: 2 | C19: 1 | D19: 512000 | E19: Bottrop, krfr. Stadt | F19: 418.99811 | G19: 422.96339 | H19: 248.93158 | I19: 252.89686 | J19: 170.06653 | K19: 89.87972 | L19: 80.186809
A20: 2 | B20: 3 | C20: 1 | D20: 111000 | E20: Düsseldorf, krfr. Stadt | F20: 324.28733 | G20: 506.43573 | H20: 172.32151 | I20: 354.46992 | J20: 151.96582 | K20: 34.569591 | L20: 117.39623
A21: 2 | B21: 3 | C21: 1 | D21: 915000 | E21: Hamm, krfr. Stadt | F21: 652.36098 | G21: 928.79423 | H21: 392.33086 | I21: 668.76412 | J21: 260.03012 | K21: 107.56158 | L21: 152.46854
A22: 2 | B22: 2 | C22: 1 | D22: 315000 | E22: Köln, krfr. Stadt | F22: 368.79757 | G22: 531.6001 | H22: 232.36739 | I22: 395.16991 | J22: 136.43018 | K22: 45.943954 | L22: 90.486227
A23: 2 | B23: 2 | C23: 1 | D23: 114000 | E23: Krefeld, krfr. Stadt | F23: 465.1824 | G23: 572.34713 | H23: 226.79556 | I23: 333.96028 | J23: 238.38684 | K23: 109.35176 | L23: 129.03508
A24: 2 | B24: 2 | C24: 1 | D24: 316000 | E24: Leverkusen, krfr. Stadt | F24: 354.78087 | G24: 370.35948 | H24: 226.91867 | I24: 242.49728 | J24: 127.8622 | K24: 45.854031 | L24: 82.008171
A25: 2 | B25: 3 | C25: 1 | D25: 515000 | E25: Münster, krfr. Stadt | F25: 371.48851 | G25: 573.94805 | H25: 199.55994 | I25: 402.01948 | J25: 171.92857 | K25: 67.884494 | L25: 104.04407
A26: 2 | B26: 2 | C26: 1 | D26: 120000 | E26: Remscheid, krfr. Stadt | F26: 462.89784 | G26: 675.2242 | H26: 250.13188 | I26: 462.45824 | J26: 212.76596 | K26: 77.369439 | L26: 135.39652
A27: 2 | B27: 2 | C27: 1 | D27: 122000 | E27: Solingen, krfr. Stadt | F27: 463.26314 | G27: 651.41645 | H27: 266.0203 | I27: 454.17361 | J27: 197.24284 | K27: 77.261021 | L27: 119.98182
E28: Jugendamtstyp 2 | F28: 388.92468 | G28: 548.29257 | H28: 223.94664 | I28: 383.31453 | J28: 164.97804 | K28: 58.534188 | L28: 106.44385
A29: 3 | B29: 3 | C29: 2 | D29: 334000 | E29: Aachen, Kreis | F29: 527.13178 | G29: 730.89701 | H29: 304.17128 | I29: 507.93651 | J29: 222.9605 | K29: 140.27316 | L29: 82.687339
A30: 3 | B30: 4 | C30: 2 | D30: 554000 | E30: Borken, Kreis | F30: 325.70002 | G30: 439.66846 | H30: 135.75262 | I30: 249.72106 | J30: 189.9474 | K30: 98.82578 | L30: 91.121619
A31: 3 | B31: 4 | C31: 2 | D31: 558000 | E31: Coesfeld, Kreis | F31: 203.6632 | G31: 263.80536 | H31: 83.378896 | I31: 143.52105 | J31: 120.28431 | K31: 70.051941 | L31: 50.232367
A32: 3 | B32: 4 | C32: 2 | D32: 358000 | E32: Düren, Kreis | F32: 395.91668 | G32: 535.52214 | H32: 218.7888 | I32: 358.39426 | J32: 177.12788 | K32: 93.530142 | L32: 83.597738
A33: 3 | B33: 4 | C33: 2 | D33: 366000 | E33: Euskirchen, Kreis | F33: 306.20107 | G33: 389.46191 | H33: 147.8812 | I33: 231.14204 | J33: 158.31987 | K33: 78.538586 | L33: 79.781285
A34: 3 | B34: 4 | C34: 2 | D34: 754000 | E34: Gütersloh, Kreis | F34: 406.91483 | G34: 586.4725 | H34: 242.2171 | I34: 421.77477 | J34: 164.69772 | K34: 66.374421 | L34: 98.323303
A35: 3 | B35: 4 | C35: 2 | D35: 370000 | E35: Heinsberg, Kreis | F35: 222.73985 | G35: 288.25157 | H35: 136.36143 | I35: 201.87315 | J35: 86.378415 | K35: 40.277576 | L35: 46.10084
A36: 3 | B36: 4 | C36: 2 | D36: 758000 | E36: Herford, Kreis | F36: 300.69965 | G36: 409.86454 | H36: 150.34982 | I36: 259.51471 | J36: 150.34982 | K36: 65.002729 | L36: 85.347095
A37: 3 | B37: 4 | C37: 2 | D37: 958000 | E37: Hochsauerlandkreis | F37: 280.14046 | G37: 398.3613 | H37: 132.65704 | I37: 250.87788 | J37: 147.48342 | K37: 60.476005 | L37: 87.007413
A38: 3 | B38: 4 | C38: 2 | D38: 762000 | E38: Höxter, Kreis | F38: 374.98169 | G38: 494.36063 | H38: 190.0542 | I38: 309.43313 | J38: 184.92749 | K38: 79.0977 | L38: 105.82979
A39: 3 | B39: 4 | C39: 2 | D39: 154000 | E39: Kleve, Kreis | F39: 332.50421 | G39: 333.23579 | H39: 119.61372 | I39: 120.34531 | J39: 212.89048 | K39: 155.46126 | L39: 57.429219
A40: 3 | B40: 4 | C40: 2 | D40: 766000 | E40: Lippe, Kreis | F40: 269.13678 | G40: 357.6382 | H40: 125.15686 | I40: 213.65828 | J40: 143.97992 | K40: 71.989961 | L40: 71.989961
... A55: 3 | B55: 4 | C55: 2 | D55: 170000 | E55: Wesel, Kreis | F55: 478.1409 | G55: 479.86548 | H55: 240.14831 | I55: 241.8729 | J55: 237.99258 | K55: 150.46995 | L55: 87.522635
...

Sheet Tab.5 Alter Inanspruchnahme
A1: Tabelle 5: Inanspruchnahme von Leistungen der Hilfen zur Erziehung (ohne Erziehungsberatung) nach Altersgruppen und Leistungssegmenten in den Jugendamtsbezirken Nordrhein-Westfalens; 2024 (andauernde Hilfen am 31.12.; Angaben pro 10.000 der altersgleichen Bevölkerung) (Jugendamtsbezirke sind innerhalb der Jugendamtstypen alphabetisch sortiert))
A3: Jugend-amtstyp [JAT] (2024) (1-10) | B3: Belastungs-klasse (2024) (1-4) | C3: Strukturtyp (2024) (1-4) | D3: KKZ | E3: Jugendamt | F3: HzE insg. (ohne Beratung) Zahl der Kinder | L3: Ambulante Hilfen gem. §§ 27,2; 29-32, 35 SGB VIII (Anzahl der Kinder) | R3: Vollzeitpflege | X3: Heimerziehung und stationäre Hilfen gem. § 27,2
F4: 0 bis unter 6 J. | G4: 6 bis unter 10 J. | H4: 10 bis unter 14 Jahren | I4: 14 bis unter 18 Jahren | J4: 18 Jahre und älter1 | K4: insgesamt2 | L4: 0 bis unter 6 J. | M4: 6 bis unter 10 J. | N4: 10 bis unter 14 Jahren | O4: 14 bis unter 18 Jahren | P4: 18 Jahre und älter1 | Q4: insgesamt2 | R4: 0 bis unter 6 J. | S4: 6 bis unter 10 J. | T4: 10 bis unter 14 Jahren | U4: 14 bis unter 18 Jahren | V4: 18 Jahre und älter1 | W4: insgesamt2 | X4: 0 bis unter 6 J. | Y4: 6 bis unter 10 J. | Z4: 10 bis unter 14 Jahren | AA4: 14 bis unter 18 Jahren | AB4: 18 Jahre und älter1 | AC4: insgesamt2
A5: 1 | B5: 1 | C5: 1 | D5: 913000 | E5: Dortmund, krfr. Stadt | F5: 228.68477 | G5: 353.96019 | H5: 372.29092 | I5: 453.41371 | J5: 261.80281 | K5: 326.91773 | L5: 165.0964 | M5: 226.95095 | N5: 218.05611 | O5: 183.89901 | P5: 123.58393 | Q5: 184.28504 | R5: 54.545985 | S5: 69.95919 | T5: 74.458184 | U5: 76.442581 | V5: 18.429183 | W5: 59.90082 | X5: 9.0423825 | Y5: 57.050054 | Z5: 79.776625 | AA5: 193.07212 | AB5: 119.78969 | AC5: 82.73187
A6: 1 | B6: 1 | C6: 1 | D6: 112000 | E6: Duisburg, krfr. Stadt | F6: 418.31733 | G6: 662.51416 | H6: 727.71747 | I6: 782.25887 | J6: 438.89736 | K6: 595.79823 | L6: 320.62043 | M6: 503.49188 | N6: 520.81741 | O6: 475.31539 | P6: 179.75102 | Q6: 402.33285 | R6: 84.603505 | S6: 83.99396 | T6: 81.536972 | U6: 101.81782 | V6: 53.353659 | W6: 82.551489 | X6: 13.0934 | Y6: 75.028313 | Z6: 125.36309 | AA6: 205.12566 | AB6: 205.79268 | AC6: 110.91389
A7: 1 | B7: 1 | C7: 1 | D7: 113000 | E7: Essen, krfr. Stadt | F7: / | G7: / | H7: / | I7: / | J7: / | K7: / | L7: / | M7: / | N7: / | O7: / | P7: / | Q7: / | R7: / | S7: / | T7: / | U7: / | V7: / | W7: / | X7: / | Y7: / | Z7: / | AA7: / | AB7: / | AC7: /
A8: 1 | B8: 1 | C8: 1 | D8: 513000 | E8: Gelsenkirchen, krfr. Stadt | F8: 187.88542 | G8: 302.85284 | H8: 337.70253 | I8: 396.30354 | J8: 172.59115 | K8: 274.65875 | L8: 124.4885 | M8: 181.54438 | N8: 187.51138 | O8: 187.48889 | P8: 105.15487 | Q8: 156.23704 | R8: 54.175552 | S8: 92.027106 | T8: 84.653195 | U8: 77.305847 | V8: 12.572865 | W8: 65.51341 | X8: 9.2213705 | Y8: 29.281352 | Z8: 65.537957 | AA8: 131.5088 | AB8: 54.863413 | AC8: 52.908298
